Workbook

Sheet XDF
A1: ObjType | B1: UniqueId | C1: Name | D1: Description | E1: XSigned | F1: XLSBFirst | G1: XOffsetInt | H1: XOffsetHex | I1: XSizeInBits | J1: XAddrStep | K1: XUnits | L1: XOutputType | M1: XEquation | N1: XPrecision | O1: XRangeLow | P1: XRangeHigh | Q1: YSigned | R1: YLSBFirst | S1: YOffsetInt | T1: YOffsetHex | U1: YSizeInBits | V1: YAddrStep | W1: YUnits | X1: YOutputType | Y1: YEquation | Z1: YPrecision | AA1: YRangeLow | AB1: YRangeHigh | AC1: ZSigned | AD1: ZLSBFirst | AE1: ZOffsetInt | AF1: ZOffsetHex | AG1: ZSizeInBits | AH1: ZUnits | AI1: ZOutputType | AJ1: ZEquation | AK1: ZPrecision | AL1: ZRangeLow | AM1: ZRangeHigh | AN1: BitNumber | AO1: BitMask | AP1: RowCount | AQ1: ColCount | AR1: IndexCount
C2: A0 - AHISL | D2: Injector Slope - AHISL | AC2: 0 | AD2: 1 | AF2: =VLOOKUP(TRIM(C2),Addr!$A$1:$B$702,2,0) -> b44e | AG2: 16 | AH2: lb/hr | AI2: float | AJ2: x | AK2: 2
A3: =IF(COUNTIF(Scalars!$A$1:$A$2000,AF3),5) -> 5 | C3: ACHPTM | D3: Calibrated time since start to recognize high AC head pressure. | AC3: 0 | AD3: 1 | AF3: =VLOOKUP(TRIM(C3),Addr!$A$1:$B$702,2,0) -> b052 | AG3: =VLOOKUP(AF3,Scalars!$A$1:$C$1088,3,0) -> 8 | AI3: =IF(AG3=8,"int","integer") -> int | AJ3: X | AK3: 1
A4: =IF(COUNTIF(Scalars!$A$1:$A$2000,AF4),5) -> 5 | C4: ACMAP | D4: An adder to FN862(BP) when A/C is on. Should be based on observed differences between A/C on & A/C off idle MAP readings. | AC4: 0 | AD4: 1 | AF4: =VLOOKUP(TRIM(C4),Addr!$A$1:$B$702,2,0) -> b033 | AG4: =VLOOKUP(AF4,Scalars!$A$1:$C$1088,3,0) -> 8 | AI4: =IF(AG4=8,"int","integer") -> int | AJ4: X | AK4: 1
A5: =IF(COUNTIF(Scalars!$A$1:$A$2000,AF5),5) -> 5 | C5: ACTFMM | D5: FMEM default value for ACT. | AC5: 0 | AD5: 1 | AF5: =VLOOKUP(TRIM(C5),Addr!$A$1:$B$702,2,0) -> b950 | AG5: =VLOOKUP(AF5,Scalars!$A$1:$C$1088,3,0) -> 8 | AI5: =IF(AG5=8,"int","integer") -> int | AJ5: X | AK5: 1
A6: =IF(COUNTIF(Scalars!$A$1:$A$2000,AF6),5) -> 5 | C6: ACTMAX | D6: Maximum ACT (ACT Open), Counts. | AC6: 0 | AD6: 1 | AF6: =VLOOKUP(TRIM(C6),Addr!$A$1:$B$702,2,0) -> cbcc | AG6: =VLOOKUP(AF6,Scalars!$A$1:$C$1088,3,0) -> 16 | AI6: =IF(AG6=8,"int","integer") -> integer | AJ6: X | AK6: 1
A7: =IF(COUNTIF(Scalars!$A$1:$A$2000,AF7),5) -> 5 | C7: ACTMIN | D7: Minimum ACT (ACT Shorted), Counts. | AC7: 0 | AD7: 1 | AF7: =VLOOKUP(TRIM(C7),Addr!$A$1:$B$702,2,0) -> cbca | AG7: =VLOOKUP(AF7,Scalars!$A$1:$C$1088,3,0) -> 16 | AI7: =IF(AG7=8,"int","integer") -> integer | AJ7: X | AK7: 1
A8: =IF(COUNTIF(Scalars!$A$1:$A$2000,AF8),5) -> 5 | C8: ADAPTM | D8: Adaptive learning enable time delay (seconds). | AC8: 0 | AD8: 1 | AF8: =VLOOKUP(TRIM(C8),Addr!$A$1:$B$702,2,0) -> cb92 | AG8: =VLOOKUP(AF8,Scalars!$A$1:$C$1088,3,0) -> 16 | AI8: =IF(AG8=8,"int","integer") -> integer | AJ8: X | AK8: 1
A9: =IF(COUNTIF(Scalars!$A$1:$A$2000,AF9),5) -> 5 | C9: ADEFTR | D9: Transient fuel threshold to update adaptive fuel. | AC9: 0 | AD9: 1 | AF9: =VLOOKUP(TRIM(C9),Addr!$A$1:$B$702,2,0) -> cba0 | AG9: =VLOOKUP(AF9,Scalars!$A$1:$C$1088,3,0) -> 16 | AI9: =IF(AG9=8,"int","integer") -> integer | AJ9: X | AK9: 1
A10: =IF(COUNTIF(Scalars!$A$1:$A$2000,AF10),5) -> 5 | C10: ADEGCT | D10: Number of EGO switches required to permit Adaptive Learning within the cell boundaries. | AC10: 0 | AD10: 1 | AF10: =VLOOKUP(TRIM(C10),Addr!$A$1:$B$702,2,0) -> cba2 | AG10: =VLOOKUP(AF10,Scalars!$A$1:$C$1088,3,0) -> 8 | AI10: =IF(AG10=8,"int","integer") -> int | AJ10: X | AK10: 1
A11: =IF(COUNTIF(Scalars!$A$1:$A$2000,AF11),5) -> 5 | C11: AEDLMP | D11: Minimum change in MAP to indicate manifold filling (in. Hg) | AC11: 0 | AD11: 1 | AF11: =VLOOKUP(TRIM(C11),Addr!$A$1:$B$702,2,0) -> b970 | AG11: =VLOOKUP(AF11,Scalars!$A$1:$C$1088,3,0) -> 8 | AI11: =IF(AG11=8,"int","integer") -> int | AJ11: X | AK11: 1
A12: =IF(COUNTIF(Scalars!$A$1:$A$2000,AF12),5) -> 5 | C12: AELIM | D12: Maximum acceleration enrichment fuel flow to allow adaptive learning, lb/hr. | AC12: 0 | AD12: 1 | AF12: =VLOOKUP(TRIM(C12),Addr!$A$1:$B$702,2,0) -> cb9f | AG12: =VLOOKUP(AF12,Scalars!$A$1:$C$1088,3,0) -> 8 | AI12: =IF(AG12=8,"int","integer") -> int | AJ12: X | AK12: 1
A13: =IF(COUNTIF(Scalars!$A$1:$A$2000,AF13),5) -> 5 | C13: AEM | D13: ECT/ACT weighting factor, unitless. | AC13: 0 | AD13: 1 | AF13: =VLOOKUP(TRIM(C13),Addr!$A$1:$B$702,2,0) -> cb68 | AG13: =VLOOKUP(AF13,Scalars!$A$1:$C$1088,3,0) -> 16 | AI13: =IF(AG13=8,"int","integer") -> integer | AJ13: X | AK13: 1
A14: =IF(COUNTIF(Scalars!$A$1:$A$2000,AF14),5) -> 5 | C14: AETAR | D14: TAR above which AE may be enabled. | AC14: 0 | AD14: 1 | AF14: =VLOOKUP(TRIM(C14),Addr!$A$1:$B$702,2,0) -> cb70 | AG14: =VLOOKUP(AF14,Scalars!$A$1:$C$1088,3,0) -> 16 | AI14: =IF(AG14=8,"int","integer") -> integer | AJ14: X | AK14: 1
... A48: =IF(COUNTIF(Scalars!$A$1:$A$2000,AF48),5) -> 5 | C48: CRKCTR_RESET | D48: CRKPIP_CTR reset switch; 1 -> reset CRKPIP_CTR upon stall. | AC48: 0 | AD48: 1 | AF48: =VLOOKUP(TRIM(C48),Addr!$A$1:$B$702,2,0) -> b48c | AG48: =VLOOKUP(AF48,Scalars!$A$1:$C$1088,3,0) -> 8 | AI48: =IF(AG48=8,"int","integer") -> int | AJ48: X | AK48: 1
A49: =IF(COUNTIF(Scalars!$A$1:$A$2000,AF49),5) -> 5 | C49: CRKPIP | D49: Number of PIPs between injector firing. | AC49: 0 | AD49: 1 | AF49: =VLOOKUP(C49,Addr!$A$1:$B$702,2,0) -> b48b | AG49: =VLOOKUP(AF49,Scalars!$A$1:$C$1088,3,0) -> 8 | AH49: PIPs | AI49: =IF(AG49=8,"int","integer") -> int | AJ49: X | AK49: 1
A50: =IF(COUNTIF(Scalars!$A$1:$A$2000,AF50),5) -> 5 | C50: CRKPIPCNT2 | D50: CRKPIP_CTR reset value for UNDERSPEED to CRANK transitions, sec. | AC50: 0 | AD50: 1 | AF50: =VLOOKUP(TRIM(C50),Addr!$A$1:$B$702,2,0) -> cb7d | AG50: =VLOOKUP(AF50,Scalars!$A$1:$C$1088,3,0) -> 8 | AI50: =IF(AG50=8,"int","integer") -> int | AJ50: X | AK50: 1
A51: =IF(COUNTIF(Scalars!$A$1:$A$2000,AF51),5) -> 5 | C51: CRKTIM | D51: Time in run mode to clear 100% cranking duty cycle. | AC51: 0 | AD51: 1 | AF51: =VLOOKUP(TRIM(C51),Addr!$A$1:$B$702,2,0) -> b03e | AG51: =VLOOKUP(AF51,Scalars!$A$1:$C$1088,3,0) -> 8 | AI51: =IF(AG51=8,"int","integer") -> int | AJ51: X | AK51: 1
A52: =IF(COUNTIF(Scalars!$A$1:$A$2000,AF52),5) -> 5 | C52: CRKTM1 | D52: Time in RUN or UNDERSPEED below which CRKPIP_CTR is reset to CRKPIPCNT2, sec. | AC52: 0 | AD52: 1 | AF52: =VLOOKUP(TRIM(C52),Addr!$A$1:$B$702,2,0) -> cb7c | AG52: =VLOOKUP(AF52,Scalars!$A$1:$C$1088,3,0) -> 8 | AI52: =IF(AG52=8,"int","integer") -> int | AJ52: X | AK52: 1
A53: =IF(COUNTIF(Scalars!$A$1:$A$2000,AF53),5) -> 5 | C53: CRKTMR_INC | D53: Calibration switch which determines whether CRKPIP_CTR counts when the engine state is out of CRANK. | AC53: 0 | AD53: 1 | AF53: =VLOOKUP(TRIM(C53),Addr!$A$1:$B$702,2,0) -> cb7e | AG53: =VLOOKUP(AF53,Scalars!$A$1:$C$1088,3,0) -> 8 | AI53: =IF(AG53=8,"int","integer") -> int | AJ53: X | AK53: 1
A54: =IF(COUNTIF(Scalars!$A$1:$A$2000,AF54),5) -> 5 | C54: CRVDLY | D54: Time to delay scheduled lockups after STEADYSRLK1 throttle achieved, sec. | AC54: 0 | AD54: 1 | AF54: =VLOOKUP(TRIM(C54),Addr!$A$1:$B$702,2,0) -> c1ec | AG54: =VLOOKUP(AF54,Scalars!$A$1:$C$1088,3,0) -> 8 | AI54: =IF(AG54=8,"int","integer") -> int | AJ54: X | AK54: 1
A55: =IF(COUNTIF(Scalars!$A$1:$A$2000,AF55),5) -> 5 | C55: CS_MAX_TIME | D55: Maximum time allowed in cold start shift schedules. | AC55: 0 | AD55: 1 | AF55: =VLOOKUP(TRIM(C55),Addr!$A$1:$B$702,2,0) -> c176 | AG55: =VLOOKUP(AF55,Scalars!$A$1:$C$1088,3,0) -> 16 | AI55: =IF(AG55=8,"int","integer") -> integer | AJ55: X | AK55: 1
A56: =IF(COUNTIF(Scalars!$A$1:$A$2000,AF56),5) -> 5 | C56: CS_MUL | D56: Cold Start Multiplier. | AC56: 0 | AD56: 1 | AF56: =VLOOKUP(TRIM(C56),Addr!$A$1:$B$702,2,0) -> c178 | AG56: =VLOOKUP(AF56,Scalars!$A$1:$C$1088,3,0) -> 8 | AI56: =IF(AG56=8,"int","integer") -> int | AJ56: X | AK56: 1
A57: =IF(COUNTIF(Scalars!$A$1:$A$2000,AF57),5) -> 5 | C57: CSHIGH | D57: Maximum TCSTRT for cold start spark, deg F. | AC57: 0 | AD57: 1 | AF57: =VLOOKUP(TRIM(C57),Addr!$A$1:$B$702,2,0) -> bb7c | AG57: =VLOOKUP(AF57,Scalars!$A$1:$C$1088,3,0) -> 8 | AI57: =IF(AG57=8,"int","integer") -> int | AJ57: X | AK57: 1
A58: =IF(COUNTIF(Scalars!$A$1:$A$2000,AF58),5) -> 5 | C58: CSLOW | D58: Minimum TCSTRT for cold start spark, deg F. | AC58: 0 | AD58: 1 | AF58: =VLOOKUP(TRIM(C58),Addr!$A$1:$B$702,2,0) -> bb7d | AG58: =VLOOKUP(AF58,Scalars!$A$1:$C$1088,3,0) -> 8 | AI58: =IF(AG58=8,"int","integer") -> int | AJ58: X | AK58: 1
A59: =IF(COUNTIF(Scalars!$A$1:$A$2000,AF59),5) -> 5 | C59: CSSMAF | D59: Cold start spark DESMAF multiplier. Used to compensate for increased airflow requirement due to retarded spark. | AC59: 0 | AD59: 1 | AF59: =VLOOKUP(TRIM(C59),Addr!$A$1:$B$702,2,0) -> b041 | AG59: =VLOOKUP(AF59,Scalars!$A$1:$C$1088,3,0) -> 8 | AI59: =IF(AG59=8,"int","integer") -> int | AJ59: X | AK59: 1
A60: =IF(COUNTIF(Scalars!$A$1:$A$2000,AF60),5) -> 5 | C60: CSSPRK | D60: Cold start spark multiplier, unitless. | AC60: 0 | AD60: 1 | AF60: =VLOOKUP(TRIM(C60),Addr!$A$1:$B$702,2,0) -> bb7e | AG60: =VLOOKUP(AF60,Scalars!$A$1:$C$1088,3,0) -> 8 | AI60: =IF(AG60=8,"int","integer") -> int | AJ60: X | AK60: 1
A61: =IF(COUNTIF(Scalars!$A$1:$A$2000,AF61),5) -> 5 | C61: CSSTIM | D61: Maximum time to use cold start spark, sec. | AC61: 0 | AD61: 1 | AF61: =VLOOKUP(TRIM(C61),Addr!$A$1:$B$702,2,0) -> bb7f | AG61: =VLOOKUP(AF61,Scalars!$A$1:$C$1088,3,0) -> 8 | AI61: =IF(AG61=8,"int","integer") -> int | AJ61: X | AK61: 1
... A191: =IF(COUNTIF(Scalars!$A$1:$A$2000,AF191),5) -> 5 | C191: IDRPMH | D191: Hysteresis for IDLRPM, RPM. | AC191: 0 | AD191: 1 | AF191: =VLOOKUP(TRIM(C191),Addr!$A$1:$B$702,2,0) -> b4a8 | AG191: =VLOOKUP(AF191,Scalars!$A$1:$C$1088,3,0) -> 16 | AI191: =IF(AG191=8,"int","integer") -> integer | AJ191: X | AK191: 1
A192: =IF(COUNTIF(Scalars!$A$1:$A$2000,AF192),5) -> 5 | C192: IGN_TYPE | D192: Inidcator of ignition type (0 = TFI, 1 = TFI_ICCD, 2 = LDR-DIS). | AC192: 0 | AD192: 1 | AF192: =VLOOKUP(C192,Addr!$A$1:$B$702,2,0) -> cb8a | AG192: =VLOOKUP(AF192,Scalars!$A$1:$C$1088,3,0) -> 8 | AH192: EGR Type | AI192: =IF(AG192=8,"int","integer") -> int | AJ192: X | AK192: 1
A193: =IF(COUNTIF(Scalars!$A$1:$A$2000,AF193),5) -> 5 | C193: IGN_TYPE | D193: Indicator of ignition type (0 = TFI, 1 = TFI_ICCD, 2 = LDR-DIS). | AC193: 0 | AD193: 1 | AF193: =VLOOKUP(TRIM(C193),Addr!$A$1:$B$702,2,0) -> cb8a | AG193: =VLOOKUP(AF193,Scalars!$A$1:$C$1088,3,0) -> 8 | AI193: =IF(AG193=8,"int","integer") -> int | AJ193: X | AK193: 1
A194: =IF(COUNTIF(Scalars!$A$1:$A$2000,AF194),5) -> 5 | C194: IGN_TYPE | D194: Indicator of ignition type (0 = TFI, 1 = TFI-ICCD, 2 = LDR-DIS-DP, 3 = LDR-DIS, and 4 = HDR-DIS). | AC194: 0 | AD194: 1 | AF194: =VLOOKUP(TRIM(C194),Addr!$A$1:$B$702,2,0) -> cb8a | AG194: =VLOOKUP(AF194,Scalars!$A$1:$C$1088,3,0) -> 8 | AI194: =IF(AG194=8,"int","integer") -> int | AJ194: X | AK194: 1
A195: =IF(COUNTIF(Scalars!$A$1:$A$2000,AF195),5) -> 5 | C195: INJOUT | D195: Number oof injectors fired by each output port. | AC195: 0 | AD195: 1 | AF195: =VLOOKUP(TRIM(C195),Addr!$A$1:$B$702,2,0) -> b48d | AG195: =VLOOKUP(AF195,Scalars!$A$1:$C$1088,3,0) -> 8 | AI195: =IF(AG195=8,"int","integer") -> int | AJ195: X | AK195: 1
A196: =IF(COUNTIF(Scalars!$A$1:$A$2000,AF196),5) -> 5 | C196: INJOUT | D196: Number of injectors fired by each output port. | AC196: 0 | AD196: 1 | AF196: =VLOOKUP(TRIM(C196),Addr!$A$1:$B$702,2,0) -> b48d | AG196: =VLOOKUP(AF196,Scalars!$A$1:$C$1088,3,0) -> 8 | AI196: =IF(AG196=8,"int","integer") -> int | AJ196: X | AK196: 1
A197: =IF(COUNTIF(Scalars!$A$1:$A$2000,AF197),5) -> 5 | C197: IPSIDLY | D197: Time delay to disable IPSIBR Update, sec. | AC197: 0 | AD197: 1 | AF197: =VLOOKUP(TRIM(C197),Addr!$A$1:$B$702,2,0) -> b444 | AG197: =VLOOKUP(AF197,Scalars!$A$1:$C$1088,3,0) -> 8 | AI197: =IF(AG197=8,"int","integer") -> int | AJ197: X | AK197: 1
A198: =IF(COUNTIF(Scalars!$A$1:$A$2000,AF198),5) -> 5 | C198: ISCLPD | D198: A clip on the maximum desired speed that can be requested with vehicle in drive. Usually the GPAS defined speed allowed at 0.2 miles on a cold start. ..Typical value - 1100 RPM. | AC198: 0 | AD198: 1 | AF198: =VLOOKUP(TRIM(C198),Addr!$A$1:$B$702,2,0) -> b050 | AG198: =VLOOKUP(AF198,Scalars!$A$1:$C$1088,3,0) -> 16 | AI198: =IF(AG198=8,"int","integer") -> integer | AJ198: X | AK198: 1
A199: =IF(COUNTIF(Scalars!$A$1:$A$2000,AF199),5) -> 5 | C199: ISCMOD_MAX | D199: Maximum clip on ISCMOD. Limits the maximum rich excursion that will result from the idle fuel modulation strategy. | AC199: 0 | AD199: 1 | AF199: =VLOOKUP(TRIM(C199),Addr!$A$1:$B$702,2,0) -> b00e | AG199: =VLOOKUP(AF199,Scalars!$A$1:$C$1088,3,0) -> 16 | AI199: =IF(AG199=8,"int","integer") -> integer | AJ199: X | AK199: 1
A200: =IF(COUNTIF(Scalars!$A$1:$A$2000,AF200),5) -> 5 | C200: ISCMOD_MIN | D200: Minimum clip on ISCMOD. Limits the maximum lean excursion that will result from the idle fuel modulation strategy. | AC200: 0 | AD200: 1 | AF200: =VLOOKUP(TRIM(C200),Addr!$A$1:$B$702,2,0) -> b010 | AG200: =VLOOKUP(AF200,Scalars!$A$1:$C$1088,3,0) -> 16 | AI200: =IF(AG200=8,"int","integer") -> integer | AJ200: X | AK200: 1
A201: =IF(COUNTIF(Scalars!$A$1:$A$2000,AF201),5) -> 5 | C201: ISCMOD_RPM | D201: Incremental adder to DSDRPM; total defines an engine speed below which idle fuel modulation can occur. Should be kept to a minimum to avoid unnecessary activation of the fuel modulation routine. | AC201: 0 | AD201: 1 | AF201: =VLOOKUP(TRIM(C201),Addr!$A$1:$B$702,2,0) -> b018 | AG201: =VLOOKUP(AF201,Scalars!$A$1:$C$1088,3,0) -> 8 | AI201: =IF(AG201=8,"int","integer") -> int | AJ201: X | AK201: 1
A202: =IF(COUNTIF(Scalars!$A$1:$A$2000,AF202),5) -> 5 | C202: ISCTM | D202: Time interval over which the rate of change in engine speed is evaluated. Value should be small enough to avoid prolonged speed hang-ups if the ISC system were locked out of C/L speed control but not too short such that the rate of speed change check becomes meaningless. | AC202: 0 | AD202: 1 | AF202: =VLOOKUP(TRIM(C202),Addr!$A$1:$B$702,2,0) -> b032 | AG202: =VLOOKUP(AF202,Scalars!$A$1:$C$1088,3,0) -> 8 | AI202: =IF(AG202=8,"int","integer") -> int | AJ202: X | AK202: 1
A203: =IF(COUNTIF(Scalars!$A$1:$A$2000,AF203),5) -> 5 | C203: ISCTM | D203: Pacing to evaluate rate of change of engine speed. | AC203: 0 | AD203: 1 | AF203: =VLOOKUP(TRIM(C203),Addr!$A$1:$B$702,2,0) -> b032 | AG203: =VLOOKUP(AF203,Scalars!$A$1:$C$1088,3,0) -> 8 | AI203: =IF(AG203=8,"int","integer") -> int | AJ203: X | AK203: 1
A204: =IF(COUNTIF(Scalars!$A$1:$A$2000,AF204),5) -> 5 | C204: ITHBMA | D204: Throttle body idle mass air flow with throttle plate at idle screw stop and 0% ISC duty cycle. This is any airflow which does not go through the bypass air solenoid, i.e. throttle plate, PCV system, intake leakage, etc. | AC204: 0 | AD204: 1 | AF204: =VLOOKUP(TRIM(C204),Addr!$A$1:$B$702,2,0) -> b020 | AG204: =VLOOKUP(AF204,Scalars!$A$1:$C$1088,3,0) -> 16 | AI204: =IF(AG204=8,"int","integer") -> integer | AJ204: X | AK204: 1
... A277: =IF(COUNTIF(Scalars!$A$1:$A$2000,AF277),5) -> 5 | C277: MUSLP | D277: Torque converter coefficient of friction temperature compensation; slope. | AC277: 0 | AD277: 1 | AF277: =VLOOKUP(TRIM(C277),Addr!$A$1:$B$702,2,0) -> c100 | AG277: =VLOOKUP(AF277,Scalars!$A$1:$C$1088,3,0) -> 16 | AI277: =IF(AG277=8,"int","integer") -> integer | AJ277: X | AK277: 1
A278: =IF(COUNTIF(Scalars!$A$1:$A$2000,AF278),5) -> 5 | C278: NCNT | D278: Minimum number of PIPs necessary to exit CRANK Mode. | AC278: 0 | AD278: 1 | AF278: =VLOOKUP(TRIM(C278),Addr!$A$1:$B$702,2,0) -> cb72 | AG278: =VLOOKUP(AF278,Scalars!$A$1:$C$1088,3,0) -> 8 | AH278: PIPs | AI278: =IF(AG278=8,"int","integer") -> int | AJ278: X | AK278: 1
A279: =IF(COUNTIF(Scalars!$A$1:$A$2000,AF279),5) -> 5 | C279: NDDELT | D279: Time before N/D, D/N switch registers. | AC279: 0 | AD279: 1 | AF279: =VLOOKUP(TRIM(C279),Addr!$A$1:$B$702,2,0) -> b058 | AG279: =VLOOKUP(AF279,Scalars!$A$1:$C$1088,3,0) -> 8 | AI279: =IF(AG279=8,"int","integer") -> int | AJ279: X | AK279: 1
A280: =IF(COUNTIF(Scalars!$A$1:$A$2000,AF280),5) -> 5 | C280: NDIF | D280: The deviation in engine speed allowed over the ISCTM specified time interval. Values too small could lock the ISC system out of C/L speed control indefinitely. Values too large invalidate the check. | AC280: 0 | AD280: 1 | AF280: =VLOOKUP(TRIM(C280),Addr!$A$1:$B$702,2,0) -> b02c | AG280: =VLOOKUP(AF280,Scalars!$A$1:$C$1088,3,0) -> 16 | AI280: =IF(AG280=8,"int","integer") -> integer | AJ280: X | AK280: 1
A281: =IF(COUNTIF(Scalars!$A$1:$A$2000,AF281),5) -> 5 | C281: NDIF | D281: Time dependent RPM limit to differentiate decel from idle. | AC281: 0 | AD281: 1 | AF281: =VLOOKUP(TRIM(C281),Addr!$A$1:$B$702,2,0) -> b02c | AG281: =VLOOKUP(AF281,Scalars!$A$1:$C$1088,3,0) -> 16 | AI281: =IF(AG281=8,"int","integer") -> integer | AJ281: X | AK281: 1
A282: =IF(COUNTIF(Scalars!$A$1:$A$2000,AF282),5) -> 5 | C282: NE_OTEMP_MAX | D282: Engine speed above which EPC pressure is raised for tranmission overtemperature. | AC282: 0 | AD282: 1 | AF282: =VLOOKUP(TRIM(C282),Addr!$A$1:$B$702,2,0) -> c0ba | AG282: =VLOOKUP(AF282,Scalars!$A$1:$C$1088,3,0) -> 16 | AI282: =IF(AG282=8,"int","integer") -> integer | AJ282: X | AK282: 1
A283: =IF(COUNTIF(Scalars!$A$1:$A$2000,AF283),5) -> 5 | C283: NE_OTEMP_MIN | D283: Engine speed below which EPC returns to normal while tranmission is overtemperature. | AC283: 0 | AD283: 1 | AF283: =VLOOKUP(TRIM(C283),Addr!$A$1:$B$702,2,0) -> c0b8 | AG283: =VLOOKUP(AF283,Scalars!$A$1:$C$1088,3,0) -> 16 | AI283: =IF(AG283=8,"int","integer") -> integer | AJ283: X | AK283: 1
A284: =IF(COUNTIF(Scalars!$A$1:$A$2000,AF284),5) -> 5 | C284: NE12A | D284: WOT RPM 1 - 2 shift point, altitude. | AC284: 0 | AD284: 1 | AF284: =VLOOKUP(TRIM(C284),Addr!$A$1:$B$702,2,0) -> c182 | AG284: =VLOOKUP(AF284,Scalars!$A$1:$C$1088,3,0) -> 16 | AI284: =IF(AG284=8,"int","integer") -> integer | AJ284: X | AK284: 1
A285: =IF(COUNTIF(Scalars!$A$1:$A$2000,AF285),5) -> 5 | C285: NE12S | D285: WOT RPM 1 - 2 shift point, sea level. | AC285: 0 | AD285: 1 | AF285: =VLOOKUP(TRIM(C285),Addr!$A$1:$B$702,2,0) -> c184 | AG285: =VLOOKUP(AF285,Scalars!$A$1:$C$1088,3,0) -> 16 | AI285: =IF(AG285=8,"int","integer") -> integer | AJ285: X | AK285: 1
A286: =IF(COUNTIF(Scalars!$A$1:$A$2000,AF286),5) -> 5 | C286: NE23A | D286: WOT RPM 2 - 3 shift point, altitude. | AC286: 0 | AD286: 1 | AF286: =VLOOKUP(TRIM(C286),Addr!$A$1:$B$702,2,0) -> c186 | AG286: =VLOOKUP(AF286,Scalars!$A$1:$C$1088,3,0) -> 16 | AI286: =IF(AG286=8,"int","integer") -> integer | AJ286: X | AK286: 1
A287: =IF(COUNTIF(Scalars!$A$1:$A$2000,AF287),5) -> 5 | C287: NE23S | D287: WOT RPM 2 - 3 shift point, sea level. | AC287: 0 | AD287: 1 | AF287: =VLOOKUP(TRIM(C287),Addr!$A$1:$B$702,2,0) -> c188 | AG287: =VLOOKUP(AF287,Scalars!$A$1:$C$1088,3,0) -> 16 | AI287: =IF(AG287=8,"int","integer") -> integer | AJ287: X | AK287: 1
A288: =IF(COUNTIF(Scalars!$A$1:$A$2000,AF288),5) -> 5 | C288: NELK_FM | D288: Engine Speed to lock converter when TP sensor has failed, for Failure Mode Management, RPM. | AC288: 0 | AD288: 1 | AF288: =VLOOKUP(TRIM(C288),Addr!$A$1:$B$702,2,0) -> c0be | AG288: =VLOOKUP(AF288,Scalars!$A$1:$C$1088,3,0) -> 16 | AI288: =IF(AG288=8,"int","integer") -> integer | AJ288: X | AK288: 1
A289: =IF(COUNTIF(Scalars!$A$1:$A$2000,AF289),5) -> 5 | C289: NELKWH | D289: Hysteresis for NELKWOd, RPM. | AC289: 0 | AD289: 1 | AF289: =VLOOKUP(TRIM(C289),Addr!$A$1:$B$702,2,0) -> c1f2 | AG289: =VLOOKUP(AF289,Scalars!$A$1:$C$1088,3,0) -> 16 | AI289: =IF(AG289=8,"int","integer") -> integer | AJ289: X | AK289: 1
A290: =IF(COUNTIF(Scalars!$A$1:$A$2000,AF290),5) -> 5 | C290: NELKWO | D290: Minimum RPM for converter clutch WOT lockup, RPM. | AC290: 0 | AD290: 1 | AF290: =VLOOKUP(TRIM(C290),Addr!$A$1:$B$702,2,0) -> c1f4 | AG290: =VLOOKUP(AF290,Scalars!$A$1:$C$1088,3,0) -> 16 | AI290: =IF(AG290=8,"int","integer") -> integer | AJ290: X | AK290: 1
... A299: =IF(COUNTIF(Scalars!$A$1:$A$2000,AF299),5) -> 5 | C299: NOVCNT | D299: Minimum number of good NOV samples to update KAM. | AC299: 0 | AD299: 1 | AF299: =VLOOKUP(TRIM(C299),Addr!$A$1:$B$702,2,0) -> c1d4 | AG299: =VLOOKUP(AF299,Scalars!$A$1:$C$1088,3,0) -> 8 | AI299: =IF(AG299=8,"int","integer") -> int | AJ299: X | AK299: 1
A300: =IF(COUNTIF(Scalars!$A$1:$A$2000,AF300),5) -> 5 | C300: NRUN | D300: Minimum Engine Speed to exit CRANK Mode. | AC300: 0 | AD300: 1 | AF300: =VLOOKUP(TRIM(C300),Addr!$A$1:$B$702,2,0) -> cb78 | AG300: =VLOOKUP(AF300,Scalars!$A$1:$C$1088,3,0) -> 16 | AH300: RPM | AI300: =IF(AG300=8,"int","integer") -> integer | AJ300: X | AK300: 1
A301: =IF(COUNTIF(Scalars!$A$1:$A$2000,AF301),5) -> 5 | C301: NRUN | D301: Minimum engine speed to exit crank mode. | AC301: 0 | AD301: 1 | AF301: =VLOOKUP(TRIM(C301),Addr!$A$1:$B$702,2,0) -> cb78 | AG301: =VLOOKUP(AF301,Scalars!$A$1:$C$1088,3,0) -> 16 | AI301: =IF(AG301=8,"int","integer") -> integer | AJ301: X | AK301: 1
A302: =IF(COUNTIF(Scalars!$A$1:$A$2000,AF302),5) -> 5 | C302: NSTALL | D302: Engine Stall speed to re-enter CRANK Mode. | AC302: 0 | AD302: 1 | AF302: =VLOOKUP(TRIM(C302),Addr!$A$1:$B$702,2,0) -> cb7a | AG302: =VLOOKUP(AF302,Scalars!$A$1:$C$1088,3,0) -> 16 | AH302: RPM | AI302: =IF(AG302=8,"int","integer") -> integer | AJ302: X | AK302: 1
A303: =IF(COUNTIF(Scalars!$A$1:$A$2000,AF303),5) -> 5 | C303: NUBASE | D303: Base desired engine idle speed in neutral, RPM. | AC303: 0 | AD303: 1 | AF303: =VLOOKUP(TRIM(C303),Addr!$A$1:$B$702,2,0) -> b042 | AG303: =VLOOKUP(AF303,Scalars!$A$1:$C$1088,3,0) -> 16 | AI303: =IF(AG303=8,"int","integer") -> integer | AJ303: X | AK303: 1
A304: =IF(COUNTIF(Scalars!$A$1:$A$2000,AF304),5) -> 5 | C304: NUBASE | D304: Base desired engine speed in neutral. | AC304: 0 | AD304: 1 | AF304: =VLOOKUP(TRIM(C304),Addr!$A$1:$B$702,2,0) -> b042 | AG304: =VLOOKUP(AF304,Scalars!$A$1:$C$1088,3,0) -> 16 | AI304: =IF(AG304=8,"int","integer") -> integer | AJ304: X | AK304: 1
A305: =IF(COUNTIF(Scalars!$A$1:$A$2000,AF305),5) -> 5 | C305: NUBASE_ALT | D305: Alternative Cal NUBASE. | AC305: 0 | AD305: 1 | AF305: =VLOOKUP(TRIM(C305),Addr!$A$1:$B$702,2,0) -> b918 | AG305: =VLOOKUP(AF305,Scalars!$A$1:$C$1088,3,0) -> 8 | AI305: =IF(AG305=8,"int","integer") -> int | AJ305: X | AK305: 1
A306: =IF(COUNTIF(Scalars!$A$1:$A$2000,AF306),5) -> 5 | C306: NUMOUT | D306: Number of injector output ports, unitless. | AC306: 0 | AD306: 1 | AF306: =VLOOKUP(TRIM(C306),Addr!$A$1:$B$702,2,0) -> b48e | AG306: =VLOOKUP(AF306,Scalars!$A$1:$C$1088,3,0) -> 8 | AI306: =IF(AG306=8,"int","integer") -> int | AJ306: X | AK306: 1
A307: =IF(COUNTIF(Scalars!$A$1:$A$2000,AF307),5) -> 5 | C307: NUMOUT | D307: Number of injector output ports. | AC307: 0 | AD307: 1 | AF307: =VLOOKUP(TRIM(C307),Addr!$A$1:$B$702,2,0) -> b48e | AG307: =VLOOKUP(AF307,Scalars!$A$1:$C$1088,3,0) -> 8 | AI307: =IF(AG307=8,"int","integer") -> int | AJ307: X | AK307: 1
A308: =IF(COUNTIF(Scalars!$A$1:$A$2000,AF308),5) -> 5 | C308: NVBASE | D308: Base N/V. | AC308: 0 | AD308: 1 | AF308: =VLOOKUP(TRIM(C308),Addr!$A$1:$B$702,2,0) -> c194 | AG308: =VLOOKUP(AF308,Scalars!$A$1:$C$1088,3,0) -> 8 | AI308: =IF(AG308=8,"int","integer") -> int | AJ308: X | AK308: 1
A309: =IF(COUNTIF(Scalars!$A$1:$A$2000,AF309),5) -> 5 | C309: O_8500_SW | D309: Calibration switch to select vehicle speed or transmission gear for Fuel Economy Mode determination. "0" selects vehicle speed; "1" selects transmission gear. Set to "1" only for over 8500 GVW aplications with E4OD transmission. | AC309: 0 | AD309: 1 | AF309: =VLOOKUP(TRIM(C309),Addr!$A$1:$B$702,2,0) -> b471 | AG309: =VLOOKUP(AF309,Scalars!$A$1:$C$1088,3,0) -> 8 | AI309: =IF(AG309=8,"int","integer") -> int | AJ309: X | AK309: 1
A310: =IF(COUNTIF(Scalars!$A$1:$A$2000,AF310),5) -> 5 | C310: ODHI | D310: MLPS overdrive position band high limit. | AC310: 0 | AD310: 1 | AF310: =VLOOKUP(TRIM(C310),Addr!$A$1:$B$702,2,0) -> c1b2 | AG310: =VLOOKUP(AF310,Scalars!$A$1:$C$1088,3,0) -> 16 | AI310: =IF(AG310=8,"int","integer") -> integer | AJ310: X | AK310: 1
A311: =IF(COUNTIF(Scalars!$A$1:$A$2000,AF311),5) -> 5 | C311: ODLO | D311: MLPS overdrive position band low limit. | AC311: 0 | AD311: 1 | AF311: =VLOOKUP(TRIM(C311),Addr!$A$1:$B$702,2,0) -> c1b0 | AG311: =VLOOKUP(AF311,Scalars!$A$1:$C$1088,3,0) -> 16 | AI311: =IF(AG311=8,"int","integer") -> integer | AJ311: X | AK311: 1
A312: =IF(COUNTIF(Scalars!$A$1:$A$2000,AF312),5) -> 5 | C312: OFM_MUL | D312: Shift schedule multiplier for ETV solenoid overcurrent. | AC312: 0 | AD312: 1 | AF312: =VLOOKUP(TRIM(C312),Addr!$A$1:$B$702,2,0) -> c179 | AG312: =VLOOKUP(AF312,Scalars!$A$1:$C$1088,3,0) -> 8 | AI312: =IF(AG312=8,"int","integer") -> int | AJ312: X | AK312: 1
A313: =IF(COUNTIF(Scalars!$A$1:$A$2000,AF313),5) -> 5 | C313: OLIDRV | D313: Drive Open Loop Idle Fuel Multiplier. | AC313: 0 | AD313: 1 | AF313: =VLOOKUP(TRIM(C313),Addr!$A$1:$B$702,2,0) -> b463 | AG313: =VLOOKUP(AF313,Scalars!$A$1:$C$1088,3,0) -> 8 | AI313: =IF(AG313=8,"int","integer") -> int | AJ313: X | AK313: 1
A314: =IF(COUNTIF(Scalars!$A$1:$A$2000,AF314),5) -> 5 | C314: OLINEUT | D314: Neutral Open Loop Idle Fuel Multiplier. | AC314: 0 | AD314: 1 | AF314: =VLOOKUP(TRIM(C314),Addr!$A$1:$B$702,2,0) -> b466 | AG314: =VLOOKUP(AF314,Scalars!$A$1:$C$1088,3,0) -> 8 | AI314: =IF(AG314=8,"int","integer") -> int | AJ314: X | AK314: 1
... A387: =IF(COUNTIF(Scalars!$A$1:$A$2000,AF387),5) -> 5 | C387: SSFCTR | D387: Steady state factor for MKAY and signature KAY calculations. | AC387: 0 | AD387: 1 | AF387: =VLOOKUP(TRIM(C387),Addr!$A$1:$B$702,2,0) -> badc | AG387: =VLOOKUP(AF387,Scalars!$A$1:$C$1088,3,0) -> 16 | AI387: =IF(AG387=8,"int","integer") -> integer | AJ387: X | AK387: 1
A388: =IF(COUNTIF(Scalars!$A$1:$A$2000,AF388),5) -> 5 | C388: STALLN | D388: Stall RPM: If the first RPM calculated is greater than this value assume that there was a reinit. | AC388: 0 | AD388: 1 | AF388: =VLOOKUP(TRIM(C388),Addr!$A$1:$B$702,2,0) -> b03c | AG388: =VLOOKUP(AF388,Scalars!$A$1:$C$1088,3,0) -> 16 | AH388: RPM | AI388: =IF(AG388=8,"int","integer") -> integer | AJ388: X | AK388: 1
A389: =IF(COUNTIF(Scalars!$A$1:$A$2000,AF389),5) -> 5 | C389: STALLN | D389: Stall rpm: If the first rpm calculated is greater than this value, then assume a reinit occurred, rpm. | AC389: 0 | AD389: 1 | AF389: =VLOOKUP(TRIM(C389),Addr!$A$1:$B$702,2,0) -> b03c | AG389: =VLOOKUP(AF389,Scalars!$A$1:$C$1088,3,0) -> 16 | AI389: =IF(AG389=8,"int","integer") -> integer | AJ389: X | AK389: 1
A390: =IF(COUNTIF(Scalars!$A$1:$A$2000,AF390),5) -> 5 | C390: STALLN | D390: Stall rpm; If the first rpm calculated is greater than this value assume that there was a re-init. | AC390: 0 | AD390: 1 | AF390: =VLOOKUP(TRIM(C390),Addr!$A$1:$B$702,2,0) -> b03c | AG390: =VLOOKUP(AF390,Scalars!$A$1:$C$1088,3,0) -> 16 | AI390: =IF(AG390=8,"int","integer") -> integer | AJ390: X | AK390: 1
A391: =IF(COUNTIF(Scalars!$A$1:$A$2000,AF391),5) -> 5 | C391: STALLTV_SW | D391: Calibration switch to select FN616 during engagement; 0 -> select FN616, 1 -> do not select FN616. | AC391: 0 | AD391: 1 | AF391: =VLOOKUP(TRIM(C391),Addr!$A$1:$B$702,2,0) -> c153 | AG391: =VLOOKUP(AF391,Scalars!$A$1:$C$1088,3,0) -> 8 | AI391: =IF(AG391=8,"int","integer") -> int | AJ391: X | AK391: 1
A392: =IF(COUNTIF(Scalars!$A$1:$A$2000,AF392),5) -> 5 | C392: STTIM | D392: Time after transition into SPK_STATE "1" when TRANS_T will equal 1.0, sec. Controls rate at which feedback spark is included in SPK_ENTRY. | AC392: 0 | AD392: 1 | AF392: =VLOOKUP(TRIM(C392),Addr!$A$1:$B$702,2,0) -> b4f4 | AG392: =VLOOKUP(AF392,Scalars!$A$1:$C$1088,3,0) -> 8 | AI392: =IF(AG392=8,"int","integer") -> int | AJ392: X | AK392: 1
A393: =IF(COUNTIF(Scalars!$A$1:$A$2000,AF393),5) -> 5 | C393: SW_MLK | D393: Switch for manual converter clutch control; 0 -> automatic converter clutch control, 1 -> unconditional converter clutch lock-up, 2 -> unconditional converter clutch unlock. | AC393: 0 | AD393: 1 | AF393: =VLOOKUP(TRIM(C393),Addr!$A$1:$B$702,2,0) -> c200 | AG393: =VLOOKUP(AF393,Scalars!$A$1:$C$1088,3,0) -> 8 | AI393: =IF(AG393=8,"int","integer") -> int | AJ393: X | AK393: 1
A394: =IF(COUNTIF(Scalars!$A$1:$A$2000,AF394),5) -> 5 | C394: SW_MLK | D394: Switch for manual converter clutch control; 0 -> automatic converter clutch control, 1 -> unconditional converter clutch lock-up, 2 -> unconditional converter clutch unlock. | AC394: 0 | AD394: 1 | AF394: =VLOOKUP(TRIM(C394),Addr!$A$1:$B$702,2,0) -> c200 | AG394: =VLOOKUP(AF394,Scalars!$A$1:$C$1088,3,0) -> 8 | AI394: =IF(AG394=8,"int","integer") -> int | AJ394: X | AK394: 1
A395: =IF(COUNTIF(Scalars!$A$1:$A$2000,AF395),5) -> 5 | C395: SW_MPD | D395: Control switch for Thermactor air bypass MPG mode; 0 -> Do no bypass in MPG Mode, 1 -> bypass in MPG mode. | AC395: 0 | AD395: 1 | AF395: =VLOOKUP(TRIM(C395),Addr!$A$1:$B$702,2,0) -> b966 | AG395: =VLOOKUP(AF395,Scalars!$A$1:$C$1088,3,0) -> 8 | AI395: =IF(AG395=8,"int","integer") -> int | AJ395: X | AK395: 1
A396: =IF(COUNTIF(Scalars!$A$1:$A$2000,AF396),5) -> 5 | C396: SW_MSF | D396: Switch to select GR_CM manually; 1 -> manual gear selection, <> 1 -> automatic gear selection. | AC396: 0 | AD396: 1 | AF396: =VLOOKUP(TRIM(C396),Addr!$A$1:$B$702,2,0) -> c1d1 | AG396: =VLOOKUP(AF396,Scalars!$A$1:$C$1088,3,0) -> 8 | AI396: =IF(AG396=8,"int","integer") -> int | AJ396: X | AK396: 1
A397: =IF(COUNTIF(Scalars!$A$1:$A$2000,AF397),5) -> 5 | C397: SW_RLK | D397: Closed throttle/brake hysteresis switch; 0 -> unlock in hysteresis zone, 1 -> remain locked in hysteresis zone. | AC397: 0 | AD397: 1 | AF397: =VLOOKUP(TRIM(C397),Addr!$A$1:$B$702,2,0) -> c201 | AG397: =VLOOKUP(AF397,Scalars!$A$1:$C$1088,3,0) -> 8 | AI397: =IF(AG397=8,"int","integer") -> int | AJ397: X | AK397: 1
A398: =IF(COUNTIF(Scalars!$A$1:$A$2000,AF398),5) -> 5 | C398: T70LSW | D398: 7.0L thermactor application switch. | AC398: 0 | AD398: 1 | AF398: =VLOOKUP(TRIM(C398),Addr!$A$1:$B$702,2,0) -> b967 | AG398: =VLOOKUP(AF398,Scalars!$A$1:$C$1088,3,0) -> 8 | AI398: =IF(AG398=8,"int","integer") -> int | AJ398: X | AK398: 1
A399: =IF(COUNTIF(Scalars!$A$1:$A$2000,AF399),5) -> 5 | C399: T75LSW | D399: Switch to dump air during closed loop for 7.5L applications. | AC399: 0 | AD399: 1 | AF399: =VLOOKUP(TRIM(C399),Addr!$A$1:$B$702,2,0) -> b4a1 | AG399: =VLOOKUP(AF399,Scalars!$A$1:$C$1088,3,0) -> 8 | AI399: =IF(AG399=8,"int","integer") -> int | AJ399: X | AK399: 1
A400: =IF(COUNTIF(Scalars!$A$1:$A$2000,AF400),5) -> 5 | C400: TAPMAX | D400: Maximum valid TP value, counts. (Calibrated by Self Test Design Section) | AC400: 0 | AD400: 1 | AF400: =VLOOKUP(TRIM(C400),Addr!$A$1:$B$702,2,0) -> cbd0 | AG400: =VLOOKUP(AF400,Scalars!$A$1:$C$1088,3,0) -> 16 | AI400: =IF(AG400=8,"int","integer") -> integer | AJ400: X | AK400: 1
... A500: =IF(COUNTIF(Scalars!$A$1:$A$2000,AF500),5) -> 5 | C500: U34DLY | D500: Unlocked 3 -> 4 shift relock delay. | AC500: 0 | AD500: 1 | AF500: =VLOOKUP(TRIM(C500),Addr!$A$1:$B$702,2,0) -> c224 | AG500: =VLOOKUP(AF500,Scalars!$A$1:$C$1088,3,0) -> 8 | AI500: =IF(AG500=8,"int","integer") -> int | AJ500: X | AK500: 1
A501: =IF(COUNTIF(Scalars!$A$1:$A$2000,AF501),5) -> 5 | C501: UNRPM | D501: Underspeed Engine Speed. | AC501: 0 | AD501: 1 | AF501: =VLOOKUP(TRIM(C501),Addr!$A$1:$B$702,2,0) -> cb74 | AG501: =VLOOKUP(AF501,Scalars!$A$1:$C$1088,3,0) -> 16 | AH501: RPM | AI501: =IF(AG501=8,"int","integer") -> integer | AJ501: X | AK501: 1
A502: =IF(COUNTIF(Scalars!$A$1:$A$2000,AF502),5) -> 5 | C502: UNRPMH | D502: Hysteresis term for UNDERSPEED Mode. | AC502: 0 | AD502: 1 | AF502: =VLOOKUP(TRIM(C502),Addr!$A$1:$B$702,2,0) -> cb76 | AG502: =VLOOKUP(AF502,Scalars!$A$1:$C$1088,3,0) -> 16 | AI502: =IF(AG502=8,"int","integer") -> integer | AJ502: X | AK502: 1
A503: =IF(COUNTIF(Scalars!$A$1:$A$2000,AF503),5) -> 5 | C503: UP_TIP_RATE | D503: Tip-in rate above which FLG_TIP_RATE is set. | AC503: 0 | AD503: 1 | AF503: =VLOOKUP(TRIM(C503),Addr!$A$1:$B$702,2,0) -> c202 | AG503: =VLOOKUP(AF503,Scalars!$A$1:$C$1088,3,0) -> 16 | AI503: =IF(AG503=8,"int","integer") -> integer | AJ503: X | AK503: 1
A504: =IF(COUNTIF(Scalars!$A$1:$A$2000,AF504),5) -> 5 | C504: UPDATM | D504: Pacing at which the IPSIBR correction factor is rolled into KAM. Value is in terms of background loop counts. | AC504: 0 | AD504: 1 | AF504: =VLOOKUP(TRIM(C504),Addr!$A$1:$B$702,2,0) -> b036 | AG504: =VLOOKUP(AF504,Scalars!$A$1:$C$1088,3,0) -> 8 | AI504: =IF(AG504=8,"int","integer") -> int | AJ504: X | AK504: 1
A505: =IF(COUNTIF(Scalars!$A$1:$A$2000,AF505),5) -> 5 | C505: UPDISC | D505: Time that engine speed must be within the specified deadband (RPMDED) prior to KAM update. | AC505: 0 | AD505: 1 | AF505: =VLOOKUP(TRIM(C505),Addr!$A$1:$B$702,2,0) -> b035 | AG505: =VLOOKUP(AF505,Scalars!$A$1:$C$1088,3,0) -> 8 | AI505: =IF(AG505=8,"int","integer") -> int | AJ505: X | AK505: 1
A506: =IF(COUNTIF(Scalars!$A$1:$A$2000,AF506),5) -> 5 | C506: UPSTM1 | D506: Maximum time for upstream air after a low milage, high ECT startup, sec. | AC506: 0 | AD506: 1 | AF506: =VLOOKUP(TRIM(C506),Addr!$A$1:$B$702,2,0) -> b969 | AG506: =VLOOKUP(AF506,Scalars!$A$1:$C$1088,3,0) -> 8 | AI506: =IF(AG506=8,"int","integer") -> int | AJ506: X | AK506: 1
A507: =IF(COUNTIF(Scalars!$A$1:$A$2000,AF507),5) -> 5 | C507: UPSTM2 | D507: Maximum time for upstream air after a low milage, intermediate ECT startup, sec. | AC507: 0 | AD507: 1 | AF507: =VLOOKUP(TRIM(C507),Addr!$A$1:$B$702,2,0) -> b96a | AG507: =VLOOKUP(AF507,Scalars!$A$1:$C$1088,3,0) -> 8 | AI507: =IF(AG507=8,"int","integer") -> int | AJ507: X | AK507: 1
A508: =IF(COUNTIF(Scalars!$A$1:$A$2000,AF508),5) -> 5 | C508: UPSTM3 | D508: Maximum time for upstream air after ECT > TEMPFB for a low milage, low ECT startup, sec. | AC508: 0 | AD508: 1 | AF508: =VLOOKUP(TRIM(C508),Addr!$A$1:$B$702,2,0) -> b96b | AG508: =VLOOKUP(AF508,Scalars!$A$1:$C$1088,3,0) -> 8 | AI508: =IF(AG508=8,"int","integer") -> int | AJ508: X | AK508: 1
A509: =IF(COUNTIF(Scalars!$A$1:$A$2000,AF509),5) -> 5 | C509: UPSTM4 | D509: Maximum time for upstream air after a high milage, high ECT startup, sec. | AC509: 0 | AD509: 1 | AF509: =VLOOKUP(TRIM(C509),Addr!$A$1:$B$702,2,0) -> b96c | AG509: =VLOOKUP(AF509,Scalars!$A$1:$C$1088,3,0) -> 8 | AI509: =IF(AG509=8,"int","integer") -> int | AJ509: X | AK509: 1
A510: =IF(COUNTIF(Scalars!$A$1:$A$2000,AF510),5) -> 5 | C510: UPSTM5 | D510: Maximum time for upstream air after a high milage, intermediate ECT startup, sec. | AC510: 0 | AD510: 1 | AF510: =VLOOKUP(TRIM(C510),Addr!$A$1:$B$702,2,0) -> b96d | AG510: =VLOOKUP(AF510,Scalars!$A$1:$C$1088,3,0) -> 8 | AI510: =IF(AG510=8,"int","integer") -> int | AJ510: X | AK510: 1
A511: =IF(COUNTIF(Scalars!$A$1:$A$2000,AF511),5) -> 5 | C511: UPSTM6 | D511: Maximum time for upstream air after ECT > TEMPFB for a high milage, low ECT startup, sec. | AC511: 0 | AD511: 1 | AF511: =VLOOKUP(TRIM(C511),Addr!$A$1:$B$702,2,0) -> b96e | AG511: =VLOOKUP(AF511,Scalars!$A$1:$C$1088,3,0) -> 8 | AI511: =IF(AG511=8,"int","integer") -> int | AJ511: X | AK511: 1
A512: =IF(COUNTIF(Scalars!$A$1:$A$2000,AF512),5) -> 5 | C512: V_879_MULT | D512: VIP multipler for DASPOT function FN879. | AC512: 0 | AD512: 1 | AF512: =VLOOKUP(TRIM(C512),Addr!$A$1:$B$702,2,0) -> cc4c | AG512: =VLOOKUP(AF512,Scalars!$A$1:$C$1088,3,0) -> 16 | AI512: =IF(AG512=8,"int","integer") -> integer | AJ512: X | AK512: 1
A513: =IF(COUNTIF(Scalars!$A$1:$A$2000,AF513),5) -> 5 | C513: V_ISCMOD_MAX | D513: VIP maximum clip on ISCMOD when in VIP throttle adjust mode. | AC513: 0 | AD513: 1 | AF513: =VLOOKUP(TRIM(C513),Addr!$A$1:$B$702,2,0) -> cca8 | AG513: =VLOOKUP(AF513,Scalars!$A$1:$C$1088,3,0) -> 16 | AI513: =IF(AG513=8,"int","integer") -> integer | AJ513: X | AK513: 1
...

Sheet Scalars
A1: 200a | B1: word
A2: 200c | B2: word
A3: 200e | B3: word
A4: 2020 | B4: byte
A5: 2021 | B5: byte
A6: 2022 | B6: word
A7: 2024 | B7: word
A8: 2026 | B8: word
A9: 2028 | B9: word
A10: 202a | B10: word
A11: 202c | B11: word
A12: 202e | B12: word
... A153: 7742 | B153: byte
A154: 7d34 | B154: word | C154: =IF(B154="WORD",16,8) -> 16
A155: 7d36 | B155: word | C155: =IF(B155="WORD",16,8) -> 16
A156: 7d38 | B156: word | C156: =IF(B156="WORD",16,8) -> 16
A157: 96ee | B157: word | C157: =IF(B157="WORD",16,8) -> 16
A158: 96f0 | B158: word | C158: =IF(B158="WORD",16,8) -> 16
A159: 96f2 | B159: word | C159: =IF(B159="WORD",16,8) -> 16
A160: 96f4 | B160: word | C160: =IF(B160="WORD",16,8) -> 16
A161: 96f6 | B161: word | C161: =IF(B161="WORD",16,8) -> 16
A162: 96f8 | B162: word | C162: =IF(B162="WORD",16,8) -> 16
A163: 9c44 | B163: word | C163: =IF(B163="WORD",16,8) -> 16
A164: 9c46 | B164: word | C164: =IF(B164="WORD",16,8) -> 16
A165: 9c48 | B165: word | C165: =IF(B165="WORD",16,8) -> 16
... A1088: cd21 | B1088: byte | C1088: =IF(B1088="WORD",16,8) -> 8

Sheet Addr
A1: LOWVOL | B1: b005
A2: VOLHYS | B2: b006
A3: VOLTCLP | B3: b007
A4: CHGRPM | B4: b008
A5: CHGTM | B5: b00a
A6: DLHYST | B6: b00c
A7: ISCMOD_MAX | B7: b00e
A8: ISCMOD_MIN | B8: b010
A9: KDNDT | B9: b012
A10: TC_OVER | B10: b014
A11: TC_UNDER | B11: b016
A12: ISCMOD_RPM | B12: b018
... A702: V_STO_DELAY | B702: ccba
