Workbook

Sheet XDF
A1: ObjType | B1: UniqueId | C1: Name | D1: Description | E1: XSigned | F1: XLSBFirst | G1: XOffsetInt | H1: XOffsetHex | I1: XSizeInBits | J1: XAddrStep | K1: XUnits | L1: XOutputType | M1: XEquation | N1: XPrecision | O1: XRangeLow | P1: XRangeHigh | Q1: YSigned | R1: YLSBFirst | S1: YOffsetInt | T1: YOffsetHex | U1: YSizeInBits | V1: YAddrStep | W1: YUnits | X1: YOutputType | Y1: YEquation | Z1: YPrecision | AA1: YRangeLow | AB1: YRangeHigh | AC1: ZSigned | AD1: ZLSBFirst | AE1: ZOffsetInt | AF1: ZOffsetHex | AG1: ZSizeInBits | AH1: ZUnits | AI1: ZOutputType | AJ1: ZEquation | AK1: ZPrecision | AL1: ZRangeLow | AM1: ZRangeHigh | AN1: BitNumber | AO1: BitMask | AP1: RowCount | AQ1: ColCount | AR1: IndexCount
C2: A0 - AHISL | D2: Injector Slope - AHISL | AC2: 0 | AD2: 1 | AF2: =VLOOKUP(TRIM(C2),Addr!$A$1:$B$702,2,0) -> b44e | AG2: 16 | AH2: lb/hr | AI2: float | AJ2: x | AK2: 2
A3: =IF(COUNTIF(Scalars!$A$1:$A$2000,AF3),5) -> 5 | C3: ACHPTM | D3: Calibrated time since start to recognize high AC head pressure. | AC3: 0 | AD3: 1 | AF3: =VLOOKUP(TRIM(C3),Addr!$A$1:$B$702,2,0) -> b052 | AG3: =VLOOKUP(AF3,Scalars!$A$1:$C$1088,3,0) -> 8 | AI3: =IF(AG3=8,"int","integer") -> int | AJ3: X | AK3: 1
A4: =IF(COUNTIF(Scalars!$A$1:$A$2000,AF4),5) -> 5 | C4: ACMAP | D4: An adder to FN862(BP) when A/C is on. Should be based on observed differences between A/C on & A/C off idle MAP readings. | AC4: 0 | AD4: 1 | AF4: =VLOOKUP(TRIM(C4),Addr!$A$1:$B$702,2,0) -> b033 | AG4: =VLOOKUP(AF4,Scalars!$A$1:$C$1088,3,0) -> 8 | AI4: =IF(AG4=8,"int","integer") -> int | AJ4: X | AK4: 1
A5: =IF(COUNTIF(Scalars!$A$1:$A$2000,AF5),5) -> 5 | C5: ACTFMM | D5: FMEM default value for ACT. | AC5: 0 | AD5: 1 | AF5: =VLOOKUP(TRIM(C5),Addr!$A$1:$B$702,2,0) -> b950 | AG5: =VLOOKUP(AF5,Scalars!$A$1:$C$1088,3,0) -> 8 | AI5: =IF(AG5=8,"int","integer") -> int | AJ5: X | AK5: 1
A6: =IF(COUNTIF(Scalars!$A$1:$A$2000,AF6),5) -> 5 | C6: ACTMAX | D6: Maximum ACT (ACT Open), Counts. | AC6: 0 | AD6: 1 | AF6: =VLOOKUP(TRIM(C6),Addr!$A$1:$B$702,2,0) -> cbcc | AG6: =VLOOKUP(AF6,Scalars!$A$1:$C$1088,3,0) -> 16 | AI6: =IF(AG6=8,"int","integer") -> integer | AJ6: X | AK6: 1
A7: =IF(COUNTIF(Scalars!$A$1:$A$2000,AF7),5) -> 5 | C7: ACTMIN | D7: Minimum ACT (ACT Shorted), Counts. | AC7: 0 | AD7: 1 | AF7: =VLOOKUP(TRIM(C7),Addr!$A$1:$B$702,2,0) -> cbca | AG7: =VLOOKUP(AF7,Scalars!$A$1:$C$1088,3,0) -> 16 | AI7: =IF(AG7=8,"int","integer") -> integer | AJ7: X | AK7: 1
A8: =IF(COUNTIF(Scalars!$A$1:$A$2000,AF8),5) -> 5 | C8: ADAPTM | D8: Adaptive learning enable time delay (seconds). | AC8: 0 | AD8: 1 | AF8: =VLOOKUP(TRIM(C8),Addr!$A$1:$B$702,2,0) -> cb92 | AG8: =VLOOKUP(AF8,Scalars!$A$1:$C$1088,3,0) -> 16 | AI8: =IF(AG8=8,"int","integer") -> integer | AJ8: X | AK8: 1
A9: =IF(COUNTIF(Scalars!$A$1:$A$2000,AF9),5) -> 5 | C9: ADEFTR | D9: Transient fuel threshold to update adaptive fuel. | AC9: 0 | AD9: 1 | AF9: =VLOOKUP(TRIM(C9),Addr!$A$1:$B$702,2,0) -> cba0 | AG9: =VLOOKUP(AF9,Scalars!$A$1:$C$1088,3,0) -> 16 | AI9: =IF(AG9=8,"int","integer") -> integer | AJ9: X | AK9: 1
A10: =IF(COUNTIF(Scalars!$A$1:$A$2000,AF10),5) -> 5 | C10: ADEGCT | D10: Number of EGO switches required to permit Adaptive Learning within the cell boundaries. | AC10: 0 | AD10: 1 | AF10: =VLOOKUP(TRIM(C10),Addr!$A$1:$B$702,2,0) -> cba2 | AG10: =VLOOKUP(AF10,Scalars!$A$1:$C$1088,3,0) -> 8 | AI10: =IF(AG10=8,"int","integer") -> int | AJ10: X | AK10: 1
A11: =IF(COUNTIF(Scalars!$A$1:$A$2000,AF11),5) -> 5 | C11: AEDLMP | D11: Minimum change in MAP to indicate manifold filling (in. Hg) | AC11: 0 | AD11: 1 | AF11: =VLOOKUP(TRIM(C11),Addr!$A$1:$B$702,2,0) -> b970 | AG11: =VLOOKUP(AF11,Scalars!$A$1:$C$1088,3,0) -> 8 | AI11: =IF(AG11=8,"int","integer") -> int | AJ11: X | AK11: 1
A12: =IF(COUNTIF(Scalars!$A$1:$A$2000,AF12),5) -> 5 | C12: AELIM | D12: Maximum acceleration enrichment fuel flow to allow adaptive learning, lb/hr. | AC12: 0 | AD12: 1 | AF12: =VLOOKUP(TRIM(C12),Addr!$A$1:$B$702,2,0) -> cb9f | AG12: =VLOOKUP(AF12,Scalars!$A$1:$C$1088,3,0) -> 8 | AI12: =IF(AG12=8,"int","integer") -> int | AJ12: X | AK12: 1
A13: =IF(COUNTIF(Scalars!$A$1:$A$2000,AF13),5) -> 5 | C13: AEM | D13: ECT/ACT weighting factor, unitless. | AC13: 0 | AD13: 1 | AF13: =VLOOKUP(TRIM(C13),Addr!$A$1:$B$702,2,0) -> cb68 | AG13: =VLOOKUP(AF13,Scalars!$A$1:$C$1088,3,0) -> 16 | AI13: =IF(AG13=8,"int","integer") -> integer | AJ13: X | AK13: 1
A14: =IF(COUNTIF(Scalars!$A$1:$A$2000,AF14),5) -> 5 | C14: AETAR | D14: TAR above which AE may be enabled. | AC14: 0 | AD14: 1 | AF14: =VLOOKUP(TRIM(C14),Addr!$A$1:$B$702,2,0) -> cb70 | AG14: =VLOOKUP(AF14,Scalars!$A$1:$C$1088,3,0) -> 16 | AI14: =IF(AG14=8,"int","integer") -> integer | AJ14: X | AK14: 1
... A48: =IF(COUNTIF(Scalars!$A$1:$A$2000,AF48),5) -> 5 | C48: CRKCTR_RESET | D48: CRKPIP_CTR reset switch; 1 -> reset CRKPIP_CTR upon stall. | AC48: 0 | AD48: 1 | AF48: =VLOOKUP(TRIM(C48),Addr!$A$1:$B$702,2,0) -> b48c | AG48: =VLOOKUP(AF48,Scalars!$A$1:$C$1088,3,0) -> 8 | AI48: =IF(AG48=8,"int","integer") -> int | AJ48: X | AK48: 1
A49: =IF(COUNTIF(Scalars!$A$1:$A$2000,AF49),5) -> 5 | C49: CRKPIP | D49: Number of PIPs between injector firing. | AC49: 0 | AD49: 1 | AF49: =VLOOKUP(C49,Addr!$A$1:$B$702,2,0) -> b48b | AG49: =VLOOKUP(AF49,Scalars!$A$1:$C$1088,3,0) -> 8 | AH49: PIPs | AI49: =IF(AG49=8,"int","integer") -> int | AJ49: X | AK49: 1
A50: =IF(COUNTIF(Scalars!$A$1:$A$2000,AF50),5) -> 5 | C50: CRKPIPCNT2 | D50: CRKPIP_CTR reset value for UNDERSPEED to CRANK transitions, sec. | AC50: 0 | AD50: 1 | AF50: =VLOOKUP(TRIM(C50),Addr!$A$1:$B$702,2,0) -> cb7d | AG50: =VLOOKUP(AF50,Scalars!$A$1:$C$1088,3,0) -> 8 | AI50: =IF(AG50=8,"int","integer") -> int | AJ50: X | AK50: 1
A51: =IF(COUNTIF(Scalars!$A$1:$A$2000,AF51),5) -> 5 | C51: CRKTIM | D51: Time in run mode to clear 100% cranking duty cycle. | AC51: 0 | AD51: 1 | AF51: =VLOOKUP(TRIM(C51),Addr!$A$1:$B$702,2,0) -> b03e | AG51: =VLOOKUP(AF51,Scalars!$A$1:$C$1088,3,0) -> 8 | AI51: =IF(AG51=8,"int","integer") -> int | AJ51: X | AK51: 1
A52: =IF(COUNTIF(Scalars!$A$1:$A$2000,AF52),5) -> 5 | C52: CRKTM1 | D52: Time in RUN or UNDERSPEED below which CRKPIP_CTR is reset to CRKPIPCNT2, sec. | AC52: 0 | AD52: 1 | AF52: =VLOOKUP(TRIM(C52),Addr!$A$1:$B$702,2,0) -> cb7c | AG52: =VLOOKUP(AF52,Scalars!$A$1:$C$1088,3,0) -> 8 | AI52: =IF(AG52=8,"int","integer") -> int | AJ52: X | AK52: 1
A53: =IF(COUNTIF(Scalars!$A$1:$A$2000,AF53),5) -> 5 | C53: CRKTMR_INC | D53: Calibration switch which determines whether CRKPIP_CTR counts when the engine state is out of CRANK. | AC53: 0 | AD53: 1 | AF53: =VLOOKUP(TRIM(C53),Addr!$A$1:$B$702,2,0) -> cb7e | AG53: =VLOOKUP(AF53,Scalars!$A$1:$C$1088,3,0) -> 8 | AI53: =IF(AG53=8,"int","integer") -> int | AJ53: X | AK53: 1
A54: =IF(COUNTIF(Scalars!$A$1:$A$2000,AF54),5) -> 5 | C54: CRVDLY | D54: Time to delay scheduled lockups after STEADYSRLK1 throttle achieved, sec. | AC54: 0 | AD54: 1 | AF54: =VLOOKUP(TRIM(C54),Addr!$A$1:$B$702,2,0) -> c1ec | AG54: =VLOOKUP(AF54,Scalars!$A$1:$C$1088,3,0) -> 8 | AI54: =IF(AG54=8,"int","integer") -> int | AJ54: X | AK54: 1
A55: =IF(COUNTIF(Scalars!$A$1:$A$2000,AF55),5) -> 5 | C55: CS_MAX_TIME | D55: Maximum time allowed in cold start shift schedules. | AC55: 0 | AD55: 1 | AF55: =VLOOKUP(TRIM(C55),Addr!$A$1:$B$702,2,0) -> c176 | AG55: =VLOOKUP(AF55,Scalars!$A$1:$C$1088,3,0) -> 16 | AI55: =IF(AG55=8,"int","integer") -> integer | AJ55: X | AK55: 1
A56: =IF(COUNTIF(Scalars!$A$1:$A$2000,AF56),5) -> 5 | C56: CS_MUL | D56: Cold Start Multiplier. | AC56: 0 | AD56: 1 | AF56: =VLOOKUP(TRIM(C56),Addr!$A$1:$B$702,2,0) -> c178 | AG56: =VLOOKUP(AF56,Scalars!$A$1:$C$1088,3,0) -> 8 | AI56: =IF(AG56=8,"int","integer") -> int | AJ56: X | AK56: 1
A57: =IF(COUNTIF(Scalars!$A$1:$A$2000,AF57),5) -> 5 | C57: CSHIGH | D57: Maximum TCSTRT for cold start spark, deg F. | AC57: 0 | AD57: 1 | AF57: =VLOOKUP(TRIM(C57),Addr!$A$1:$B$702,2,0) -> bb7c | AG57: =VLOOKUP(AF57,Scalars!$A$1:$C$1088,3,0) -> 8 | AI57: =IF(AG57=8,"int","integer") -> int | AJ57: X | AK57: 1
A58: =IF(COUNTIF(Scalars!$A$1:$A$2000,AF58),5) -> 5 | C58: CSLOW | D58: Minimum TCSTRT for cold start spark, deg F. | AC58: 0 | AD58: 1 | AF58: =VLOOKUP(TRIM(C58),Addr!$A$1:$B$702,2,0) -> bb7d | AG58: =VLOOKUP(AF58,Scalars!$A$1:$C$1088,3,0) -> 8 | AI58: =IF(AG58=8,"int","integer") -> int | AJ58: X | AK58: 1
A59: =IF(COUNTIF(Scalars!$A$1:$A$2000,AF59),5) -> 5 | C59: CSSMAF | D59: Cold start spark DESMAF multiplier. Used to compensate for increased airflow requirement due to retarded spark. | AC59: 0 | AD59: 1 | AF59: =VLOOKUP(TRIM(C59),Addr!$A$1:$B$702,2,0) -> b041 | AG59: =VLOOKUP(AF59,Scalars!$A$1:$C$1088,3,0) -> 8 | AI59: =IF(AG59=8,"int","integer") -> int | AJ59: X | AK59: 1
A60: =IF(COUNTIF(Scalars!$A$1:$A$2000,AF60),5) -> 5 | C60: CSSPRK | D60: Cold start spark multiplier, unitless. | AC60: 0 | AD60: 1 | AF60: =VLOOKUP(TRIM(C60),Addr!$A$1:$B$702,2,0) -> bb7e | AG60: =VLOOKUP(AF60,Scalars!$A$1:$C$1088,3,0) -> 8 | AI60: =IF(AG60=8,"int","integer") -> int | AJ60: X | AK60: 1
A61: =IF(COUNTIF(Scalars!$A$1:$A$2000,AF61),5) -> 5 | C61: CSSTIM | D61: Maximum time to use cold start spark, sec. | AC61: 0 | AD61: 1 | AF61: =VLOOKUP(TRIM(C61),Addr!$A$1:$B$702,2,0) -> bb7f | AG61: =VLOOKUP(AF61,Scalars!$A$1:$C$1088,3,0) -> 8 | AI61: =IF(AG61=8,"int","integer") -> int | AJ61: X | AK61: 1
... A191: =IF(COUNTIF(Scalars!$A$1:$A$2000,AF191),5) -> 5 | C191: IDRPMH | D191: Hysteresis for IDLRPM, RPM. | AC191: 0 | AD191: 1 | AF191: =VLOOKUP(TRIM(C191),Addr!$A$1:$B$702,2,0) -> b4a8 | AG191: =VLOOKUP(AF191,Scalars!$A$1:$C$1088,3,0) -> 16 | AI191: =IF(AG191=8,"int","integer") -> integer | AJ191: X | AK191: 1
A192: =IF(COUNTIF(Scalars!$A$1:$A$2000,AF192),5) -> 5 | C192: IGN_TYPE | D192: Inidcator of ignition type (0 = TFI, 1 = TFI_ICCD, 2 = LDR-DIS). | AC192: 0 | AD192: 1 | AF192: =VLOOKUP(C192,Addr!$A$1:$B$702,2,0) -> cb8a | AG192: =VLOOKUP(AF192,Scalars!$A$1:$C$1088,3,0) -> 8 | AH192: EGR Type | AI192: =IF(AG192=8,"int","integer") -> int | AJ192: X | AK192: 1
A193: =IF(COUNTIF(Scalars!$A$1:$A$2000,AF193),5) -> 5 | C193: IGN_TYPE | D193: Indicator of ignition type (0 = TFI, 1 = TFI_ICCD, 2 = LDR-DIS). | AC193: 0 | AD193: 1 | AF193: =VLOOKUP(TRIM(C193),Addr!$A$1:$B$702,2,0) -> cb8a | AG193: =VLOOKUP(AF193,Scalars!$A$1:$C$1088,3,0) -> 8 | AI193: =IF(AG193=8,"int","integer") -> int | AJ193: X | AK193: 1
A194: =IF(COUNTIF(Scalars!$A$1:$A$2000,AF194),5) -> 5 | C194: IGN_TYPE | D194: Indicator of ignition type (0 = TFI, 1 = TFI-ICCD, 2 = LDR-DIS-DP, 3 = LDR-DIS, and 4 = HDR-DIS). | AC194: 0 | AD194: 1 | AF194: =VLOOKUP(TRIM(C194),Addr!$A$1:$B$702,2,0) -> cb8a | AG194: =VLOOKUP(AF194,Scalars!$A$1:$C$1088,3,0) -> 8 | AI194: =IF(AG194=8,"int","integer") -> int | AJ194: X | AK194: 1
A195: =IF(COUNTIF(Scalars!$A$1:$A$2000,AF195),5) -> 5 | C195: INJOUT | D195: Number oof injectors fired by each output port. | AC195: 0 | AD195: 1 | AF195: =VLOOKUP(TRIM(C195),Addr!$A$1:$B$702,2,0) -> b48d | AG195: =VLOOKUP(AF195,Scalars!$A$1:$C$1088,3,0) -> 8 | AI195: =IF(AG195=8,"int","integer") -> int | AJ195: X | AK195: 1
A196: =IF(COUNTIF(Scalars!$A$1:$A$2000,AF196),5) -> 5 | C196: INJOUT | D196: Number of injectors fired by each output port. | AC196: 0 | AD196: 1 | AF196: =VLOOKUP(TRIM(C196),Addr!$A$1:$B$702,2,0) -> b48d | AG196: =VLOOKUP(AF196,Scalars!$A$1:$C$1088,3,0) -> 8 | AI196: =IF(AG196=8,"int","integer") -> int | AJ196: X | AK196: 1
A197: =IF(COUNTIF(Scalars!$A$1:$A$2000,AF197),5) -> 5 | C197: IPSIDLY | D197: Time delay to disable IPSIBR Update, sec. | AC197: 0 | AD197: 1 | AF197: =VLOOKUP(TRIM(C197),Addr!$A$1:$B$702,2,0) -> b444 | AG197: =VLOOKUP(AF197,Scalars!$A$1:$C$1088,3,0) -> 8 | AI197: =IF(AG197=8,"int","integer") -> int | AJ197: X | AK197: 1
A198: =IF(COUNTIF(Scalars!$A$1:$A$2000,AF198),5) -> 5 | C198: ISCLPD | D198: A clip on the maximum desired speed that can be requested with vehicle in drive. Usually the GPAS defined speed allowed at 0.2 miles on a cold start. ..Typical value - 1100 RPM. | AC198: 0 | AD198: 1 | AF198: =VLOOKUP(TRIM(C198),Addr!$A$1:$B$702,2,0) -> b050 | AG198: =VLOOKUP(AF198,Scalars!$A$1:$C$1088,3,0) -> 16 | AI198: =IF(AG198=8,"int","integer") -> integer | AJ198: X | AK198: 1
A199: =IF(COUNTIF(Scalars!$A$1:$A$2000,AF199),5) -> 5 | C199: ISCMOD_MAX | D199: Maximum clip on ISCMOD. Limits the maximum rich excursion that will result from the idle fuel modulation strategy. | AC199: 0 | AD199: 1 | AF199: =VLOOKUP(TRIM(C199),Addr!$A$1:$B$702,2,0) -> b00e | AG199: =VLOOKUP(AF199,Scalars!$A$1:$C$1088,3,0) -> 16 | AI199: =IF(AG199=8,"int","integer") -> integer | AJ199: X | AK199: 1
A200: =IF(COUNTIF(Scalars!$A$1:$A$2000,AF200),5) -> 5 | C200: ISCMOD_MIN | D200: Minimum clip on ISCMOD. Limits the maximum lean excursion that will result from the idle fuel modulation strategy. | AC200: 0 | AD200: 1 | AF200: =VLOOKUP(TRIM(C200),Addr!$A$1:$B$702,2,0) -> b010 | AG200: =VLOOKUP(AF200,Scalars!$A$1:$C$1088,3,0) -> 16 | AI200: =IF(AG200=8,"int","integer") -> integer | AJ200: X | AK200: 1
A201: =IF(COUNTIF(Scalars!$A$1:$A$2000,AF201),5) -> 5 | C201: ISCMOD_RPM | D201: Incremental adder to DSDRPM; total defines an engine speed below which idle fuel modulation can occur. Should be kept to a minimum to avoid unnecessary activation of the fuel modulation routine. | AC201: 0 | AD201: 1 | AF201: =VLOOKUP(TRIM(C201),Addr!$A$1:$B$702,2,0) -> b018 | AG201: =VLOOKUP(AF201,Scalars!$A$1:$C$1088,3,0) -> 8 | AI201: =IF(AG201=8,"int","integer") -> int | AJ201: X | AK201: 1
A202: =IF(COUNTIF(Scalars!$A$1:$A$2000,AF202),5) -> 5 | C202: ISCTM | D202: Time interval over which the rate of change in engine speed is evaluated. Value should be small enough to avoid prolonged speed hang-ups if the ISC system were locked out of C/L speed control but not too short such that the rate of speed change check becomes meaningless. | AC202: 0 | AD202: 1 | AF202: =VLOOKUP(TRIM(C202),Addr!$A$1:$B$702,2,0) -> b032 | AG202: =VLOOKUP(AF202,Scalars!$A$1:$C$1088,3,0) -> 8 | AI202: =IF(AG202=8,"int","integer") -> int | AJ202: X | AK202: 1
...

Sheet Scalars
A1: 200a | B1: word
A2: 200c | B2: word
A3: 200e | B3: word
A4: 2020 | B4: byte
A5: 2021 | B5: byte
A6: 2022 | B6: word
A7: 2024 | B7: word
A8: 2026 | B8: word
A9: 2028 | B9: word
A10: 202a | B10: word
A11: 202c | B11: word
A12: 202e | B12: word
... A153: 7742 | B153: byte
A154: 7d34 | B154: word | C154: =IF(B154="WORD",16,8) -> 16
A155: 7d36 | B155: word | C155: =IF(B155="WORD",16,8) -> 16
A156: 7d38 | B156: word | C156: =IF(B156="WORD",16,8) -> 16
A157: 96ee | B157: word | C157: =IF(B157="WORD",16,8) -> 16
A158: 96f0 | B158: word | C158: =IF(B158="WORD",16,8) -> 16
A159: 96f2 | B159: word | C159: =IF(B159="WORD",16,8) -> 16
A160: 96f4 | B160: word | C160: =IF(B160="WORD",16,8) -> 16
A161: 96f6 | B161: word | C161: =IF(B161="WORD",16,8) -> 16
A162: 96f8 | B162: word | C162: =IF(B162="WORD",16,8) -> 16
A163: 9c44 | B163: word | C163: =IF(B163="WORD",16,8) -> 16
A164: 9c46 | B164: word | C164: =IF(B164="WORD",16,8) -> 16
A165: 9c48 | B165: word | C165: =IF(B165="WORD",16,8) -> 16
... A1088: cd21 | B1088: byte | C1088: =IF(B1088="WORD",16,8) -> 8

Sheet Addr
A1: LOWVOL | B1: b005
A2: VOLHYS | B2: b006
A3: VOLTCLP | B3: b007
A4: CHGRPM | B4: b008
A5: CHGTM | B5: b00a
A6: DLHYST | B6: b00c
A7: ISCMOD_MAX | B7: b00e
A8: ISCMOD_MIN | B8: b010
A9: KDNDT | B9: b012
A10: TC_OVER | B10: b014
A11: TC_UNDER | B11: b016
A12: ISCMOD_RPM | B12: b018
... A702: V_STO_DELAY | B702: ccba
