Workbook

Sheet Histogram
B1: 400 | C1: 600 | D1: 750 | E1: 800 | F1: 100 | G1: 1200 | H1: 1250 | I1: 1400 | J1: 1500 | K1: 1600 | L1: 1750 | M1: 1800 | N1: 2000 | O1: 2200 | P1: 2250 | Q1: 2250 | R1: 2400 | S1: 2500 | T1: 2600 | U1: 2800 | V1: 3000 | W1: 3200 | X1: 3250 | Y1: 3400 | Z1: 3600 | AA1: 3800 | AB1: 4000 | AC1: 4200 | AD1: 4400 | AE1: 4600 | AF1: 4800 | AG1: 5000 | AH1: 5200 | AI1: 5400 | AJ1: 5600 | AK1: 5800 | AL1: 6000 | AM1: 6200
A2: 0.26 | B2: 0 | D2: 0 | M2: 1.022 | N2: 1.009 | O2: 1 | P2: 1.288 | Q2: 1.244 | R2: 1.296 | S2: 1.321 | T2: 1.25 | U2: 1.333
A3: 0.3 | K3: 1.15 | L3: 1.183 | M3: 1.098 | N3: 1.041 | P3: 0.927 | Q3: 1.195 | V3: 1.326
A4: 0.35 | H4: 1.158 | I4: 1.092 | J4: 1.062 | K4: 1.06 | L4: 1.006 | M4: 1.016 | N4: 1.066 | Q4: 1.213 | R4: 1.333 | V4: 1.303
A5: 0.4 | F5: 1.026 | G5: 1.076 | H5: 1.045 | I5: 1.004 | J5: 0.986 | K5: 0.974 | L5: 0.973 | M5: 1.004 | N5: 1.105 | Q5: 0.983 | R5: 1.333 | S5: 1.32 | T5: 0.992 | V5: 1.294
A6: 0.45 | F6: 1.003 | G6: 1.025 | H6: 1.011 | I6: 0.985 | J6: 0.985 | K6: 0.986 | L6: 0.984 | M6: 0.975 | N6: 1.132 | V6: 1.333
A7: 0.5 | E7: 0.928 | F7: 0.967 | G7: 0.994 | H7: 0.977 | I7: 0.986 | J7: 0.984 | K7: 0.989 | L7: 1.02 | M7: 1.001 | N7: 1.037 | P7: 0.909 | Q7: 0.953 | V7: 1.308
A8: 0.55 | E8: 0.916 | F8: 0.933 | G8: 0.967 | H8: 1.022 | I8: 0.987 | J8: 0.964 | K8: 0.986 | L8: 0.974 | M8: 1.006 | N8: 1.018 | O8: 1.027 | U8: 1.248
A9: 0.6 | C9: 0.83 | D9: 0.879 | E9: 0.921 | F9: 0.933 | G9: 0.991 | H9: 1.009 | I9: 1.024 | J9: 0.996 | K9: 0.984 | L9: 0.985 | M9: 0.997 | N9: 1.025 | O9: 1.029 | P9: 1.059 | Q9: 1.086 | R9: 1.121 | S9: 1.142 | T9: 1.18 | U9: 1.221
A10: 0.625 | C10: 0.928 | D10: 0.946 | E10: 0.948 | F10: 0.959 | G10: 1.009 | H10: 0.989 | I10: 0.993 | J10: 1.005 | K10: 0.98 | L10: 0.983 | M10: 1.025 | N10: 1.093 | O10: 1.092 | P10: 1.044 | Q10: 1.062 | R10: 1.101
A11: 0.65 | C11: 0.993 | D11: 0.98 | E11: 0.974 | F11: 0.953 | G11: 0.963 | H11: 0.971 | I11: 0.99 | J11: 0.992 | K11: 0.99 | L11: 1 | M11: 1.03 | N11: 1.056 | O11: 1.036 | P11: 1.035 | Q11: 1.063 | R11: 1.129 | S11: 1.11
A12: 0.7 | C12: 0.978 | D12: 0.973 | E12: 0.977 | F12: 0.964 | G12: 0.972 | H12: 0.99 | I12: 0.991 | J12: 0.993 | K12: 0.972 | L12: 0.989 | M12: 1.026 | N12: 1.051 | O12: 1.017 | P12: 1.045 | Q12: 1.06 | R12: 1.1 | S12: 1.084 | T12: 1.12 | U12: 1.136 | V12: 1.205
A13: 0.75 | C13: 0.947 | D13: 0.97 | E13: 0.974 | F13: 0.967 | G13: 0.958 | H13: 0.988 | I13: 0.962 | J13: 0.99 | K13: 0.997 | L13: 0.992 | M13: 1.013 | N13: 1.041 | O13: 1.012 | P13: 1.025 | Q13: 1.048 | R13: 1.089 | S13: 1.069 | T13: 1.076
A14: 0.8 | C14: 0.928 | D14: 0.952 | E14: 0.968 | F14: 0.985 | G14: 0.97 | H14: 0.882 | I14: 0.976 | J14: 0.953 | K14: 0.962 | L14: 1.007 | M14: 0.99 | N14: 1.013 | O14: 1.005 | Q14: 1.029
A15: 0.85 | C15: 0.988 | D15: 0.94 | F15: 0.981 | J15: 0.977 | K15: 0.987 | L15: 0.98 | M15: 1.003
A16: 0.9 | C16: 1.005 | E16: 0.88
A17: 0.95
A18: 0.98
A19: 1
A20: 1.02
A21: 1.05
A24: Paste your latesest running average VE histogram from TunerPro RT in the blue area
A25: Note: Null values will be considered = 1

Sheet VE
B1: 400 | C1: 800 | D1: 1200 | E1: 1600 | F1: 2000 | G1: 2400 | H1: 2800 | I1: 3200 | J1: 3600 | K1: 4000 | L1: 4400 | M1: 4800 | N1: 5200 | O1: 5600 | P1: 6000
A2: 0.3 | B2: 40.62 | C2: 42.97 | D2: 46.87 | E2: 53.12 | F2: 50 | G2: 49.22 | H2: 50.78 | I2: 47.66 | J2: 47.66 | K2: 50.78 | L2: 49.22 | M2: 49.22 | N2: 49.22 | O2: 49.22 | P2: 49.22
A3: 0.35 | B3: 42.97 | C3: 45.31 | D3: 51.56 | E3: 61.72 | F3: 54.69 | G3: 53.12 | H3: 53.91 | I3: 51.56 | J3: 51.56 | K3: 53.91 | L3: 53.12 | M3: 53.12 | N3: 53.12 | O3: 53.12 | P3: 53.12
A4: 0.4 | B4: 38.28 | C4: 39.84 | D4: 59.37 | E4: 63.28 | F4: 66.41 | G4: 64.06 | H4: 61.72 | I4: 59.37 | J4: 55.47 | K4: 57.81 | L4: 57.03 | M4: 57.03 | N4: 57.03 | O4: 57.03 | P4: 57.03
A5: 0.45 | B5: 38.28 | C5: 39.84 | D5: 61.72 | E5: 66.41 | F5: 71.09 | G5: 69.53 | H5: 64.06 | I5: 61.72 | J5: 61.72 | K5: 64.06 | L5: 63.28 | M5: 63.28 | N5: 63.28 | O5: 63.28 | P5: 63.28
A6: 0.5 | B6: 60.94 | C6: 62.5 | D6: 61.72 | E6: 70.31 | F6: 75 | G6: 72.66 | H6: 70.31 | I6: 67.97 | J6: 64.06 | K6: 65.62 | L6: 64.84 | M6: 64.84 | N6: 64.84 | O6: 64.84 | P6: 64.84
A7: 0.55 | B7: 60.94 | C7: 62.5 | D7: 64.84 | E7: 78.12 | F7: 75 | G7: 75.78 | H7: 73.44 | I7: 71.09 | J7: 67.97 | K7: 69.53 | L7: 67.97 | M7: 67.97 | N7: 67.97 | O7: 67.97 | P7: 67.97
A8: 0.6 | B8: 64.84 | C8: 67.19 | D8: 63.28 | E8: 75.78 | F8: 79.69 | G8: 80.47 | H8: 73.44 | I8: 71.09 | J8: 69.53 | K8: 71.87 | L8: 70.31 | M8: 70.31 | N8: 70.31 | O8: 70.31 | P8: 70.31
A9: 0.65 | B9: 53.91 | C9: 54.69 | D9: 71.09 | E9: 77.34 | F9: 80.47 | G9: 81.25 | H9: 78.91 | I9: 76.56 | J9: 74.22 | K9: 75.78 | L9: 75 | M9: 75 | N9: 75 | O9: 75 | P9: 75
A10: 0.7 | B10: 53.91 | C10: 57.03 | D10: 73.44 | E10: 78.12 | F10: 82.81 | G10: 84.37 | H10: 82.03 | I10: 82.03 | J10: 82.03 | K10: 82.03 | L10: 82.03 | M10: 82.03 | N10: 82.03 | O10: 82.03 | P10: 82.03
A11: 0.75 | B11: 67.97 | C11: 72.66 | D11: 79.69 | E11: 79.69 | F11: 85.15 | G11: 89.06 | H11: 89.84 | I11: 89.84 | J11: 94.53 | K11: 94.53 | L11: 94.53 | M11: 94.53 | N11: 94.53 | O11: 94.53 | P11: 94.53
A12: 0.8 | B12: 69.53 | C12: 74.22 | D12: 82.03 | E12: 82.03 | F12: 88.28 | G12: 91.4 | H12: 96.09 | I12: 96.09 | J12: 96.09 | K12: 96.09 | L12: 96.09 | M12: 96.09 | N12: 96.09 | O12: 96.09 | P12: 96.09
A13: 0.85 | B13: 75.78 | C13: 79.69 | D13: 77.34 | E13: 84.37 | F13: 92.19 | G13: 92.97 | H13: 97.65 | I13: 97.65 | J13: 97.65 | K13: 97.65 | L13: 97.65 | M13: 97.65 | N13: 97.65 | O13: 97.65 | P13: 97.65
... A16: 1 | B16: 75.78 | C16: 79.69 | D16: 77.34 | E16: 84.37 | F16: 92.19 | G16: 92.97 | H16: 97.65 | I16: 97.65 | J16: 98.44 | K16: 98.44 | L16: 99.22 | M16: 99.22 | N16: 99.22 | O16: 99.22 | P16: 100
A19: Paste your current ve table (running table when histogram was created) from TunerPro RT in the blue area

Sheet New VE
B1: 400 | C1: 800 | D1: 1200 | E1: 1600 | F1: 2000 | G1: 2400 | H1: 2800 | I1: 3200 | J1: 3600 | K1: 4000 | L1: 4400 | M1: 4800 | N1: 5200 | O1: 5600 | P1: 6000
A2: 0.3 | B2: =IF(HLOOKUP(B1,Histogram!A1:AM21,_xlfn.XMATCH(A2,Histogram!A1:A50),FALSE)="",HLOOKUP(B1,VE!A1:P16,_xlfn.XMATCH(A2,VE!A1:A16),FALSE),IF(OR(HLOOKUP(B1,Histogram!A1:AM21,_xlfn.XMATCH(A2,Histogram!A1:A50),FALSE)<H21,HLOOKUP(B1,Histogram!A1:AM21,_xlfn.XMATCH(A2,Histogram!A1:A50),FALSE)>J21),((HLOOKUP(B1,Histogram!A1:AM21,_xlfn.XMATCH(A2,Histogram!A1:A50),FALSE)-1)*(H22/100)+1)*HLOOKUP(B1,VE!A1:P16,_xlfn.XMATCH(A2,VE!A1:A16),FALSE),HLOOKUP(B1,VE!A1:P16,_xlfn.XMATCH(A2,VE!A1:A16),FALSE))) -> 40.62 | C2: =IF(HLOOKUP(C1,Histogram!A1:AM21,_xlfn.XMATCH(A2,Histogram!A1:A50),FALSE)="",HLOOKUP(C1,VE!A1:P16,_xlfn.XMATCH(A2,VE!A1:A16),FALSE),IF(OR(HLOOKUP(C1,Histogram!A1:AM21,_xlfn.XMATCH(A2,Histogram!A1:A50),FALSE)<H21,HLOOKUP(C1,Histogram!A1:AM21,_xlfn.XMATCH(A2,Histogram!A1:A50),FALSE)>J21),((HLOOKUP(C1,Histogram!A1:AM21,_xlfn.XMATCH(A2,Histogram!A1:A50),FALSE)-1)*(H22/100)+1)*HLOOKUP(C1,VE!A1:P16,_xlfn.XMATCH(A2,VE!A1:A16),FALSE),HLOOKUP(C1,VE!A1:P16,_xlfn.XMATCH(A2,VE!A1:A16),FALSE))) -> 42.97 | D2: =IF(HLOOKUP(D1,Histogram!A1:AM21,_xlfn.XMATCH(A2,Histogram!A1:A50),FALSE)="",HLOOKUP(D1,VE!A1:P16,_xlfn.XMATCH(A2,VE!A1:A16),FALSE),IF(OR(HLOOKUP(D1,Histogram!A1:AM21,_xlfn.XMATCH(A2,Histogram!A1:A50),FALSE)<H21,HLOOKUP(D1,Histogram!A1:AM21,_xlfn.XMATCH(A2,Histogram!A1:A50),FALSE)>J21),((HLOOKUP(D1,Histogram!A1:AM21,_xlfn.XMATCH(A2,Histogram!A1:A50),FALSE)-1)*(H22/100)+1)*HLOOKUP(D1,VE!A1:P16,_xlfn.XMATCH(A2,VE!A1:A16),FALSE),HLOOKUP(D1,VE!A1:P16,_xlfn.XMATCH(A2,VE!A1:A16),FALSE))) -> 46.87 | E2: =IF(HLOOKUP(E1,Histogram!A1:AM21,_xlfn.XMATCH(A2,Histogram!A1:A50),FALSE)="",HLOOKUP(E1,VE!A1:P16,_xlfn.XMATCH(A2,VE!A1:A16),FALSE),IF(OR(HLOOKUP(E1,Histogram!A1:AM21,_xlfn.XMATCH(A2,Histogram!A1:A50),FALSE)<H21,HLOOKUP(E1,Histogram!A1:AM21,_xlfn.XMATCH(A2,Histogram!A1:A50),FALSE)>J21),((HLOOKUP(E1,Histogram!A1:AM21,_xlfn.XMATCH(A2,Histogram!A1:A50),FALSE)-1)*(H22/100)+1)*HLOOKUP(E1,VE!A1:P16,_xlfn.XMATCH(A2,VE!A1:A16),FALSE),HLOOKUP(E1,VE!A1:P16,_xlfn.XMATCH(A2,VE!A1:A16),FALSE))) -> 53.12 | F2: =IF(HLOOKUP(F1,Histogram!A1:AM21,_xlfn.XMATCH(A2,Histogram!A1:A50),FALSE)="",HLOOKUP(F1,VE!A1:P16,_xlfn.XMATCH(A2,VE!A1:A16),FALSE),IF(OR(HLOOKUP(F1,Histogram!A1:AM21,_xlfn.XMATCH(A2,Histogram!A1:A50),FALSE)<H21,HLOOKUP(F1,Histogram!A1:AM21,_xlfn.XMATCH(A2,Histogram!A1:A50),FALSE)>J21),((HLOOKUP(F1,Histogram!A1:AM21,_xlfn.XMATCH(A2,Histogram!A1:A50),FALSE)-1)*(H22/100)+1)*HLOOKUP(F1,VE!A1:P16,_xlfn.XMATCH(A2,VE!A1:A16),FALSE),HLOOKUP(F1,VE!A1:P16,_xlfn.XMATCH(A2,VE!A1:A16),FALSE))) -> 50 | G2: =IF(HLOOKUP(G1,Histogram!A1:AM21,_xlfn.XMATCH(A2,Histogram!A1:A50),FALSE)="",HLOOKUP(G1,VE!A1:P16,_xlfn.XMATCH(A2,VE!A1:A16),FALSE),IF(OR(HLOOKUP(G1,Histogram!A1:AM21,_xlfn.XMATCH(A2,Histogram!A1:A50),FALSE)<H21,HLOOKUP(G1,Histogram!A1:AM21,_xlfn.XMATCH(A2,Histogram!A1:A50),FALSE)>J21),((HLOOKUP(G1,Histogram!A1:AM21,_xlfn.XMATCH(A2,Histogram!A1:A50),FALSE)-1)*(H22/100)+1)*HLOOKUP(G1,VE!A1:P16,_xlfn.XMATCH(A2,VE!A1:A16),FALSE),HLOOKUP(G1,VE!A1:P16,_xlfn.XMATCH(A2,VE!A1:A16),FALSE))) -> 49.22 | H2: =IF(HLOOKUP(H1,Histogram!A1:AM21,_xlfn.XMATCH(A2,Histogram!A1:A50),FALSE)="",HLOOKUP(H1,VE!A1:P16,_xlfn.XMATCH(A2,VE!A1:A16),FALSE),IF(OR(HLOOKUP(H1,Histogram!A1:AM21,_xlfn.XMATCH(A2,Histogram!A1:A50),FALSE)<H21,HLOOKUP(H1,Histogram!A1:AM21,_xlfn.XMATCH(A2,Histogram!A1:A50),FALSE)>J21),((HLOOKUP(H1,Histogram!A1:AM21,_xlfn.XMATCH(A2,Histogram!A1:A50),FALSE)-1)*(H22/100)+1)*HLOOKUP(H1,VE!A1:P16,_xlfn.XMATCH(A2,VE!A1:A16),FALSE),HLOOKUP(H1,VE!A1:P16,_xlfn.XMATCH(A2,VE!A1:A16),FALSE))) -> 50.78 | I2: =IF(HLOOKUP(I1,Histogram!A1:AM21,_xlfn.XMATCH(A2,Histogram!A1:A50),FALSE)="",HLOOKUP(I1,VE!A1:P16,_xlfn.XMATCH(A2,VE!A1:A16),FALSE),IF(OR(HLOOKUP(I1,Histogram!A1:AM21,_xlfn.XMATCH(A2,Histogram!A1:A50),FALSE)<H21,HLOOKUP(I1,Histogram!A1:AM21,_xlfn.XMATCH(A2,Histogram!A1:A50),FALSE)>J21),((HLOOKUP(I1,Histogram!A1:AM21,_xlfn.XMATCH(A2,Histogram!A1:A50),FALSE)-1)*(H22/100)+1)*HLOOKUP(I1,VE!A1:P16,_xlfn.XMATCH(A2,VE!A1:A16),FALSE),HLOOKUP(I1,VE!A1:P16,_xlfn.XMATCH(A2,VE!A1:A16),FALSE))) -> 47.66 | J2: =IF(HLOOKUP(J1,Histogram!A1:AM21,_xlfn.XMATCH(A2,Histogram!A1:A50),FALSE)="",HLOOKUP(J1,VE!A1:P16,_xlfn.XMATCH(A2,VE!A1:A16),FALSE),IF(OR(HLOOKUP(J1,Histogram!A1:AM21,_xlfn.XMATCH(A2,Histogram!A1:A50),FALSE)<H21,HLOOKUP(J1,Histogram!A1:AM21,_xlfn.XMATCH(A2,Histogram!A1:A50),FALSE)>J21),((HLOOKUP(J1,Histogram!A1:AM21,_xlfn.XMATCH(A2,Histogram!A1:A50),FALSE)-1)*(H22/100)+1)*HLOOKUP(J1,VE!A1:P16,_xlfn.XMATCH(A2,VE!A1:A16),FALSE),HLOOKUP(J1,VE!A1:P16,_xlfn.XMATCH(A2,VE!A1:A16),FALSE))) -> 47.66 | K2: =IF(HLOOKUP(K1,Histogram!A1:AM21,_xlfn.XMATCH(A2,Histogram!A1:A50),FALSE)="",HLOOKUP(K1,VE!A1:P16,_xlfn.XMATCH(A2,VE!A1:A16),FALSE),IF(OR(HLOOKUP(K1,Histogram!A1:AM21,_xlfn.XMATCH(A2,Histogram!A1:A50),FALSE)<H21,HLOOKUP(K1,Histogram!A1:AM21,_xlfn.XMATCH(A2,Histogram!A1:A50),FALSE)>J21),((HLOOKUP(K1,Histogram!A1:AM21,_xlfn.XMATCH(A2,Histogram!A1:A50),FALSE)-1)*(H22/100)+1)*HLOOKUP(K1,VE!A1:P16,_xlfn.XMATCH(A2,VE!A1:A16),FALSE),HLOOKUP(K1,VE!A1:P16,_xlfn.XMATCH(A2,VE!A1:A16),FALSE))) -> 50.78 | L2: =IF(HLOOKUP(L1,Histogram!A1:AM21,_xlfn.XMATCH(A2,Histogram!A1:A50),FALSE)="",HLOOKUP(L1,VE!A1:P16,_xlfn.XMATCH(A2,VE!A1:A16),FALSE),IF(OR(HLOOKUP(L1,Histogram!A1:AM21,_xlfn.XMATCH(A2,Histogram!A1:A50),FALSE)<H21,HLOOKUP(L1,Histogram!A1:AM21,_xlfn.XMATCH(A2,Histogram!A1:A50),FALSE)>J21),((HLOOKUP(L1,Histogram!A1:AM21,_xlfn.XMATCH(A2,Histogram!A1:A50),FALSE)-1)*(H22/100)+1)*HLOOKUP(L1,VE!A1:P16,_xlfn.XMATCH(A2,VE!A1:A16),FALSE),HLOOKUP(L1,VE!A1:P16,_xlfn.XMATCH(A2,VE!A1:A16),FALSE))) -> 49.22 | M2: =IF(HLOOKUP(M1,Histogram!A1:AM21,_xlfn.XMATCH(A2,Histogram!A1:A50),FALSE)="",HLOOKUP(M1,VE!A1:P16,_xlfn.XMATCH(A2,VE!A1:A16),FALSE),IF(OR(HLOOKUP(M1,Histogram!A1:AM21,_xlfn.XMATCH(A2,Histogram!A1:A50),FALSE)<H21,HLOOKUP(M1,Histogram!A1:AM21,_xlfn.XMATCH(A2,Histogram!A1:A50),FALSE)>J21),((HLOOKUP(M1,Histogram!A1:AM21,_xlfn.XMATCH(A2,Histogram!A1:A50),FALSE)-1)*(H22/100)+1)*HLOOKUP(M1,VE!A1:P16,_xlfn.XMATCH(A2,VE!A1:A16),FALSE),HLOOKUP(M1,VE!A1:P16,_xlfn.XMATCH(A2,VE!A1:A16),FALSE))) -> 49.22 | N2: =IF(HLOOKUP(N1,Histogram!A1:AM21,_xlfn.XMATCH(A2,Histogram!A1:A50),FALSE)="",HLOOKUP(N1,VE!A1:P16,_xlfn.XMATCH(A2,VE!A1:A16),FALSE),IF(OR(HLOOKUP(N1,Histogram!A1:AM21,_xlfn.XMATCH(A2,Histogram!A1:A50),FALSE)<H21,HLOOKUP(N1,Histogram!A1:AM21,_xlfn.XMATCH(A2,Histogram!A1:A50),FALSE)>J21),((HLOOKUP(N1,Histogram!A1:AM21,_xlfn.XMATCH(A2,Histogram!A1:A50),FALSE)-1)*(H22/100)+1)*HLOOKUP(N1,VE!A1:P16,_xlfn.XMATCH(A2,VE!A1:A16),FALSE),HLOOKUP(N1,VE!A1:P16,_xlfn.XMATCH(A2,VE!A1:A16),FALSE))) -> 49.22 | O2: =IF(HLOOKUP(O1,Histogram!A1:AM21,_xlfn.XMATCH(A2,Histogram!A1:A50),FALSE)="",HLOOKUP(O1,VE!A1:P16,_xlfn.XMATCH(A2,VE!A1:A16),FALSE),IF(OR(HLOOKUP(O1,Histogram!A1:AM21,_xlfn.XMATCH(A2,Histogram!A1:A50),FALSE)<H21,HLOOKUP(O1,Histogram!A1:AM21,_xlfn.XMATCH(A2,Histogram!A1:A50),FALSE)>J21),((HLOOKUP(O1,Histogram!A1:AM21,_xlfn.XMATCH(A2,Histogram!A1:A50),FALSE)-1)*(H22/100)+1)*HLOOKUP(O1,VE!A1:P16,_xlfn.XMATCH(A2,VE!A1:A16),FALSE),HLOOKUP(O1,VE!A1:P16,_xlfn.XMATCH(A2,VE!A1:A16),FALSE))) -> 49.22 | P2: =IF(HLOOKUP(P1,Histogram!A1:AM21,_xlfn.XMATCH(A2,Histogram!A1:A50),FALSE)="",HLOOKUP(P1,VE!A1:P16,_xlfn.XMATCH(A2,VE!A1:A16),FALSE),IF(OR(HLOOKUP(P1,Histogram!A1:AM21,_xlfn.XMATCH(A2,Histogram!A1:A50),FALSE)<H21,HLOOKUP(P1,Histogram!A1:AM21,_xlfn.XMATCH(A2,Histogram!A1:A50),FALSE)>J21),((HLOOKUP(P1,Histogram!A1:AM21,_xlfn.XMATCH(A2,Histogram!A1:A50),FALSE)-1)*(H22/100)+1)*HLOOKUP(P1,VE!A1:P16,_xlfn.XMATCH(A2,VE!A1:A16),FALSE),HLOOKUP(P1,VE!A1:P16,_xlfn.XMATCH(A2,VE!A1:A16),FALSE))) -> 49.22
A3: 0.35 | B3: =IF(HLOOKUP(B1,Histogram!A1:AM21,_xlfn.XMATCH(A3,Histogram!A1:A50),FALSE)="",HLOOKUP(B1,VE!A1:P16,_xlfn.XMATCH(A3,VE!A1:A16),FALSE),IF(OR(HLOOKUP(B1,Histogram!A1:AM21,_xlfn.XMATCH(A3,Histogram!A1:A50),FALSE)<H21,HLOOKUP(B1,Histogram!A1:AM21,_xlfn.XMATCH(A3,Histogram!A1:A50),FALSE)>J21),((HLOOKUP(B1,Histogram!A1:AM21,_xlfn.XMATCH(A3,Histogram!A1:A50),FALSE)-1)*(H22/100)+1)*HLOOKUP(B1,VE!A1:P16,_xlfn.XMATCH(A3,VE!A1:A16),FALSE),HLOOKUP(B1,VE!A1:P16,_xlfn.XMATCH(A3,VE!A1:A16),FALSE))) -> 42.97 | C3: =IF(HLOOKUP(C1,Histogram!A1:AM21,_xlfn.XMATCH(A3,Histogram!A1:A50),FALSE)="",HLOOKUP(C1,VE!A1:P16,_xlfn.XMATCH(A3,VE!A1:A16),FALSE),IF(OR(HLOOKUP(C1,Histogram!A1:AM21,_xlfn.XMATCH(A3,Histogram!A1:A50),FALSE)<H21,HLOOKUP(C1,Histogram!A1:AM21,_xlfn.XMATCH(A3,Histogram!A1:A50),FALSE)>J21),((HLOOKUP(C1,Histogram!A1:AM21,_xlfn.XMATCH(A3,Histogram!A1:A50),FALSE)-1)*(H22/100)+1)*HLOOKUP(C1,VE!A1:P16,_xlfn.XMATCH(A3,VE!A1:A16),FALSE),HLOOKUP(C1,VE!A1:P16,_xlfn.XMATCH(A3,VE!A1:A16),FALSE))) -> 45.31 | D3: =IF(HLOOKUP(D1,Histogram!A1:AM21,_xlfn.XMATCH(A3,Histogram!A1:A50),FALSE)="",HLOOKUP(D1,VE!A1:P16,_xlfn.XMATCH(A3,VE!A1:A16),FALSE),IF(OR(HLOOKUP(D1,Histogram!A1:AM21,_xlfn.XMATCH(A3,Histogram!A1:A50),FALSE)<H21,HLOOKUP(D1,Histogram!A1:AM21,_xlfn.XMATCH(A3,Histogram!A1:A50),FALSE)>J21),((HLOOKUP(D1,Histogram!A1:AM21,_xlfn.XMATCH(A3,Histogram!A1:A50),FALSE)-1)*(H22/100)+1)*HLOOKUP(D1,VE!A1:P16,_xlfn.XMATCH(A3,VE!A1:A16),FALSE),HLOOKUP(D1,VE!A1:P16,_xlfn.XMATCH(A3,VE!A1:A16),FALSE))) -> 51.56 | E3: =IF(HLOOKUP(E1,Histogram!A1:AM21,_xlfn.XMATCH(A3,Histogram!A1:A50),FALSE)="",HLOOKUP(E1,VE!A1:P16,_xlfn.XMATCH(A3,VE!A1:A16),FALSE),IF(OR(HLOOKUP(E1,Histogram!A1:AM21,_xlfn.XMATCH(A3,Histogram!A1:A50),FALSE)<H21,HLOOKUP(E1,Histogram!A1:AM21,_xlfn.XMATCH(A3,Histogram!A1:A50),FALSE)>J21),((HLOOKUP(E1,Histogram!A1:AM21,_xlfn.XMATCH(A3,Histogram!A1:A50),FALSE)-1)*(H22/100)+1)*HLOOKUP(E1,VE!A1:P16,_xlfn.XMATCH(A3,VE!A1:A16),FALSE),HLOOKUP(E1,VE!A1:P16,_xlfn.XMATCH(A3,VE!A1:A16),FALSE))) -> 61.72 | F3: =IF(HLOOKUP(F1,Histogram!A1:AM21,_xlfn.XMATCH(A3,Histogram!A1:A50),FALSE)="",HLOOKUP(F1,VE!A1:P16,_xlfn.XMATCH(A3,VE!A1:A16),FALSE),IF(OR(HLOOKUP(F1,Histogram!A1:AM21,_xlfn.XMATCH(A3,Histogram!A1:A50),FALSE)<H21,HLOOKUP(F1,Histogram!A1:AM21,_xlfn.XMATCH(A3,Histogram!A1:A50),FALSE)>J21),((HLOOKUP(F1,Histogram!A1:AM21,_xlfn.XMATCH(A3,Histogram!A1:A50),FALSE)-1)*(H22/100)+1)*HLOOKUP(F1,VE!A1:P16,_xlfn.XMATCH(A3,VE!A1:A16),FALSE),HLOOKUP(F1,VE!A1:P16,_xlfn.XMATCH(A3,VE!A1:A16),FALSE))) -> 54.69 | G3: =IF(HLOOKUP(G1,Histogram!A1:AM21,_xlfn.XMATCH(A3,Histogram!A1:A50),FALSE)="",HLOOKUP(G1,VE!A1:P16,_xlfn.XMATCH(A3,VE!A1:A16),FALSE),IF(OR(HLOOKUP(G1,Histogram!A1:AM21,_xlfn.XMATCH(A3,Histogram!A1:A50),FALSE)<H21,HLOOKUP(G1,Histogram!A1:AM21,_xlfn.XMATCH(A3,Histogram!A1:A50),FALSE)>J21),((HLOOKUP(G1,Histogram!A1:AM21,_xlfn.XMATCH(A3,Histogram!A1:A50),FALSE)-1)*(H22/100)+1)*HLOOKUP(G1,VE!A1:P16,_xlfn.XMATCH(A3,VE!A1:A16),FALSE),HLOOKUP(G1,VE!A1:P16,_xlfn.XMATCH(A3,VE!A1:A16),FALSE))) -> 70.80896 | H3: =IF(HLOOKUP(H1,Histogram!A1:AM21,_xlfn.XMATCH(A3,Histogram!A1:A50),FALSE)="",HLOOKUP(H1,VE!A1:P16,_xlfn.XMATCH(A3,VE!A1:A16),FALSE),IF(OR(HLOOKUP(H1,Histogram!A1:AM21,_xlfn.XMATCH(A3,Histogram!A1:A50),FALSE)<H21,HLOOKUP(H1,Histogram!A1:AM21,_xlfn.XMATCH(A3,Histogram!A1:A50),FALSE)>J21),((HLOOKUP(H1,Histogram!A1:AM21,_xlfn.XMATCH(A3,Histogram!A1:A50),FALSE)-1)*(H22/100)+1)*HLOOKUP(H1,VE!A1:P16,_xlfn.XMATCH(A3,VE!A1:A16),FALSE),HLOOKUP(H1,VE!A1:P16,_xlfn.XMATCH(A3,VE!A1:A16),FALSE))) -> 53.91 | I3: =IF(HLOOKUP(I1,Histogram!A1:AM21,_xlfn.XMATCH(A3,Histogram!A1:A50),FALSE)="",HLOOKUP(I1,VE!A1:P16,_xlfn.XMATCH(A3,VE!A1:A16),FALSE),IF(OR(HLOOKUP(I1,Histogram!A1:AM21,_xlfn.XMATCH(A3,Histogram!A1:A50),FALSE)<H21,HLOOKUP(I1,Histogram!A1:AM21,_xlfn.XMATCH(A3,Histogram!A1:A50),FALSE)>J21),((HLOOKUP(I1,Histogram!A1:AM21,_xlfn.XMATCH(A3,Histogram!A1:A50),FALSE)-1)*(H22/100)+1)*HLOOKUP(I1,VE!A1:P16,_xlfn.XMATCH(A3,VE!A1:A16),FALSE),HLOOKUP(I1,VE!A1:P16,_xlfn.XMATCH(A3,VE!A1:A16),FALSE))) -> 51.56 | J3: =IF(HLOOKUP(J1,Histogram!A1:AM21,_xlfn.XMATCH(A3,Histogram!A1:A50),FALSE)="",HLOOKUP(J1,VE!A1:P16,_xlfn.XMATCH(A3,VE!A1:A16),FALSE),IF(OR(HLOOKUP(J1,Histogram!A1:AM21,_xlfn.XMATCH(A3,Histogram!A1:A50),FALSE)<H21,HLOOKUP(J1,Histogram!A1:AM21,_xlfn.XMATCH(A3,Histogram!A1:A50),FALSE)>J21),((HLOOKUP(J1,Histogram!A1:AM21,_xlfn.XMATCH(A3,Histogram!A1:A50),FALSE)-1)*(H22/100)+1)*HLOOKUP(J1,VE!A1:P16,_xlfn.XMATCH(A3,VE!A1:A16),FALSE),HLOOKUP(J1,VE!A1:P16,_xlfn.XMATCH(A3,VE!A1:A16),FALSE))) -> 51.56 | K3: =IF(HLOOKUP(K1,Histogram!A1:AM21,_xlfn.XMATCH(A3,Histogram!A1:A50),FALSE)="",HLOOKUP(K1,VE!A1:P16,_xlfn.XMATCH(A3,VE!A1:A16),FALSE),IF(OR(HLOOKUP(K1,Histogram!A1:AM21,_xlfn.XMATCH(A3,Histogram!A1:A50),FALSE)<H21,HLOOKUP(K1,Histogram!A1:AM21,_xlfn.XMATCH(A3,Histogram!A1:A50),FALSE)>J21),((HLOOKUP(K1,Histogram!A1:AM21,_xlfn.XMATCH(A3,Histogram!A1:A50),FALSE)-1)*(H22/100)+1)*HLOOKUP(K1,VE!A1:P16,_xlfn.XMATCH(A3,VE!A1:A16),FALSE),HLOOKUP(K1,VE!A1:P16,_xlfn.XMATCH(A3,VE!A1:A16),FALSE))) -> 53.91 | L3: =IF(HLOOKUP(L1,Histogram!A1:AM21,_xlfn.XMATCH(A3,Histogram!A1:A50),FALSE)="",HLOOKUP(L1,VE!A1:P16,_xlfn.XMATCH(A3,VE!A1:A16),FALSE),IF(OR(HLOOKUP(L1,Histogram!A1:AM21,_xlfn.XMATCH(A3,Histogram!A1:A50),FALSE)<H21,HLOOKUP(L1,Histogram!A1:AM21,_xlfn.XMATCH(A3,Histogram!A1:A50),FALSE)>J21),((HLOOKUP(L1,Histogram!A1:AM21,_xlfn.XMATCH(A3,Histogram!A1:A50),FALSE)-1)*(H22/100)+1)*HLOOKUP(L1,VE!A1:P16,_xlfn.XMATCH(A3,VE!A1:A16),FALSE),HLOOKUP(L1,VE!A1:P16,_xlfn.XMATCH(A3,VE!A1:A16),FALSE))) -> 53.12 | M3: =IF(HLOOKUP(M1,Histogram!A1:AM21,_xlfn.XMATCH(A3,Histogram!A1:A50),FALSE)="",HLOOKUP(M1,VE!A1:P16,_xlfn.XMATCH(A3,VE!A1:A16),FALSE),IF(OR(HLOOKUP(M1,Histogram!A1:AM21,_xlfn.XMATCH(A3,Histogram!A1:A50),FALSE)<H21,HLOOKUP(M1,Histogram!A1:AM21,_xlfn.XMATCH(A3,Histogram!A1:A50),FALSE)>J21),((HLOOKUP(M1,Histogram!A1:AM21,_xlfn.XMATCH(A3,Histogram!A1:A50),FALSE)-1)*(H22/100)+1)*HLOOKUP(M1,VE!A1:P16,_xlfn.XMATCH(A3,VE!A1:A16),FALSE),HLOOKUP(M1,VE!A1:P16,_xlfn.XMATCH(A3,VE!A1:A16),FALSE))) -> 53.12 | N3: =IF(HLOOKUP(N1,Histogram!A1:AM21,_xlfn.XMATCH(A3,Histogram!A1:A50),FALSE)="",HLOOKUP(N1,VE!A1:P16,_xlfn.XMATCH(A3,VE!A1:A16),FALSE),IF(OR(HLOOKUP(N1,Histogram!A1:AM21,_xlfn.XMATCH(A3,Histogram!A1:A50),FALSE)<H21,HLOOKUP(N1,Histogram!A1:AM21,_xlfn.XMATCH(A3,Histogram!A1:A50),FALSE)>J21),((HLOOKUP(N1,Histogram!A1:AM21,_xlfn.XMATCH(A3,Histogram!A1:A50),FALSE)-1)*(H22/100)+1)*HLOOKUP(N1,VE!A1:P16,_xlfn.XMATCH(A3,VE!A1:A16),FALSE),HLOOKUP(N1,VE!A1:P16,_xlfn.XMATCH(A3,VE!A1:A16),FALSE))) -> 53.12 | O3: =IF(HLOOKUP(O1,Histogram!A1:AM21,_xlfn.XMATCH(A3,Histogram!A1:A50),FALSE)="",HLOOKUP(O1,VE!A1:P16,_xlfn.XMATCH(A3,VE!A1:A16),FALSE),IF(OR(HLOOKUP(O1,Histogram!A1:AM21,_xlfn.XMATCH(A3,Histogram!A1:A50),FALSE)<H21,HLOOKUP(O1,Histogram!A1:AM21,_xlfn.XMATCH(A3,Histogram!A1:A50),FALSE)>J21),((HLOOKUP(O1,Histogram!A1:AM21,_xlfn.XMATCH(A3,Histogram!A1:A50),FALSE)-1)*(H22/100)+1)*HLOOKUP(O1,VE!A1:P16,_xlfn.XMATCH(A3,VE!A1:A16),FALSE),HLOOKUP(O1,VE!A1:P16,_xlfn.XMATCH(A3,VE!A1:A16),FALSE))) -> 53.12 | P3: =IF(HLOOKUP(P1,Histogram!A1:AM21,_xlfn.XMATCH(A3,Histogram!A1:A50),FALSE)="",HLOOKUP(P1,VE!A1:P16,_xlfn.XMATCH(A3,VE!A1:A16),FALSE),IF(OR(HLOOKUP(P1,Histogram!A1:AM21,_xlfn.XMATCH(A3,Histogram!A1:A50),FALSE)<H21,HLOOKUP(P1,Histogram!A1:AM21,_xlfn.XMATCH(A3,Histogram!A1:A50),FALSE)>J21),((HLOOKUP(P1,Histogram!A1:AM21,_xlfn.XMATCH(A3,Histogram!A1:A50),FALSE)-1)*(H22/100)+1)*HLOOKUP(P1,VE!A1:P16,_xlfn.XMATCH(A3,VE!A1:A16),FALSE),HLOOKUP(P1,VE!A1:P16,_xlfn.XMATCH(A3,VE!A1:A16),FALSE))) -> 53.12
A4: 0.4 | B4: =IF(HLOOKUP(B1,Histogram!A1:AM21,_xlfn.XMATCH(A4,Histogram!A1:A50),FALSE)="",HLOOKUP(B1,VE!A1:P16,_xlfn.XMATCH(A4,VE!A1:A16),FALSE),IF(OR(HLOOKUP(B1,Histogram!A1:AM21,_xlfn.XMATCH(A4,Histogram!A1:A50),FALSE)<H21,HLOOKUP(B1,Histogram!A1:AM21,_xlfn.XMATCH(A4,Histogram!A1:A50),FALSE)>J21),((HLOOKUP(B1,Histogram!A1:AM21,_xlfn.XMATCH(A4,Histogram!A1:A50),FALSE)-1)*(H22/100)+1)*HLOOKUP(B1,VE!A1:P16,_xlfn.XMATCH(A4,VE!A1:A16),FALSE),HLOOKUP(B1,VE!A1:P16,_xlfn.XMATCH(A4,VE!A1:A16),FALSE))) -> 38.28 | C4: =IF(HLOOKUP(C1,Histogram!A1:AM21,_xlfn.XMATCH(A4,Histogram!A1:A50),FALSE)="",HLOOKUP(C1,VE!A1:P16,_xlfn.XMATCH(A4,VE!A1:A16),FALSE),IF(OR(HLOOKUP(C1,Histogram!A1:AM21,_xlfn.XMATCH(A4,Histogram!A1:A50),FALSE)<H21,HLOOKUP(C1,Histogram!A1:AM21,_xlfn.XMATCH(A4,Histogram!A1:A50),FALSE)>J21),((HLOOKUP(C1,Histogram!A1:AM21,_xlfn.XMATCH(A4,Histogram!A1:A50),FALSE)-1)*(H22/100)+1)*HLOOKUP(C1,VE!A1:P16,_xlfn.XMATCH(A4,VE!A1:A16),FALSE),HLOOKUP(C1,VE!A1:P16,_xlfn.XMATCH(A4,VE!A1:A16),FALSE))) -> 39.84 | D4: =IF(HLOOKUP(D1,Histogram!A1:AM21,_xlfn.XMATCH(A4,Histogram!A1:A50),FALSE)="",HLOOKUP(D1,VE!A1:P16,_xlfn.XMATCH(A4,VE!A1:A16),FALSE),IF(OR(HLOOKUP(D1,Histogram!A1:AM21,_xlfn.XMATCH(A4,Histogram!A1:A50),FALSE)<H21,HLOOKUP(D1,Histogram!A1:AM21,_xlfn.XMATCH(A4,Histogram!A1:A50),FALSE)>J21),((HLOOKUP(D1,Histogram!A1:AM21,_xlfn.XMATCH(A4,Histogram!A1:A50),FALSE)-1)*(H22/100)+1)*HLOOKUP(D1,VE!A1:P16,_xlfn.XMATCH(A4,VE!A1:A16),FALSE),HLOOKUP(D1,VE!A1:P16,_xlfn.XMATCH(A4,VE!A1:A16),FALSE))) -> 59.37 | E4: =IF(HLOOKUP(E1,Histogram!A1:AM21,_xlfn.XMATCH(A4,Histogram!A1:A50),FALSE)="",HLOOKUP(E1,VE!A1:P16,_xlfn.XMATCH(A4,VE!A1:A16),FALSE),IF(OR(HLOOKUP(E1,Histogram!A1:AM21,_xlfn.XMATCH(A4,Histogram!A1:A50),FALSE)<H21,HLOOKUP(E1,Histogram!A1:AM21,_xlfn.XMATCH(A4,Histogram!A1:A50),FALSE)>J21),((HLOOKUP(E1,Histogram!A1:AM21,_xlfn.XMATCH(A4,Histogram!A1:A50),FALSE)-1)*(H22/100)+1)*HLOOKUP(E1,VE!A1:P16,_xlfn.XMATCH(A4,VE!A1:A16),FALSE),HLOOKUP(E1,VE!A1:P16,_xlfn.XMATCH(A4,VE!A1:A16),FALSE))) -> 61.63472 | F4: =IF(HLOOKUP(F1,Histogram!A1:AM21,_xlfn.XMATCH(A4,Histogram!A1:A50),FALSE)="",HLOOKUP(F1,VE!A1:P16,_xlfn.XMATCH(A4,VE!A1:A16),FALSE),IF(OR(HLOOKUP(F1,Histogram!A1:AM21,_xlfn.XMATCH(A4,Histogram!A1:A50),FALSE)<H21,HLOOKUP(F1,Histogram!A1:AM21,_xlfn.XMATCH(A4,Histogram!A1:A50),FALSE)>J21),((HLOOKUP(F1,Histogram!A1:AM21,_xlfn.XMATCH(A4,Histogram!A1:A50),FALSE)-1)*(H22/100)+1)*HLOOKUP(F1,VE!A1:P16,_xlfn.XMATCH(A4,VE!A1:A16),FALSE),HLOOKUP(F1,VE!A1:P16,_xlfn.XMATCH(A4,VE!A1:A16),FALSE))) -> 66.41 | G4: =IF(HLOOKUP(G1,Histogram!A1:AM21,_xlfn.XMATCH(A4,Histogram!A1:A50),FALSE)="",HLOOKUP(G1,VE!A1:P16,_xlfn.XMATCH(A4,VE!A1:A16),FALSE),IF(OR(HLOOKUP(G1,Histogram!A1:AM21,_xlfn.XMATCH(A4,Histogram!A1:A50),FALSE)<H21,HLOOKUP(G1,Histogram!A1:AM21,_xlfn.XMATCH(A4,Histogram!A1:A50),FALSE)>J21),((HLOOKUP(G1,Histogram!A1:AM21,_xlfn.XMATCH(A4,Histogram!A1:A50),FALSE)-1)*(H22/100)+1)*HLOOKUP(G1,VE!A1:P16,_xlfn.XMATCH(A4,VE!A1:A16),FALSE),HLOOKUP(G1,VE!A1:P16,_xlfn.XMATCH(A4,VE!A1:A16),FALSE))) -> 85.39198 | H4: =IF(HLOOKUP(H1,Histogram!A1:AM21,_xlfn.XMATCH(A4,Histogram!A1:A50),FALSE)="",HLOOKUP(H1,VE!A1:P16,_xlfn.XMATCH(A4,VE!A1:A16),FALSE),IF(OR(HLOOKUP(H1,Histogram!A1:AM21,_xlfn.XMATCH(A4,Histogram!A1:A50),FALSE)<H21,HLOOKUP(H1,Histogram!A1:AM21,_xlfn.XMATCH(A4,Histogram!A1:A50),FALSE)>J21),((HLOOKUP(H1,Histogram!A1:AM21,_xlfn.XMATCH(A4,Histogram!A1:A50),FALSE)-1)*(H22/100)+1)*HLOOKUP(H1,VE!A1:P16,_xlfn.XMATCH(A4,VE!A1:A16),FALSE),HLOOKUP(H1,VE!A1:P16,_xlfn.XMATCH(A4,VE!A1:A16),FALSE))) -> 61.72 | I4: =IF(HLOOKUP(I1,Histogram!A1:AM21,_xlfn.XMATCH(A4,Histogram!A1:A50),FALSE)="",HLOOKUP(I1,VE!A1:P16,_xlfn.XMATCH(A4,VE!A1:A16),FALSE),IF(OR(HLOOKUP(I1,Histogram!A1:AM21,_xlfn.XMATCH(A4,Histogram!A1:A50),FALSE)<H21,HLOOKUP(I1,Histogram!A1:AM21,_xlfn.XMATCH(A4,Histogram!A1:A50),FALSE)>J21),((HLOOKUP(I1,Histogram!A1:AM21,_xlfn.XMATCH(A4,Histogram!A1:A50),FALSE)-1)*(H22/100)+1)*HLOOKUP(I1,VE!A1:P16,_xlfn.XMATCH(A4,VE!A1:A16),FALSE),HLOOKUP(I1,VE!A1:P16,_xlfn.XMATCH(A4,VE!A1:A16),FALSE))) -> 59.37 | J4: =IF(HLOOKUP(J1,Histogram!A1:AM21,_xlfn.XMATCH(A4,Histogram!A1:A50),FALSE)="",HLOOKUP(J1,VE!A1:P16,_xlfn.XMATCH(A4,VE!A1:A16),FALSE),IF(OR(HLOOKUP(J1,Histogram!A1:AM21,_xlfn.XMATCH(A4,Histogram!A1:A50),FALSE)<H21,HLOOKUP(J1,Histogram!A1:AM21,_xlfn.XMATCH(A4,Histogram!A1:A50),FALSE)>J21),((HLOOKUP(J1,Histogram!A1:AM21,_xlfn.XMATCH(A4,Histogram!A1:A50),FALSE)-1)*(H22/100)+1)*HLOOKUP(J1,VE!A1:P16,_xlfn.XMATCH(A4,VE!A1:A16),FALSE),HLOOKUP(J1,VE!A1:P16,_xlfn.XMATCH(A4,VE!A1:A16),FALSE))) -> 55.47 | K4: =IF(HLOOKUP(K1,Histogram!A1:AM21,_xlfn.XMATCH(A4,Histogram!A1:A50),FALSE)="",HLOOKUP(K1,VE!A1:P16,_xlfn.XMATCH(A4,VE!A1:A16),FALSE),IF(OR(HLOOKUP(K1,Histogram!A1:AM21,_xlfn.XMATCH(A4,Histogram!A1:A50),FALSE)<H21,HLOOKUP(K1,Histogram!A1:AM21,_xlfn.XMATCH(A4,Histogram!A1:A50),FALSE)>J21),((HLOOKUP(K1,Histogram!A1:AM21,_xlfn.XMATCH(A4,Histogram!A1:A50),FALSE)-1)*(H22/100)+1)*HLOOKUP(K1,VE!A1:P16,_xlfn.XMATCH(A4,VE!A1:A16),FALSE),HLOOKUP(K1,VE!A1:P16,_xlfn.XMATCH(A4,VE!A1:A16),FALSE))) -> 57.81 | L4: =IF(HLOOKUP(L1,Histogram!A1:AM21,_xlfn.XMATCH(A4,Histogram!A1:A50),FALSE)="",HLOOKUP(L1,VE!A1:P16,_xlfn.XMATCH(A4,VE!A1:A16),FALSE),IF(OR(HLOOKUP(L1,Histogram!A1:AM21,_xlfn.XMATCH(A4,Histogram!A1:A50),FALSE)<H21,HLOOKUP(L1,Histogram!A1:AM21,_xlfn.XMATCH(A4,Histogram!A1:A50),FALSE)>J21),((HLOOKUP(L1,Histogram!A1:AM21,_xlfn.XMATCH(A4,Histogram!A1:A50),FALSE)-1)*(H22/100)+1)*HLOOKUP(L1,VE!A1:P16,_xlfn.XMATCH(A4,VE!A1:A16),FALSE),HLOOKUP(L1,VE!A1:P16,_xlfn.XMATCH(A4,VE!A1:A16),FALSE))) -> 57.03 | M4: =IF(HLOOKUP(M1,Histogram!A1:AM21,_xlfn.XMATCH(A4,Histogram!A1:A50),FALSE)="",HLOOKUP(M1,VE!A1:P16,_xlfn.XMATCH(A4,VE!A1:A16),FALSE),IF(OR(HLOOKUP(M1,Histogram!A1:AM21,_xlfn.XMATCH(A4,Histogram!A1:A50),FALSE)<H21,HLOOKUP(M1,Histogram!A1:AM21,_xlfn.XMATCH(A4,Histogram!A1:A50),FALSE)>J21),((HLOOKUP(M1,Histogram!A1:AM21,_xlfn.XMATCH(A4,Histogram!A1:A50),FALSE)-1)*(H22/100)+1)*HLOOKUP(M1,VE!A1:P16,_xlfn.XMATCH(A4,VE!A1:A16),FALSE),HLOOKUP(M1,VE!A1:P16,_xlfn.XMATCH(A4,VE!A1:A16),FALSE))) -> 57.03 | N4: =IF(HLOOKUP(N1,Histogram!A1:AM21,_xlfn.XMATCH(A4,Histogram!A1:A50),FALSE)="",HLOOKUP(N1,VE!A1:P16,_xlfn.XMATCH(A4,VE!A1:A16),FALSE),IF(OR(HLOOKUP(N1,Histogram!A1:AM21,_xlfn.XMATCH(A4,Histogram!A1:A50),FALSE)<H21,HLOOKUP(N1,Histogram!A1:AM21,_xlfn.XMATCH(A4,Histogram!A1:A50),FALSE)>J21),((HLOOKUP(N1,Histogram!A1:AM21,_xlfn.XMATCH(A4,Histogram!A1:A50),FALSE)-1)*(H22/100)+1)*HLOOKUP(N1,VE!A1:P16,_xlfn.XMATCH(A4,VE!A1:A16),FALSE),HLOOKUP(N1,VE!A1:P16,_xlfn.XMATCH(A4,VE!A1:A16),FALSE))) -> 57.03 | O4: =IF(HLOOKUP(O1,Histogram!A1:AM21,_xlfn.XMATCH(A4,Histogram!A1:A50),FALSE)="",HLOOKUP(O1,VE!A1:P16,_xlfn.XMATCH(A4,VE!A1:A16),FALSE),IF(OR(HLOOKUP(O1,Histogram!A1:AM21,_xlfn.XMATCH(A4,Histogram!A1:A50),FALSE)<H21,HLOOKUP(O1,Histogram!A1:AM21,_xlfn.XMATCH(A4,Histogram!A1:A50),FALSE)>J21),((HLOOKUP(O1,Histogram!A1:AM21,_xlfn.XMATCH(A4,Histogram!A1:A50),FALSE)-1)*(H22/100)+1)*HLOOKUP(O1,VE!A1:P16,_xlfn.XMATCH(A4,VE!A1:A16),FALSE),HLOOKUP(O1,VE!A1:P16,_xlfn.XMATCH(A4,VE!A1:A16),FALSE))) -> 57.03 | P4: =IF(HLOOKUP(P1,Histogram!A1:AM21,_xlfn.XMATCH(A4,Histogram!A1:A50),FALSE)="",HLOOKUP(P1,VE!A1:P16,_xlfn.XMATCH(A4,VE!A1:A16),FALSE),IF(OR(HLOOKUP(P1,Histogram!A1:AM21,_xlfn.XMATCH(A4,Histogram!A1:A50),FALSE)<H21,HLOOKUP(P1,Histogram!A1:AM21,_xlfn.XMATCH(A4,Histogram!A1:A50),FALSE)>J21),((HLOOKUP(P1,Histogram!A1:AM21,_xlfn.XMATCH(A4,Histogram!A1:A50),FALSE)-1)*(H22/100)+1)*HLOOKUP(P1,VE!A1:P16,_xlfn.XMATCH(A4,VE!A1:A16),FALSE),HLOOKUP(P1,VE!A1:P16,_xlfn.XMATCH(A4,VE!A1:A16),FALSE))) -> 57.03
A5: 0.45 | B5: =IF(HLOOKUP(B1,Histogram!A1:AM21,_xlfn.XMATCH(A5,Histogram!A1:A50),FALSE)="",HLOOKUP(B1,VE!A1:P16,_xlfn.XMATCH(A5,VE!A1:A16),FALSE),IF(OR(HLOOKUP(B1,Histogram!A1:AM21,_xlfn.XMATCH(A5,Histogram!A1:A50),FALSE)<H21,HLOOKUP(B1,Histogram!A1:AM21,_xlfn.XMATCH(A5,Histogram!A1:A50),FALSE)>J21),((HLOOKUP(B1,Histogram!A1:AM21,_xlfn.XMATCH(A5,Histogram!A1:A50),FALSE)-1)*(H22/100)+1)*HLOOKUP(B1,VE!A1:P16,_xlfn.XMATCH(A5,VE!A1:A16),FALSE),HLOOKUP(B1,VE!A1:P16,_xlfn.XMATCH(A5,VE!A1:A16),FALSE))) -> 38.28 | C5: =IF(HLOOKUP(C1,Histogram!A1:AM21,_xlfn.XMATCH(A5,Histogram!A1:A50),FALSE)="",HLOOKUP(C1,VE!A1:P16,_xlfn.XMATCH(A5,VE!A1:A16),FALSE),IF(OR(HLOOKUP(C1,Histogram!A1:AM21,_xlfn.XMATCH(A5,Histogram!A1:A50),FALSE)<H21,HLOOKUP(C1,Histogram!A1:AM21,_xlfn.XMATCH(A5,Histogram!A1:A50),FALSE)>J21),((HLOOKUP(C1,Histogram!A1:AM21,_xlfn.XMATCH(A5,Histogram!A1:A50),FALSE)-1)*(H22/100)+1)*HLOOKUP(C1,VE!A1:P16,_xlfn.XMATCH(A5,VE!A1:A16),FALSE),HLOOKUP(C1,VE!A1:P16,_xlfn.XMATCH(A5,VE!A1:A16),FALSE))) -> 39.84 | D5: =IF(HLOOKUP(D1,Histogram!A1:AM21,_xlfn.XMATCH(A5,Histogram!A1:A50),FALSE)="",HLOOKUP(D1,VE!A1:P16,_xlfn.XMATCH(A5,VE!A1:A16),FALSE),IF(OR(HLOOKUP(D1,Histogram!A1:AM21,_xlfn.XMATCH(A5,Histogram!A1:A50),FALSE)<H21,HLOOKUP(D1,Histogram!A1:AM21,_xlfn.XMATCH(A5,Histogram!A1:A50),FALSE)>J21),((HLOOKUP(D1,Histogram!A1:AM21,_xlfn.XMATCH(A5,Histogram!A1:A50),FALSE)-1)*(H22/100)+1)*HLOOKUP(D1,VE!A1:P16,_xlfn.XMATCH(A5,VE!A1:A16),FALSE),HLOOKUP(D1,VE!A1:P16,_xlfn.XMATCH(A5,VE!A1:A16),FALSE))) -> 61.72 | E5: =IF(HLOOKUP(E1,Histogram!A1:AM21,_xlfn.XMATCH(A5,Histogram!A1:A50),FALSE)="",HLOOKUP(E1,VE!A1:P16,_xlfn.XMATCH(A5,VE!A1:A16),FALSE),IF(OR(HLOOKUP(E1,Histogram!A1:AM21,_xlfn.XMATCH(A5,Histogram!A1:A50),FALSE)<H21,HLOOKUP(E1,Histogram!A1:AM21,_xlfn.XMATCH(A5,Histogram!A1:A50),FALSE)>J21),((HLOOKUP(E1,Histogram!A1:AM21,_xlfn.XMATCH(A5,Histogram!A1:A50),FALSE)-1)*(H22/100)+1)*HLOOKUP(E1,VE!A1:P16,_xlfn.XMATCH(A5,VE!A1:A16),FALSE),HLOOKUP(E1,VE!A1:P16,_xlfn.XMATCH(A5,VE!A1:A16),FALSE))) -> 65.48026 | F5: =IF(HLOOKUP(F1,Histogram!A1:AM21,_xlfn.XMATCH(A5,Histogram!A1:A50),FALSE)="",HLOOKUP(F1,VE!A1:P16,_xlfn.XMATCH(A5,VE!A1:A16),FALSE),IF(OR(HLOOKUP(F1,Histogram!A1:AM21,_xlfn.XMATCH(A5,Histogram!A1:A50),FALSE)<H21,HLOOKUP(F1,Histogram!A1:AM21,_xlfn.XMATCH(A5,Histogram!A1:A50),FALSE)>J21),((HLOOKUP(F1,Histogram!A1:AM21,_xlfn.XMATCH(A5,Histogram!A1:A50),FALSE)-1)*(H22/100)+1)*HLOOKUP(F1,VE!A1:P16,_xlfn.XMATCH(A5,VE!A1:A16),FALSE),HLOOKUP(F1,VE!A1:P16,_xlfn.XMATCH(A5,VE!A1:A16),FALSE))) -> 71.09 | G5: =IF(HLOOKUP(G1,Histogram!A1:AM21,_xlfn.XMATCH(A5,Histogram!A1:A50),FALSE)="",HLOOKUP(G1,VE!A1:P16,_xlfn.XMATCH(A5,VE!A1:A16),FALSE),IF(OR(HLOOKUP(G1,Histogram!A1:AM21,_xlfn.XMATCH(A5,Histogram!A1:A50),FALSE)<H21,HLOOKUP(G1,Histogram!A1:AM21,_xlfn.XMATCH(A5,Histogram!A1:A50),FALSE)>J21),((HLOOKUP(G1,Histogram!A1:AM21,_xlfn.XMATCH(A5,Histogram!A1:A50),FALSE)-1)*(H22/100)+1)*HLOOKUP(G1,VE!A1:P16,_xlfn.XMATCH(A5,VE!A1:A16),FALSE),HLOOKUP(G1,VE!A1:P16,_xlfn.XMATCH(A5,VE!A1:A16),FALSE))) -> 69.53 | H5: =IF(HLOOKUP(H1,Histogram!A1:AM21,_xlfn.XMATCH(A5,Histogram!A1:A50),FALSE)="",HLOOKUP(H1,VE!A1:P16,_xlfn.XMATCH(A5,VE!A1:A16),FALSE),IF(OR(HLOOKUP(H1,Histogram!A1:AM21,_xlfn.XMATCH(A5,Histogram!A1:A50),FALSE)<H21,HLOOKUP(H1,Histogram!A1:AM21,_xlfn.XMATCH(A5,Histogram!A1:A50),FALSE)>J21),((HLOOKUP(H1,Histogram!A1:AM21,_xlfn.XMATCH(A5,Histogram!A1:A50),FALSE)-1)*(H22/100)+1)*HLOOKUP(H1,VE!A1:P16,_xlfn.XMATCH(A5,VE!A1:A16),FALSE),HLOOKUP(H1,VE!A1:P16,_xlfn.XMATCH(A5,VE!A1:A16),FALSE))) -> 64.06 | I5: =IF(HLOOKUP(I1,Histogram!A1:AM21,_xlfn.XMATCH(A5,Histogram!A1:A50),FALSE)="",HLOOKUP(I1,VE!A1:P16,_xlfn.XMATCH(A5,VE!A1:A16),FALSE),IF(OR(HLOOKUP(I1,Histogram!A1:AM21,_xlfn.XMATCH(A5,Histogram!A1:A50),FALSE)<H21,HLOOKUP(I1,Histogram!A1:AM21,_xlfn.XMATCH(A5,Histogram!A1:A50),FALSE)>J21),((HLOOKUP(I1,Histogram!A1:AM21,_xlfn.XMATCH(A5,Histogram!A1:A50),FALSE)-1)*(H22/100)+1)*HLOOKUP(I1,VE!A1:P16,_xlfn.XMATCH(A5,VE!A1:A16),FALSE),HLOOKUP(I1,VE!A1:P16,_xlfn.XMATCH(A5,VE!A1:A16),FALSE))) -> 61.72 | J5: =IF(HLOOKUP(J1,Histogram!A1:AM21,_xlfn.XMATCH(A5,Histogram!A1:A50),FALSE)="",HLOOKUP(J1,VE!A1:P16,_xlfn.XMATCH(A5,VE!A1:A16),FALSE),IF(OR(HLOOKUP(J1,Histogram!A1:AM21,_xlfn.XMATCH(A5,Histogram!A1:A50),FALSE)<H21,HLOOKUP(J1,Histogram!A1:AM21,_xlfn.XMATCH(A5,Histogram!A1:A50),FALSE)>J21),((HLOOKUP(J1,Histogram!A1:AM21,_xlfn.XMATCH(A5,Histogram!A1:A50),FALSE)-1)*(H22/100)+1)*HLOOKUP(J1,VE!A1:P16,_xlfn.XMATCH(A5,VE!A1:A16),FALSE),HLOOKUP(J1,VE!A1:P16,_xlfn.XMATCH(A5,VE!A1:A16),FALSE))) -> 61.72 | K5: =IF(HLOOKUP(K1,Histogram!A1:AM21,_xlfn.XMATCH(A5,Histogram!A1:A50),FALSE)="",HLOOKUP(K1,VE!A1:P16,_xlfn.XMATCH(A5,VE!A1:A16),FALSE),IF(OR(HLOOKUP(K1,Histogram!A1:AM21,_xlfn.XMATCH(A5,Histogram!A1:A50),FALSE)<H21,HLOOKUP(K1,Histogram!A1:AM21,_xlfn.XMATCH(A5,Histogram!A1:A50),FALSE)>J21),((HLOOKUP(K1,Histogram!A1:AM21,_xlfn.XMATCH(A5,Histogram!A1:A50),FALSE)-1)*(H22/100)+1)*HLOOKUP(K1,VE!A1:P16,_xlfn.XMATCH(A5,VE!A1:A16),FALSE),HLOOKUP(K1,VE!A1:P16,_xlfn.XMATCH(A5,VE!A1:A16),FALSE))) -> 64.06 | L5: =IF(HLOOKUP(L1,Histogram!A1:AM21,_xlfn.XMATCH(A5,Histogram!A1:A50),FALSE)="",HLOOKUP(L1,VE!A1:P16,_xlfn.XMATCH(A5,VE!A1:A16),FALSE),IF(OR(HLOOKUP(L1,Histogram!A1:AM21,_xlfn.XMATCH(A5,Histogram!A1:A50),FALSE)<H21,HLOOKUP(L1,Histogram!A1:AM21,_xlfn.XMATCH(A5,Histogram!A1:A50),FALSE)>J21),((HLOOKUP(L1,Histogram!A1:AM21,_xlfn.XMATCH(A5,Histogram!A1:A50),FALSE)-1)*(H22/100)+1)*HLOOKUP(L1,VE!A1:P16,_xlfn.XMATCH(A5,VE!A1:A16),FALSE),HLOOKUP(L1,VE!A1:P16,_xlfn.XMATCH(A5,VE!A1:A16),FALSE))) -> 63.28 | M5: =IF(HLOOKUP(M1,Histogram!A1:AM21,_xlfn.XMATCH(A5,Histogram!A1:A50),FALSE)="",HLOOKUP(M1,VE!A1:P16,_xlfn.XMATCH(A5,VE!A1:A16),FALSE),IF(OR(HLOOKUP(M1,Histogram!A1:AM21,_xlfn.XMATCH(A5,Histogram!A1:A50),FALSE)<H21,HLOOKUP(M1,Histogram!A1:AM21,_xlfn.XMATCH(A5,Histogram!A1:A50),FALSE)>J21),((HLOOKUP(M1,Histogram!A1:AM21,_xlfn.XMATCH(A5,Histogram!A1:A50),FALSE)-1)*(H22/100)+1)*HLOOKUP(M1,VE!A1:P16,_xlfn.XMATCH(A5,VE!A1:A16),FALSE),HLOOKUP(M1,VE!A1:P16,_xlfn.XMATCH(A5,VE!A1:A16),FALSE))) -> 63.28 | N5: =IF(HLOOKUP(N1,Histogram!A1:AM21,_xlfn.XMATCH(A5,Histogram!A1:A50),FALSE)="",HLOOKUP(N1,VE!A1:P16,_xlfn.XMATCH(A5,VE!A1:A16),FALSE),IF(OR(HLOOKUP(N1,Histogram!A1:AM21,_xlfn.XMATCH(A5,Histogram!A1:A50),FALSE)<H21,HLOOKUP(N1,Histogram!A1:AM21,_xlfn.XMATCH(A5,Histogram!A1:A50),FALSE)>J21),((HLOOKUP(N1,Histogram!A1:AM21,_xlfn.XMATCH(A5,Histogram!A1:A50),FALSE)-1)*(H22/100)+1)*HLOOKUP(N1,VE!A1:P16,_xlfn.XMATCH(A5,VE!A1:A16),FALSE),HLOOKUP(N1,VE!A1:P16,_xlfn.XMATCH(A5,VE!A1:A16),FALSE))) -> 63.28 | O5: =IF(HLOOKUP(O1,Histogram!A1:AM21,_xlfn.XMATCH(A5,Histogram!A1:A50),FALSE)="",HLOOKUP(O1,VE!A1:P16,_xlfn.XMATCH(A5,VE!A1:A16),FALSE),IF(OR(HLOOKUP(O1,Histogram!A1:AM21,_xlfn.XMATCH(A5,Histogram!A1:A50),FALSE)<H21,HLOOKUP(O1,Histogram!A1:AM21,_xlfn.XMATCH(A5,Histogram!A1:A50),FALSE)>J21),((HLOOKUP(O1,Histogram!A1:AM21,_xlfn.XMATCH(A5,Histogram!A1:A50),FALSE)-1)*(H22/100)+1)*HLOOKUP(O1,VE!A1:P16,_xlfn.XMATCH(A5,VE!A1:A16),FALSE),HLOOKUP(O1,VE!A1:P16,_xlfn.XMATCH(A5,VE!A1:A16),FALSE))) -> 63.28 | P5: =IF(HLOOKUP(P1,Histogram!A1:AM21,_xlfn.XMATCH(A5,Histogram!A1:A50),FALSE)="",HLOOKUP(P1,VE!A1:P16,_xlfn.XMATCH(A5,VE!A1:A16),FALSE),IF(OR(HLOOKUP(P1,Histogram!A1:AM21,_xlfn.XMATCH(A5,Histogram!A1:A50),FALSE)<H21,HLOOKUP(P1,Histogram!A1:AM21,_xlfn.XMATCH(A5,Histogram!A1:A50),FALSE)>J21),((HLOOKUP(P1,Histogram!A1:AM21,_xlfn.XMATCH(A5,Histogram!A1:A50),FALSE)-1)*(H22/100)+1)*HLOOKUP(P1,VE!A1:P16,_xlfn.XMATCH(A5,VE!A1:A16),FALSE),HLOOKUP(P1,VE!A1:P16,_xlfn.XMATCH(A5,VE!A1:A16),FALSE))) -> 63.28
A6: 0.5 | B6: =IF(HLOOKUP(B1,Histogram!A1:AM21,_xlfn.XMATCH(A6,Histogram!A1:A50),FALSE)="",HLOOKUP(B1,VE!A1:P16,_xlfn.XMATCH(A6,VE!A1:A16),FALSE),IF(OR(HLOOKUP(B1,Histogram!A1:AM21,_xlfn.XMATCH(A6,Histogram!A1:A50),FALSE)<H21,HLOOKUP(B1,Histogram!A1:AM21,_xlfn.XMATCH(A6,Histogram!A1:A50),FALSE)>J21),((HLOOKUP(B1,Histogram!A1:AM21,_xlfn.XMATCH(A6,Histogram!A1:A50),FALSE)-1)*(H22/100)+1)*HLOOKUP(B1,VE!A1:P16,_xlfn.XMATCH(A6,VE!A1:A16),FALSE),HLOOKUP(B1,VE!A1:P16,_xlfn.XMATCH(A6,VE!A1:A16),FALSE))) -> 60.94 | C6: =IF(HLOOKUP(C1,Histogram!A1:AM21,_xlfn.XMATCH(A6,Histogram!A1:A50),FALSE)="",HLOOKUP(C1,VE!A1:P16,_xlfn.XMATCH(A6,VE!A1:A16),FALSE),IF(OR(HLOOKUP(C1,Histogram!A1:AM21,_xlfn.XMATCH(A6,Histogram!A1:A50),FALSE)<H21,HLOOKUP(C1,Histogram!A1:AM21,_xlfn.XMATCH(A6,Histogram!A1:A50),FALSE)>J21),((HLOOKUP(C1,Histogram!A1:AM21,_xlfn.XMATCH(A6,Histogram!A1:A50),FALSE)-1)*(H22/100)+1)*HLOOKUP(C1,VE!A1:P16,_xlfn.XMATCH(A6,VE!A1:A16),FALSE),HLOOKUP(C1,VE!A1:P16,_xlfn.XMATCH(A6,VE!A1:A16),FALSE))) -> 58 | D6: =IF(HLOOKUP(D1,Histogram!A1:AM21,_xlfn.XMATCH(A6,Histogram!A1:A50),FALSE)="",HLOOKUP(D1,VE!A1:P16,_xlfn.XMATCH(A6,VE!A1:A16),FALSE),IF(OR(HLOOKUP(D1,Histogram!A1:AM21,_xlfn.XMATCH(A6,Histogram!A1:A50),FALSE)<H21,HLOOKUP(D1,Histogram!A1:AM21,_xlfn.XMATCH(A6,Histogram!A1:A50),FALSE)>J21),((HLOOKUP(D1,Histogram!A1:AM21,_xlfn.XMATCH(A6,Histogram!A1:A50),FALSE)-1)*(H22/100)+1)*HLOOKUP(D1,VE!A1:P16,_xlfn.XMATCH(A6,VE!A1:A16),FALSE),HLOOKUP(D1,VE!A1:P16,_xlfn.XMATCH(A6,VE!A1:A16),FALSE))) -> 61.34968 | E6: =IF(HLOOKUP(E1,Histogram!A1:AM21,_xlfn.XMATCH(A6,Histogram!A1:A50),FALSE)="",HLOOKUP(E1,VE!A1:P16,_xlfn.XMATCH(A6,VE!A1:A16),FALSE),IF(OR(HLOOKUP(E1,Histogram!A1:AM21,_xlfn.XMATCH(A6,Histogram!A1:A50),FALSE)<H21,HLOOKUP(E1,Histogram!A1:AM21,_xlfn.XMATCH(A6,Histogram!A1:A50),FALSE)>J21),((HLOOKUP(E1,Histogram!A1:AM21,_xlfn.XMATCH(A6,Histogram!A1:A50),FALSE)-1)*(H22/100)+1)*HLOOKUP(E1,VE!A1:P16,_xlfn.XMATCH(A6,VE!A1:A16),FALSE),HLOOKUP(E1,VE!A1:P16,_xlfn.XMATCH(A6,VE!A1:A16),FALSE))) -> 69.53659 | F6: =IF(HLOOKUP(F1,Histogram!A1:AM21,_xlfn.XMATCH(A6,Histogram!A1:A50),FALSE)="",HLOOKUP(F1,VE!A1:P16,_xlfn.XMATCH(A6,VE!A1:A16),FALSE),IF(OR(HLOOKUP(F1,Histogram!A1:AM21,_xlfn.XMATCH(A6,Histogram!A1:A50),FALSE)<H21,HLOOKUP(F1,Histogram!A1:AM21,_xlfn.XMATCH(A6,Histogram!A1:A50),FALSE)>J21),((HLOOKUP(F1,Histogram!A1:AM21,_xlfn.XMATCH(A6,Histogram!A1:A50),FALSE)-1)*(H22/100)+1)*HLOOKUP(F1,VE!A1:P16,_xlfn.XMATCH(A6,VE!A1:A16),FALSE),HLOOKUP(F1,VE!A1:P16,_xlfn.XMATCH(A6,VE!A1:A16),FALSE))) -> 75 | G6: =IF(HLOOKUP(G1,Histogram!A1:AM21,_xlfn.XMATCH(A6,Histogram!A1:A50),FALSE)="",HLOOKUP(G1,VE!A1:P16,_xlfn.XMATCH(A6,VE!A1:A16),FALSE),IF(OR(HLOOKUP(G1,Histogram!A1:AM21,_xlfn.XMATCH(A6,Histogram!A1:A50),FALSE)<H21,HLOOKUP(G1,Histogram!A1:AM21,_xlfn.XMATCH(A6,Histogram!A1:A50),FALSE)>J21),((HLOOKUP(G1,Histogram!A1:AM21,_xlfn.XMATCH(A6,Histogram!A1:A50),FALSE)-1)*(H22/100)+1)*HLOOKUP(G1,VE!A1:P16,_xlfn.XMATCH(A6,VE!A1:A16),FALSE),HLOOKUP(G1,VE!A1:P16,_xlfn.XMATCH(A6,VE!A1:A16),FALSE))) -> 72.66 | H6: =IF(HLOOKUP(H1,Histogram!A1:AM21,_xlfn.XMATCH(A6,Histogram!A1:A50),FALSE)="",HLOOKUP(H1,VE!A1:P16,_xlfn.XMATCH(A6,VE!A1:A16),FALSE),IF(OR(HLOOKUP(H1,Histogram!A1:AM21,_xlfn.XMATCH(A6,Histogram!A1:A50),FALSE)<H21,HLOOKUP(H1,Histogram!A1:AM21,_xlfn.XMATCH(A6,Histogram!A1:A50),FALSE)>J21),((HLOOKUP(H1,Histogram!A1:AM21,_xlfn.XMATCH(A6,Histogram!A1:A50),FALSE)-1)*(H22/100)+1)*HLOOKUP(H1,VE!A1:P16,_xlfn.XMATCH(A6,VE!A1:A16),FALSE),HLOOKUP(H1,VE!A1:P16,_xlfn.XMATCH(A6,VE!A1:A16),FALSE))) -> 70.31 | I6: =IF(HLOOKUP(I1,Histogram!A1:AM21,_xlfn.XMATCH(A6,Histogram!A1:A50),FALSE)="",HLOOKUP(I1,VE!A1:P16,_xlfn.XMATCH(A6,VE!A1:A16),FALSE),IF(OR(HLOOKUP(I1,Histogram!A1:AM21,_xlfn.XMATCH(A6,Histogram!A1:A50),FALSE)<H21,HLOOKUP(I1,Histogram!A1:AM21,_xlfn.XMATCH(A6,Histogram!A1:A50),FALSE)>J21),((HLOOKUP(I1,Histogram!A1:AM21,_xlfn.XMATCH(A6,Histogram!A1:A50),FALSE)-1)*(H22/100)+1)*HLOOKUP(I1,VE!A1:P16,_xlfn.XMATCH(A6,VE!A1:A16),FALSE),HLOOKUP(I1,VE!A1:P16,_xlfn.XMATCH(A6,VE!A1:A16),FALSE))) -> 67.97 | J6: =IF(HLOOKUP(J1,Histogram!A1:AM21,_xlfn.XMATCH(A6,Histogram!A1:A50),FALSE)="",HLOOKUP(J1,VE!A1:P16,_xlfn.XMATCH(A6,VE!A1:A16),FALSE),IF(OR(HLOOKUP(J1,Histogram!A1:AM21,_xlfn.XMATCH(A6,Histogram!A1:A50),FALSE)<H21,HLOOKUP(J1,Histogram!A1:AM21,_xlfn.XMATCH(A6,Histogram!A1:A50),FALSE)>J21),((HLOOKUP(J1,Histogram!A1:AM21,_xlfn.XMATCH(A6,Histogram!A1:A50),FALSE)-1)*(H22/100)+1)*HLOOKUP(J1,VE!A1:P16,_xlfn.XMATCH(A6,VE!A1:A16),FALSE),HLOOKUP(J1,VE!A1:P16,_xlfn.XMATCH(A6,VE!A1:A16),FALSE))) -> 64.06 | K6: =IF(HLOOKUP(K1,Histogram!A1:AM21,_xlfn.XMATCH(A6,Histogram!A1:A50),FALSE)="",HLOOKUP(K1,VE!A1:P16,_xlfn.XMATCH(A6,VE!A1:A16),FALSE),IF(OR(HLOOKUP(K1,Histogram!A1:AM21,_xlfn.XMATCH(A6,Histogram!A1:A50),FALSE)<H21,HLOOKUP(K1,Histogram!A1:AM21,_xlfn.XMATCH(A6,Histogram!A1:A50),FALSE)>J21),((HLOOKUP(K1,Histogram!A1:AM21,_xlfn.XMATCH(A6,Histogram!A1:A50),FALSE)-1)*(H22/100)+1)*HLOOKUP(K1,VE!A1:P16,_xlfn.XMATCH(A6,VE!A1:A16),FALSE),HLOOKUP(K1,VE!A1:P16,_xlfn.XMATCH(A6,VE!A1:A16),FALSE))) -> 65.62 | L6: =IF(HLOOKUP(L1,Histogram!A1:AM21,_xlfn.XMATCH(A6,Histogram!A1:A50),FALSE)="",HLOOKUP(L1,VE!A1:P16,_xlfn.XMATCH(A6,VE!A1:A16),FALSE),IF(OR(HLOOKUP(L1,Histogram!A1:AM21,_xlfn.XMATCH(A6,Histogram!A1:A50),FALSE)<H21,HLOOKUP(L1,Histogram!A1:AM21,_xlfn.XMATCH(A6,Histogram!A1:A50),FALSE)>J21),((HLOOKUP(L1,Histogram!A1:AM21,_xlfn.XMATCH(A6,Histogram!A1:A50),FALSE)-1)*(H22/100)+1)*HLOOKUP(L1,VE!A1:P16,_xlfn.XMATCH(A6,VE!A1:A16),FALSE),HLOOKUP(L1,VE!A1:P16,_xlfn.XMATCH(A6,VE!A1:A16),FALSE))) -> 64.84 | M6: =IF(HLOOKUP(M1,Histogram!A1:AM21,_xlfn.XMATCH(A6,Histogram!A1:A50),FALSE)="",HLOOKUP(M1,VE!A1:P16,_xlfn.XMATCH(A6,VE!A1:A16),FALSE),IF(OR(HLOOKUP(M1,Histogram!A1:AM21,_xlfn.XMATCH(A6,Histogram!A1:A50),FALSE)<H21,HLOOKUP(M1,Histogram!A1:AM21,_xlfn.XMATCH(A6,Histogram!A1:A50),FALSE)>J21),((HLOOKUP(M1,Histogram!A1:AM21,_xlfn.XMATCH(A6,Histogram!A1:A50),FALSE)-1)*(H22/100)+1)*HLOOKUP(M1,VE!A1:P16,_xlfn.XMATCH(A6,VE!A1:A16),FALSE),HLOOKUP(M1,VE!A1:P16,_xlfn.XMATCH(A6,VE!A1:A16),FALSE))) -> 64.84 | N6: =IF(HLOOKUP(N1,Histogram!A1:AM21,_xlfn.XMATCH(A6,Histogram!A1:A50),FALSE)="",HLOOKUP(N1,VE!A1:P16,_xlfn.XMATCH(A6,VE!A1:A16),FALSE),IF(OR(HLOOKUP(N1,Histogram!A1:AM21,_xlfn.XMATCH(A6,Histogram!A1:A50),FALSE)<H21,HLOOKUP(N1,Histogram!A1:AM21,_xlfn.XMATCH(A6,Histogram!A1:A50),FALSE)>J21),((HLOOKUP(N1,Histogram!A1:AM21,_xlfn.XMATCH(A6,Histogram!A1:A50),FALSE)-1)*(H22/100)+1)*HLOOKUP(N1,VE!A1:P16,_xlfn.XMATCH(A6,VE!A1:A16),FALSE),HLOOKUP(N1,VE!A1:P16,_xlfn.XMATCH(A6,VE!A1:A16),FALSE))) -> 64.84 | O6: =IF(HLOOKUP(O1,Histogram!A1:AM21,_xlfn.XMATCH(A6,Histogram!A1:A50),FALSE)="",HLOOKUP(O1,VE!A1:P16,_xlfn.XMATCH(A6,VE!A1:A16),FALSE),IF(OR(HLOOKUP(O1,Histogram!A1:AM21,_xlfn.XMATCH(A6,Histogram!A1:A50),FALSE)<H21,HLOOKUP(O1,Histogram!A1:AM21,_xlfn.XMATCH(A6,Histogram!A1:A50),FALSE)>J21),((HLOOKUP(O1,Histogram!A1:AM21,_xlfn.XMATCH(A6,Histogram!A1:A50),FALSE)-1)*(H22/100)+1)*HLOOKUP(O1,VE!A1:P16,_xlfn.XMATCH(A6,VE!A1:A16),FALSE),HLOOKUP(O1,VE!A1:P16,_xlfn.XMATCH(A6,VE!A1:A16),FALSE))) -> 64.84 | P6: =IF(HLOOKUP(P1,Histogram!A1:AM21,_xlfn.XMATCH(A6,Histogram!A1:A50),FALSE)="",HLOOKUP(P1,VE!A1:P16,_xlfn.XMATCH(A6,VE!A1:A16),FALSE),IF(OR(HLOOKUP(P1,Histogram!A1:AM21,_xlfn.XMATCH(A6,Histogram!A1:A50),FALSE)<H21,HLOOKUP(P1,Histogram!A1:AM21,_xlfn.XMATCH(A6,Histogram!A1:A50),FALSE)>J21),((HLOOKUP(P1,Histogram!A1:AM21,_xlfn.XMATCH(A6,Histogram!A1:A50),FALSE)-1)*(H22/100)+1)*HLOOKUP(P1,VE!A1:P16,_xlfn.XMATCH(A6,VE!A1:A16),FALSE),HLOOKUP(P1,VE!A1:P16,_xlfn.XMATCH(A6,VE!A1:A16),FALSE))) -> 64.84
A7: 0.55 | B7: =IF(HLOOKUP(B1,Histogram!A1:AM21,_xlfn.XMATCH(A7,Histogram!A1:A50),FALSE)="",HLOOKUP(B1,VE!A1:P16,_xlfn.XMATCH(A7,VE!A1:A16),FALSE),IF(OR(HLOOKUP(B1,Histogram!A1:AM21,_xlfn.XMATCH(A7,Histogram!A1:A50),FALSE)<H21,HLOOKUP(B1,Histogram!A1:AM21,_xlfn.XMATCH(A7,Histogram!A1:A50),FALSE)>J21),((HLOOKUP(B1,Histogram!A1:AM21,_xlfn.XMATCH(A7,Histogram!A1:A50),FALSE)-1)*(H22/100)+1)*HLOOKUP(B1,VE!A1:P16,_xlfn.XMATCH(A7,VE!A1:A16),FALSE),HLOOKUP(B1,VE!A1:P16,_xlfn.XMATCH(A7,VE!A1:A16),FALSE))) -> 60.94 | C7: =IF(HLOOKUP(C1,Histogram!A1:AM21,_xlfn.XMATCH(A7,Histogram!A1:A50),FALSE)="",HLOOKUP(C1,VE!A1:P16,_xlfn.XMATCH(A7,VE!A1:A16),FALSE),IF(OR(HLOOKUP(C1,Histogram!A1:AM21,_xlfn.XMATCH(A7,Histogram!A1:A50),FALSE)<H21,HLOOKUP(C1,Histogram!A1:AM21,_xlfn.XMATCH(A7,Histogram!A1:A50),FALSE)>J21),((HLOOKUP(C1,Histogram!A1:AM21,_xlfn.XMATCH(A7,Histogram!A1:A50),FALSE)-1)*(H22/100)+1)*HLOOKUP(C1,VE!A1:P16,_xlfn.XMATCH(A7,VE!A1:A16),FALSE),HLOOKUP(C1,VE!A1:P16,_xlfn.XMATCH(A7,VE!A1:A16),FALSE))) -> 57.25 | D7: =IF(HLOOKUP(D1,Histogram!A1:AM21,_xlfn.XMATCH(A7,Histogram!A1:A50),FALSE)="",HLOOKUP(D1,VE!A1:P16,_xlfn.XMATCH(A7,VE!A1:A16),FALSE),IF(OR(HLOOKUP(D1,Histogram!A1:AM21,_xlfn.XMATCH(A7,Histogram!A1:A50),FALSE)<H21,HLOOKUP(D1,Histogram!A1:AM21,_xlfn.XMATCH(A7,Histogram!A1:A50),FALSE)>J21),((HLOOKUP(D1,Histogram!A1:AM21,_xlfn.XMATCH(A7,Histogram!A1:A50),FALSE)-1)*(H22/100)+1)*HLOOKUP(D1,VE!A1:P16,_xlfn.XMATCH(A7,VE!A1:A16),FALSE),HLOOKUP(D1,VE!A1:P16,_xlfn.XMATCH(A7,VE!A1:A16),FALSE))) -> 62.70028 | E7: =IF(HLOOKUP(E1,Histogram!A1:AM21,_xlfn.XMATCH(A7,Histogram!A1:A50),FALSE)="",HLOOKUP(E1,VE!A1:P16,_xlfn.XMATCH(A7,VE!A1:A16),FALSE),IF(OR(HLOOKUP(E1,Histogram!A1:AM21,_xlfn.XMATCH(A7,Histogram!A1:A50),FALSE)<H21,HLOOKUP(E1,Histogram!A1:AM21,_xlfn.XMATCH(A7,Histogram!A1:A50),FALSE)>J21),((HLOOKUP(E1,Histogram!A1:AM21,_xlfn.XMATCH(A7,Histogram!A1:A50),FALSE)-1)*(H22/100)+1)*HLOOKUP(E1,VE!A1:P16,_xlfn.XMATCH(A7,VE!A1:A16),FALSE),HLOOKUP(E1,VE!A1:P16,_xlfn.XMATCH(A7,VE!A1:A16),FALSE))) -> 77.02632 | F7: =IF(HLOOKUP(F1,Histogram!A1:AM21,_xlfn.XMATCH(A7,Histogram!A1:A50),FALSE)="",HLOOKUP(F1,VE!A1:P16,_xlfn.XMATCH(A7,VE!A1:A16),FALSE),IF(OR(HLOOKUP(F1,Histogram!A1:AM21,_xlfn.XMATCH(A7,Histogram!A1:A50),FALSE)<H21,HLOOKUP(F1,Histogram!A1:AM21,_xlfn.XMATCH(A7,Histogram!A1:A50),FALSE)>J21),((HLOOKUP(F1,Histogram!A1:AM21,_xlfn.XMATCH(A7,Histogram!A1:A50),FALSE)-1)*(H22/100)+1)*HLOOKUP(F1,VE!A1:P16,_xlfn.XMATCH(A7,VE!A1:A16),FALSE),HLOOKUP(F1,VE!A1:P16,_xlfn.XMATCH(A7,VE!A1:A16),FALSE))) -> 75 | G7: =IF(HLOOKUP(G1,Histogram!A1:AM21,_xlfn.XMATCH(A7,Histogram!A1:A50),FALSE)="",HLOOKUP(G1,VE!A1:P16,_xlfn.XMATCH(A7,VE!A1:A16),FALSE),IF(OR(HLOOKUP(G1,Histogram!A1:AM21,_xlfn.XMATCH(A7,Histogram!A1:A50),FALSE)<H21,HLOOKUP(G1,Histogram!A1:AM21,_xlfn.XMATCH(A7,Histogram!A1:A50),FALSE)>J21),((HLOOKUP(G1,Histogram!A1:AM21,_xlfn.XMATCH(A7,Histogram!A1:A50),FALSE)-1)*(H22/100)+1)*HLOOKUP(G1,VE!A1:P16,_xlfn.XMATCH(A7,VE!A1:A16),FALSE),HLOOKUP(G1,VE!A1:P16,_xlfn.XMATCH(A7,VE!A1:A16),FALSE))) -> 75.78 | H7: =IF(HLOOKUP(H1,Histogram!A1:AM21,_xlfn.XMATCH(A7,Histogram!A1:A50),FALSE)="",HLOOKUP(H1,VE!A1:P16,_xlfn.XMATCH(A7,VE!A1:A16),FALSE),IF(OR(HLOOKUP(H1,Histogram!A1:AM21,_xlfn.XMATCH(A7,Histogram!A1:A50),FALSE)<H21,HLOOKUP(H1,Histogram!A1:AM21,_xlfn.XMATCH(A7,Histogram!A1:A50),FALSE)>J21),((HLOOKUP(H1,Histogram!A1:AM21,_xlfn.XMATCH(A7,Histogram!A1:A50),FALSE)-1)*(H22/100)+1)*HLOOKUP(H1,VE!A1:P16,_xlfn.XMATCH(A7,VE!A1:A16),FALSE),HLOOKUP(H1,VE!A1:P16,_xlfn.XMATCH(A7,VE!A1:A16),FALSE))) -> 91.65312 | I7: =IF(HLOOKUP(I1,Histogram!A1:AM21,_xlfn.XMATCH(A7,Histogram!A1:A50),FALSE)="",HLOOKUP(I1,VE!A1:P16,_xlfn.XMATCH(A7,VE!A1:A16),FALSE),IF(OR(HLOOKUP(I1,Histogram!A1:AM21,_xlfn.XMATCH(A7,Histogram!A1:A50),FALSE)<H21,HLOOKUP(I1,Histogram!A1:AM21,_xlfn.XMATCH(A7,Histogram!A1:A50),FALSE)>J21),((HLOOKUP(I1,Histogram!A1:AM21,_xlfn.XMATCH(A7,Histogram!A1:A50),FALSE)-1)*(H22/100)+1)*HLOOKUP(I1,VE!A1:P16,_xlfn.XMATCH(A7,VE!A1:A16),FALSE),HLOOKUP(I1,VE!A1:P16,_xlfn.XMATCH(A7,VE!A1:A16),FALSE))) -> 71.09 | J7: =IF(HLOOKUP(J1,Histogram!A1:AM21,_xlfn.XMATCH(A7,Histogram!A1:A50),FALSE)="",HLOOKUP(J1,VE!A1:P16,_xlfn.XMATCH(A7,VE!A1:A16),FALSE),IF(OR(HLOOKUP(J1,Histogram!A1:AM21,_xlfn.XMATCH(A7,Histogram!A1:A50),FALSE)<H21,HLOOKUP(J1,Histogram!A1:AM21,_xlfn.XMATCH(A7,Histogram!A1:A50),FALSE)>J21),((HLOOKUP(J1,Histogram!A1:AM21,_xlfn.XMATCH(A7,Histogram!A1:A50),FALSE)-1)*(H22/100)+1)*HLOOKUP(J1,VE!A1:P16,_xlfn.XMATCH(A7,VE!A1:A16),FALSE),HLOOKUP(J1,VE!A1:P16,_xlfn.XMATCH(A7,VE!A1:A16),FALSE))) -> 67.97 | K7: =IF(HLOOKUP(K1,Histogram!A1:AM21,_xlfn.XMATCH(A7,Histogram!A1:A50),FALSE)="",HLOOKUP(K1,VE!A1:P16,_xlfn.XMATCH(A7,VE!A1:A16),FALSE),IF(OR(HLOOKUP(K1,Histogram!A1:AM21,_xlfn.XMATCH(A7,Histogram!A1:A50),FALSE)<H21,HLOOKUP(K1,Histogram!A1:AM21,_xlfn.XMATCH(A7,Histogram!A1:A50),FALSE)>J21),((HLOOKUP(K1,Histogram!A1:AM21,_xlfn.XMATCH(A7,Histogram!A1:A50),FALSE)-1)*(H22/100)+1)*HLOOKUP(K1,VE!A1:P16,_xlfn.XMATCH(A7,VE!A1:A16),FALSE),HLOOKUP(K1,VE!A1:P16,_xlfn.XMATCH(A7,VE!A1:A16),FALSE))) -> 69.53 | L7: =IF(HLOOKUP(L1,Histogram!A1:AM21,_xlfn.XMATCH(A7,Histogram!A1:A50),FALSE)="",HLOOKUP(L1,VE!A1:P16,_xlfn.XMATCH(A7,VE!A1:A16),FALSE),IF(OR(HLOOKUP(L1,Histogram!A1:AM21,_xlfn.XMATCH(A7,Histogram!A1:A50),FALSE)<H21,HLOOKUP(L1,Histogram!A1:AM21,_xlfn.XMATCH(A7,Histogram!A1:A50),FALSE)>J21),((HLOOKUP(L1,Histogram!A1:AM21,_xlfn.XMATCH(A7,Histogram!A1:A50),FALSE)-1)*(H22/100)+1)*HLOOKUP(L1,VE!A1:P16,_xlfn.XMATCH(A7,VE!A1:A16),FALSE),HLOOKUP(L1,VE!A1:P16,_xlfn.XMATCH(A7,VE!A1:A16),FALSE))) -> 67.97 | M7: =IF(HLOOKUP(M1,Histogram!A1:AM21,_xlfn.XMATCH(A7,Histogram!A1:A50),FALSE)="",HLOOKUP(M1,VE!A1:P16,_xlfn.XMATCH(A7,VE!A1:A16),FALSE),IF(OR(HLOOKUP(M1,Histogram!A1:AM21,_xlfn.XMATCH(A7,Histogram!A1:A50),FALSE)<H21,HLOOKUP(M1,Histogram!A1:AM21,_xlfn.XMATCH(A7,Histogram!A1:A50),FALSE)>J21),((HLOOKUP(M1,Histogram!A1:AM21,_xlfn.XMATCH(A7,Histogram!A1:A50),FALSE)-1)*(H22/100)+1)*HLOOKUP(M1,VE!A1:P16,_xlfn.XMATCH(A7,VE!A1:A16),FALSE),HLOOKUP(M1,VE!A1:P16,_xlfn.XMATCH(A7,VE!A1:A16),FALSE))) -> 67.97 | N7: =IF(HLOOKUP(N1,Histogram!A1:AM21,_xlfn.XMATCH(A7,Histogram!A1:A50),FALSE)="",HLOOKUP(N1,VE!A1:P16,_xlfn.XMATCH(A7,VE!A1:A16),FALSE),IF(OR(HLOOKUP(N1,Histogram!A1:AM21,_xlfn.XMATCH(A7,Histogram!A1:A50),FALSE)<H21,HLOOKUP(N1,Histogram!A1:AM21,_xlfn.XMATCH(A7,Histogram!A1:A50),FALSE)>J21),((HLOOKUP(N1,Histogram!A1:AM21,_xlfn.XMATCH(A7,Histogram!A1:A50),FALSE)-1)*(H22/100)+1)*HLOOKUP(N1,VE!A1:P16,_xlfn.XMATCH(A7,VE!A1:A16),FALSE),HLOOKUP(N1,VE!A1:P16,_xlfn.XMATCH(A7,VE!A1:A16),FALSE))) -> 67.97 | O7: =IF(HLOOKUP(O1,Histogram!A1:AM21,_xlfn.XMATCH(A7,Histogram!A1:A50),FALSE)="",HLOOKUP(O1,VE!A1:P16,_xlfn.XMATCH(A7,VE!A1:A16),FALSE),IF(OR(HLOOKUP(O1,Histogram!A1:AM21,_xlfn.XMATCH(A7,Histogram!A1:A50),FALSE)<H21,HLOOKUP(O1,Histogram!A1:AM21,_xlfn.XMATCH(A7,Histogram!A1:A50),FALSE)>J21),((HLOOKUP(O1,Histogram!A1:AM21,_xlfn.XMATCH(A7,Histogram!A1:A50),FALSE)-1)*(H22/100)+1)*HLOOKUP(O1,VE!A1:P16,_xlfn.XMATCH(A7,VE!A1:A16),FALSE),HLOOKUP(O1,VE!A1:P16,_xlfn.XMATCH(A7,VE!A1:A16),FALSE))) -> 67.97 | P7: =IF(HLOOKUP(P1,Histogram!A1:AM21,_xlfn.XMATCH(A7,Histogram!A1:A50),FALSE)="",HLOOKUP(P1,VE!A1:P16,_xlfn.XMATCH(A7,VE!A1:A16),FALSE),IF(OR(HLOOKUP(P1,Histogram!A1:AM21,_xlfn.XMATCH(A7,Histogram!A1:A50),FALSE)<H21,HLOOKUP(P1,Histogram!A1:AM21,_xlfn.XMATCH(A7,Histogram!A1:A50),FALSE)>J21),((HLOOKUP(P1,Histogram!A1:AM21,_xlfn.XMATCH(A7,Histogram!A1:A50),FALSE)-1)*(H22/100)+1)*HLOOKUP(P1,VE!A1:P16,_xlfn.XMATCH(A7,VE!A1:A16),FALSE),HLOOKUP(P1,VE!A1:P16,_xlfn.XMATCH(A7,VE!A1:A16),FALSE))) -> 67.97
A8: 0.6 | B8: =IF(HLOOKUP(B1,Histogram!A1:AM21,_xlfn.XMATCH(A8,Histogram!A1:A50),FALSE)="",HLOOKUP(B1,VE!A1:P16,_xlfn.XMATCH(A8,VE!A1:A16),FALSE),IF(OR(HLOOKUP(B1,Histogram!A1:AM21,_xlfn.XMATCH(A8,Histogram!A1:A50),FALSE)<H21,HLOOKUP(B1,Histogram!A1:AM21,_xlfn.XMATCH(A8,Histogram!A1:A50),FALSE)>J21),((HLOOKUP(B1,Histogram!A1:AM21,_xlfn.XMATCH(A8,Histogram!A1:A50),FALSE)-1)*(H22/100)+1)*HLOOKUP(B1,VE!A1:P16,_xlfn.XMATCH(A8,VE!A1:A16),FALSE),HLOOKUP(B1,VE!A1:P16,_xlfn.XMATCH(A8,VE!A1:A16),FALSE))) -> 64.84 | C8: =IF(HLOOKUP(C1,Histogram!A1:AM21,_xlfn.XMATCH(A8,Histogram!A1:A50),FALSE)="",HLOOKUP(C1,VE!A1:P16,_xlfn.XMATCH(A8,VE!A1:A16),FALSE),IF(OR(HLOOKUP(C1,Histogram!A1:AM21,_xlfn.XMATCH(A8,Histogram!A1:A50),FALSE)<H21,HLOOKUP(C1,Histogram!A1:AM21,_xlfn.XMATCH(A8,Histogram!A1:A50),FALSE)>J21),((HLOOKUP(C1,Histogram!A1:AM21,_xlfn.XMATCH(A8,Histogram!A1:A50),FALSE)-1)*(H22/100)+1)*HLOOKUP(C1,VE!A1:P16,_xlfn.XMATCH(A8,VE!A1:A16),FALSE),HLOOKUP(C1,VE!A1:P16,_xlfn.XMATCH(A8,VE!A1:A16),FALSE))) -> 61.88199 | D8: =IF(HLOOKUP(D1,Histogram!A1:AM21,_xlfn.XMATCH(A8,Histogram!A1:A50),FALSE)="",HLOOKUP(D1,VE!A1:P16,_xlfn.XMATCH(A8,VE!A1:A16),FALSE),IF(OR(HLOOKUP(D1,Histogram!A1:AM21,_xlfn.XMATCH(A8,Histogram!A1:A50),FALSE)<H21,HLOOKUP(D1,Histogram!A1:AM21,_xlfn.XMATCH(A8,Histogram!A1:A50),FALSE)>J21),((HLOOKUP(D1,Histogram!A1:AM21,_xlfn.XMATCH(A8,Histogram!A1:A50),FALSE)-1)*(H22/100)+1)*HLOOKUP(D1,VE!A1:P16,_xlfn.XMATCH(A8,VE!A1:A16),FALSE),HLOOKUP(D1,VE!A1:P16,_xlfn.XMATCH(A8,VE!A1:A16),FALSE))) -> 62.71048 | E8: =IF(HLOOKUP(E1,Histogram!A1:AM21,_xlfn.XMATCH(A8,Histogram!A1:A50),FALSE)="",HLOOKUP(E1,VE!A1:P16,_xlfn.XMATCH(A8,VE!A1:A16),FALSE),IF(OR(HLOOKUP(E1,Histogram!A1:AM21,_xlfn.XMATCH(A8,Histogram!A1:A50),FALSE)<H21,HLOOKUP(E1,Histogram!A1:AM21,_xlfn.XMATCH(A8,Histogram!A1:A50),FALSE)>J21),((HLOOKUP(E1,Histogram!A1:AM21,_xlfn.XMATCH(A8,Histogram!A1:A50),FALSE)-1)*(H22/100)+1)*HLOOKUP(E1,VE!A1:P16,_xlfn.XMATCH(A8,VE!A1:A16),FALSE),HLOOKUP(E1,VE!A1:P16,_xlfn.XMATCH(A8,VE!A1:A16),FALSE))) -> 74.56752 | F8: =IF(HLOOKUP(F1,Histogram!A1:AM21,_xlfn.XMATCH(A8,Histogram!A1:A50),FALSE)="",HLOOKUP(F1,VE!A1:P16,_xlfn.XMATCH(A8,VE!A1:A16),FALSE),IF(OR(HLOOKUP(F1,Histogram!A1:AM21,_xlfn.XMATCH(A8,Histogram!A1:A50),FALSE)<H21,HLOOKUP(F1,Histogram!A1:AM21,_xlfn.XMATCH(A8,Histogram!A1:A50),FALSE)>J21),((HLOOKUP(F1,Histogram!A1:AM21,_xlfn.XMATCH(A8,Histogram!A1:A50),FALSE)-1)*(H22/100)+1)*HLOOKUP(F1,VE!A1:P16,_xlfn.XMATCH(A8,VE!A1:A16),FALSE),HLOOKUP(F1,VE!A1:P16,_xlfn.XMATCH(A8,VE!A1:A16),FALSE))) -> 79.69 | G8: =IF(HLOOKUP(G1,Histogram!A1:AM21,_xlfn.XMATCH(A8,Histogram!A1:A50),FALSE)="",HLOOKUP(G1,VE!A1:P16,_xlfn.XMATCH(A8,VE!A1:A16),FALSE),IF(OR(HLOOKUP(G1,Histogram!A1:AM21,_xlfn.XMATCH(A8,Histogram!A1:A50),FALSE)<H21,HLOOKUP(G1,Histogram!A1:AM21,_xlfn.XMATCH(A8,Histogram!A1:A50),FALSE)>J21),((HLOOKUP(G1,Histogram!A1:AM21,_xlfn.XMATCH(A8,Histogram!A1:A50),FALSE)-1)*(H22/100)+1)*HLOOKUP(G1,VE!A1:P16,_xlfn.XMATCH(A8,VE!A1:A16),FALSE),HLOOKUP(G1,VE!A1:P16,_xlfn.XMATCH(A8,VE!A1:A16),FALSE))) -> 80.47 | H8: =IF(HLOOKUP(H1,Histogram!A1:AM21,_xlfn.XMATCH(A8,Histogram!A1:A50),FALSE)="",HLOOKUP(H1,VE!A1:P16,_xlfn.XMATCH(A8,VE!A1:A16),FALSE),IF(OR(HLOOKUP(H1,Histogram!A1:AM21,_xlfn.XMATCH(A8,Histogram!A1:A50),FALSE)<H21,HLOOKUP(H1,Histogram!A1:AM21,_xlfn.XMATCH(A8,Histogram!A1:A50),FALSE)>J21),((HLOOKUP(H1,Histogram!A1:AM21,_xlfn.XMATCH(A8,Histogram!A1:A50),FALSE)-1)*(H22/100)+1)*HLOOKUP(H1,VE!A1:P16,_xlfn.XMATCH(A8,VE!A1:A16),FALSE),HLOOKUP(H1,VE!A1:P16,_xlfn.XMATCH(A8,VE!A1:A16),FALSE))) -> 89.67024 | I8: =IF(HLOOKUP(I1,Histogram!A1:AM21,_xlfn.XMATCH(A8,Histogram!A1:A50),FALSE)="",HLOOKUP(I1,VE!A1:P16,_xlfn.XMATCH(A8,VE!A1:A16),FALSE),IF(OR(HLOOKUP(I1,Histogram!A1:AM21,_xlfn.XMATCH(A8,Histogram!A1:A50),FALSE)<H21,HLOOKUP(I1,Histogram!A1:AM21,_xlfn.XMATCH(A8,Histogram!A1:A50),FALSE)>J21),((HLOOKUP(I1,Histogram!A1:AM21,_xlfn.XMATCH(A8,Histogram!A1:A50),FALSE)-1)*(H22/100)+1)*HLOOKUP(I1,VE!A1:P16,_xlfn.XMATCH(A8,VE!A1:A16),FALSE),HLOOKUP(I1,VE!A1:P16,_xlfn.XMATCH(A8,VE!A1:A16),FALSE))) -> 71.09 | J8: =IF(HLOOKUP(J1,Histogram!A1:AM21,_xlfn.XMATCH(A8,Histogram!A1:A50),FALSE)="",HLOOKUP(J1,VE!A1:P16,_xlfn.XMATCH(A8,VE!A1:A16),FALSE),IF(OR(HLOOKUP(J1,Histogram!A1:AM21,_xlfn.XMATCH(A8,Histogram!A1:A50),FALSE)<H21,HLOOKUP(J1,Histogram!A1:AM21,_xlfn.XMATCH(A8,Histogram!A1:A50),FALSE)>J21),((HLOOKUP(J1,Histogram!A1:AM21,_xlfn.XMATCH(A8,Histogram!A1:A50),FALSE)-1)*(H22/100)+1)*HLOOKUP(J1,VE!A1:P16,_xlfn.XMATCH(A8,VE!A1:A16),FALSE),HLOOKUP(J1,VE!A1:P16,_xlfn.XMATCH(A8,VE!A1:A16),FALSE))) -> 69.53 | K8: =IF(HLOOKUP(K1,Histogram!A1:AM21,_xlfn.XMATCH(A8,Histogram!A1:A50),FALSE)="",HLOOKUP(K1,VE!A1:P16,_xlfn.XMATCH(A8,VE!A1:A16),FALSE),IF(OR(HLOOKUP(K1,Histogram!A1:AM21,_xlfn.XMATCH(A8,Histogram!A1:A50),FALSE)<H21,HLOOKUP(K1,Histogram!A1:AM21,_xlfn.XMATCH(A8,Histogram!A1:A50),FALSE)>J21),((HLOOKUP(K1,Histogram!A1:AM21,_xlfn.XMATCH(A8,Histogram!A1:A50),FALSE)-1)*(H22/100)+1)*HLOOKUP(K1,VE!A1:P16,_xlfn.XMATCH(A8,VE!A1:A16),FALSE),HLOOKUP(K1,VE!A1:P16,_xlfn.XMATCH(A8,VE!A1:A16),FALSE))) -> 71.87 | L8: =IF(HLOOKUP(L1,Histogram!A1:AM21,_xlfn.XMATCH(A8,Histogram!A1:A50),FALSE)="",HLOOKUP(L1,VE!A1:P16,_xlfn.XMATCH(A8,VE!A1:A16),FALSE),IF(OR(HLOOKUP(L1,Histogram!A1:AM21,_xlfn.XMATCH(A8,Histogram!A1:A50),FALSE)<H21,HLOOKUP(L1,Histogram!A1:AM21,_xlfn.XMATCH(A8,Histogram!A1:A50),FALSE)>J21),((HLOOKUP(L1,Histogram!A1:AM21,_xlfn.XMATCH(A8,Histogram!A1:A50),FALSE)-1)*(H22/100)+1)*HLOOKUP(L1,VE!A1:P16,_xlfn.XMATCH(A8,VE!A1:A16),FALSE),HLOOKUP(L1,VE!A1:P16,_xlfn.XMATCH(A8,VE!A1:A16),FALSE))) -> 70.31 | M8: =IF(HLOOKUP(M1,Histogram!A1:AM21,_xlfn.XMATCH(A8,Histogram!A1:A50),FALSE)="",HLOOKUP(M1,VE!A1:P16,_xlfn.XMATCH(A8,VE!A1:A16),FALSE),IF(OR(HLOOKUP(M1,Histogram!A1:AM21,_xlfn.XMATCH(A8,Histogram!A1:A50),FALSE)<H21,HLOOKUP(M1,Histogram!A1:AM21,_xlfn.XMATCH(A8,Histogram!A1:A50),FALSE)>J21),((HLOOKUP(M1,Histogram!A1:AM21,_xlfn.XMATCH(A8,Histogram!A1:A50),FALSE)-1)*(H22/100)+1)*HLOOKUP(M1,VE!A1:P16,_xlfn.XMATCH(A8,VE!A1:A16),FALSE),HLOOKUP(M1,VE!A1:P16,_xlfn.XMATCH(A8,VE!A1:A16),FALSE))) -> 70.31 | N8: =IF(HLOOKUP(N1,Histogram!A1:AM21,_xlfn.XMATCH(A8,Histogram!A1:A50),FALSE)="",HLOOKUP(N1,VE!A1:P16,_xlfn.XMATCH(A8,VE!A1:A16),FALSE),IF(OR(HLOOKUP(N1,Histogram!A1:AM21,_xlfn.XMATCH(A8,Histogram!A1:A50),FALSE)<H21,HLOOKUP(N1,Histogram!A1:AM21,_xlfn.XMATCH(A8,Histogram!A1:A50),FALSE)>J21),((HLOOKUP(N1,Histogram!A1:AM21,_xlfn.XMATCH(A8,Histogram!A1:A50),FALSE)-1)*(H22/100)+1)*HLOOKUP(N1,VE!A1:P16,_xlfn.XMATCH(A8,VE!A1:A16),FALSE),HLOOKUP(N1,VE!A1:P16,_xlfn.XMATCH(A8,VE!A1:A16),FALSE))) -> 70.31 | O8: =IF(HLOOKUP(O1,Histogram!A1:AM21,_xlfn.XMATCH(A8,Histogram!A1:A50),FALSE)="",HLOOKUP(O1,VE!A1:P16,_xlfn.XMATCH(A8,VE!A1:A16),FALSE),IF(OR(HLOOKUP(O1,Histogram!A1:AM21,_xlfn.XMATCH(A8,Histogram!A1:A50),FALSE)<H21,HLOOKUP(O1,Histogram!A1:AM21,_xlfn.XMATCH(A8,Histogram!A1:A50),FALSE)>J21),((HLOOKUP(O1,Histogram!A1:AM21,_xlfn.XMATCH(A8,Histogram!A1:A50),FALSE)-1)*(H22/100)+1)*HLOOKUP(O1,VE!A1:P16,_xlfn.XMATCH(A8,VE!A1:A16),FALSE),HLOOKUP(O1,VE!A1:P16,_xlfn.XMATCH(A8,VE!A1:A16),FALSE))) -> 70.31 | P8: =IF(HLOOKUP(P1,Histogram!A1:AM21,_xlfn.XMATCH(A8,Histogram!A1:A50),FALSE)="",HLOOKUP(P1,VE!A1:P16,_xlfn.XMATCH(A8,VE!A1:A16),FALSE),IF(OR(HLOOKUP(P1,Histogram!A1:AM21,_xlfn.XMATCH(A8,Histogram!A1:A50),FALSE)<H21,HLOOKUP(P1,Histogram!A1:AM21,_xlfn.XMATCH(A8,Histogram!A1:A50),FALSE)>J21),((HLOOKUP(P1,Histogram!A1:AM21,_xlfn.XMATCH(A8,Histogram!A1:A50),FALSE)-1)*(H22/100)+1)*HLOOKUP(P1,VE!A1:P16,_xlfn.XMATCH(A8,VE!A1:A16),FALSE),HLOOKUP(P1,VE!A1:P16,_xlfn.XMATCH(A8,VE!A1:A16),FALSE))) -> 70.31
A9: 0.65 | B9: =IF(HLOOKUP(B1,Histogram!A1:AM21,_xlfn.XMATCH(A9,Histogram!A1:A50),FALSE)="",HLOOKUP(B1,VE!A1:P16,_xlfn.XMATCH(A9,VE!A1:A16),FALSE),IF(OR(HLOOKUP(B1,Histogram!A1:AM21,_xlfn.XMATCH(A9,Histogram!A1:A50),FALSE)<H21,HLOOKUP(B1,Histogram!A1:AM21,_xlfn.XMATCH(A9,Histogram!A1:A50),FALSE)>J21),((HLOOKUP(B1,Histogram!A1:AM21,_xlfn.XMATCH(A9,Histogram!A1:A50),FALSE)-1)*(H22/100)+1)*HLOOKUP(B1,VE!A1:P16,_xlfn.XMATCH(A9,VE!A1:A16),FALSE),HLOOKUP(B1,VE!A1:P16,_xlfn.XMATCH(A9,VE!A1:A16),FALSE))) -> 53.91 | C9: =IF(HLOOKUP(C1,Histogram!A1:AM21,_xlfn.XMATCH(A9,Histogram!A1:A50),FALSE)="",HLOOKUP(C1,VE!A1:P16,_xlfn.XMATCH(A9,VE!A1:A16),FALSE),IF(OR(HLOOKUP(C1,Histogram!A1:AM21,_xlfn.XMATCH(A9,Histogram!A1:A50),FALSE)<H21,HLOOKUP(C1,Histogram!A1:AM21,_xlfn.XMATCH(A9,Histogram!A1:A50),FALSE)>J21),((HLOOKUP(C1,Histogram!A1:AM21,_xlfn.XMATCH(A9,Histogram!A1:A50),FALSE)-1)*(H22/100)+1)*HLOOKUP(C1,VE!A1:P16,_xlfn.XMATCH(A9,VE!A1:A16),FALSE),HLOOKUP(C1,VE!A1:P16,_xlfn.XMATCH(A9,VE!A1:A16),FALSE))) -> 53.26806 | D9: =IF(HLOOKUP(D1,Histogram!A1:AM21,_xlfn.XMATCH(A9,Histogram!A1:A50),FALSE)="",HLOOKUP(D1,VE!A1:P16,_xlfn.XMATCH(A9,VE!A1:A16),FALSE),IF(OR(HLOOKUP(D1,Histogram!A1:AM21,_xlfn.XMATCH(A9,Histogram!A1:A50),FALSE)<H21,HLOOKUP(D1,Histogram!A1:AM21,_xlfn.XMATCH(A9,Histogram!A1:A50),FALSE)>J21),((HLOOKUP(D1,Histogram!A1:AM21,_xlfn.XMATCH(A9,Histogram!A1:A50),FALSE)-1)*(H22/100)+1)*HLOOKUP(D1,VE!A1:P16,_xlfn.XMATCH(A9,VE!A1:A16),FALSE),HLOOKUP(D1,VE!A1:P16,_xlfn.XMATCH(A9,VE!A1:A16),FALSE))) -> 68.45967 | E9: =IF(HLOOKUP(E1,Histogram!A1:AM21,_xlfn.XMATCH(A9,Histogram!A1:A50),FALSE)="",HLOOKUP(E1,VE!A1:P16,_xlfn.XMATCH(A9,VE!A1:A16),FALSE),IF(OR(HLOOKUP(E1,Histogram!A1:AM21,_xlfn.XMATCH(A9,Histogram!A1:A50),FALSE)<H21,HLOOKUP(E1,Histogram!A1:AM21,_xlfn.XMATCH(A9,Histogram!A1:A50),FALSE)>J21),((HLOOKUP(E1,Histogram!A1:AM21,_xlfn.XMATCH(A9,Histogram!A1:A50),FALSE)-1)*(H22/100)+1)*HLOOKUP(E1,VE!A1:P16,_xlfn.XMATCH(A9,VE!A1:A16),FALSE),HLOOKUP(E1,VE!A1:P16,_xlfn.XMATCH(A9,VE!A1:A16),FALSE))) -> 76.5666 | F9: =IF(HLOOKUP(F1,Histogram!A1:AM21,_xlfn.XMATCH(A9,Histogram!A1:A50),FALSE)="",HLOOKUP(F1,VE!A1:P16,_xlfn.XMATCH(A9,VE!A1:A16),FALSE),IF(OR(HLOOKUP(F1,Histogram!A1:AM21,_xlfn.XMATCH(A9,Histogram!A1:A50),FALSE)<H21,HLOOKUP(F1,Histogram!A1:AM21,_xlfn.XMATCH(A9,Histogram!A1:A50),FALSE)>J21),((HLOOKUP(F1,Histogram!A1:AM21,_xlfn.XMATCH(A9,Histogram!A1:A50),FALSE)-1)*(H22/100)+1)*HLOOKUP(F1,VE!A1:P16,_xlfn.XMATCH(A9,VE!A1:A16),FALSE),HLOOKUP(F1,VE!A1:P16,_xlfn.XMATCH(A9,VE!A1:A16),FALSE))) -> 80.47 | G9: =IF(HLOOKUP(G1,Histogram!A1:AM21,_xlfn.XMATCH(A9,Histogram!A1:A50),FALSE)="",HLOOKUP(G1,VE!A1:P16,_xlfn.XMATCH(A9,VE!A1:A16),FALSE),IF(OR(HLOOKUP(G1,Histogram!A1:AM21,_xlfn.XMATCH(A9,Histogram!A1:A50),FALSE)<H21,HLOOKUP(G1,Histogram!A1:AM21,_xlfn.XMATCH(A9,Histogram!A1:A50),FALSE)>J21),((HLOOKUP(G1,Histogram!A1:AM21,_xlfn.XMATCH(A9,Histogram!A1:A50),FALSE)-1)*(H22/100)+1)*HLOOKUP(G1,VE!A1:P16,_xlfn.XMATCH(A9,VE!A1:A16),FALSE),HLOOKUP(G1,VE!A1:P16,_xlfn.XMATCH(A9,VE!A1:A16),FALSE))) -> 81.25 | H9: =IF(HLOOKUP(H1,Histogram!A1:AM21,_xlfn.XMATCH(A9,Histogram!A1:A50),FALSE)="",HLOOKUP(H1,VE!A1:P16,_xlfn.XMATCH(A9,VE!A1:A16),FALSE),IF(OR(HLOOKUP(H1,Histogram!A1:AM21,_xlfn.XMATCH(A9,Histogram!A1:A50),FALSE)<H21,HLOOKUP(H1,Histogram!A1:AM21,_xlfn.XMATCH(A9,Histogram!A1:A50),FALSE)>J21),((HLOOKUP(H1,Histogram!A1:AM21,_xlfn.XMATCH(A9,Histogram!A1:A50),FALSE)-1)*(H22/100)+1)*HLOOKUP(H1,VE!A1:P16,_xlfn.XMATCH(A9,VE!A1:A16),FALSE),HLOOKUP(H1,VE!A1:P16,_xlfn.XMATCH(A9,VE!A1:A16),FALSE))) -> 78.91 | I9: =IF(HLOOKUP(I1,Histogram!A1:AM21,_xlfn.XMATCH(A9,Histogram!A1:A50),FALSE)="",HLOOKUP(I1,VE!A1:P16,_xlfn.XMATCH(A9,VE!A1:A16),FALSE),IF(OR(HLOOKUP(I1,Histogram!A1:AM21,_xlfn.XMATCH(A9,Histogram!A1:A50),FALSE)<H21,HLOOKUP(I1,Histogram!A1:AM21,_xlfn.XMATCH(A9,Histogram!A1:A50),FALSE)>J21),((HLOOKUP(I1,Histogram!A1:AM21,_xlfn.XMATCH(A9,Histogram!A1:A50),FALSE)-1)*(H22/100)+1)*HLOOKUP(I1,VE!A1:P16,_xlfn.XMATCH(A9,VE!A1:A16),FALSE),HLOOKUP(I1,VE!A1:P16,_xlfn.XMATCH(A9,VE!A1:A16),FALSE))) -> 76.56 | J9: =IF(HLOOKUP(J1,Histogram!A1:AM21,_xlfn.XMATCH(A9,Histogram!A1:A50),FALSE)="",HLOOKUP(J1,VE!A1:P16,_xlfn.XMATCH(A9,VE!A1:A16),FALSE),IF(OR(HLOOKUP(J1,Histogram!A1:AM21,_xlfn.XMATCH(A9,Histogram!A1:A50),FALSE)<H21,HLOOKUP(J1,Histogram!A1:AM21,_xlfn.XMATCH(A9,Histogram!A1:A50),FALSE)>J21),((HLOOKUP(J1,Histogram!A1:AM21,_xlfn.XMATCH(A9,Histogram!A1:A50),FALSE)-1)*(H22/100)+1)*HLOOKUP(J1,VE!A1:P16,_xlfn.XMATCH(A9,VE!A1:A16),FALSE),HLOOKUP(J1,VE!A1:P16,_xlfn.XMATCH(A9,VE!A1:A16),FALSE))) -> 74.22 | K9: =IF(HLOOKUP(K1,Histogram!A1:AM21,_xlfn.XMATCH(A9,Histogram!A1:A50),FALSE)="",HLOOKUP(K1,VE!A1:P16,_xlfn.XMATCH(A9,VE!A1:A16),FALSE),IF(OR(HLOOKUP(K1,Histogram!A1:AM21,_xlfn.XMATCH(A9,Histogram!A1:A50),FALSE)<H21,HLOOKUP(K1,Histogram!A1:AM21,_xlfn.XMATCH(A9,Histogram!A1:A50),FALSE)>J21),((HLOOKUP(K1,Histogram!A1:AM21,_xlfn.XMATCH(A9,Histogram!A1:A50),FALSE)-1)*(H22/100)+1)*HLOOKUP(K1,VE!A1:P16,_xlfn.XMATCH(A9,VE!A1:A16),FALSE),HLOOKUP(K1,VE!A1:P16,_xlfn.XMATCH(A9,VE!A1:A16),FALSE))) -> 75.78 | L9: =IF(HLOOKUP(L1,Histogram!A1:AM21,_xlfn.XMATCH(A9,Histogram!A1:A50),FALSE)="",HLOOKUP(L1,VE!A1:P16,_xlfn.XMATCH(A9,VE!A1:A16),FALSE),IF(OR(HLOOKUP(L1,Histogram!A1:AM21,_xlfn.XMATCH(A9,Histogram!A1:A50),FALSE)<H21,HLOOKUP(L1,Histogram!A1:AM21,_xlfn.XMATCH(A9,Histogram!A1:A50),FALSE)>J21),((HLOOKUP(L1,Histogram!A1:AM21,_xlfn.XMATCH(A9,Histogram!A1:A50),FALSE)-1)*(H22/100)+1)*HLOOKUP(L1,VE!A1:P16,_xlfn.XMATCH(A9,VE!A1:A16),FALSE),HLOOKUP(L1,VE!A1:P16,_xlfn.XMATCH(A9,VE!A1:A16),FALSE))) -> 75 | M9: =IF(HLOOKUP(M1,Histogram!A1:AM21,_xlfn.XMATCH(A9,Histogram!A1:A50),FALSE)="",HLOOKUP(M1,VE!A1:P16,_xlfn.XMATCH(A9,VE!A1:A16),FALSE),IF(OR(HLOOKUP(M1,Histogram!A1:AM21,_xlfn.XMATCH(A9,Histogram!A1:A50),FALSE)<H21,HLOOKUP(M1,Histogram!A1:AM21,_xlfn.XMATCH(A9,Histogram!A1:A50),FALSE)>J21),((HLOOKUP(M1,Histogram!A1:AM21,_xlfn.XMATCH(A9,Histogram!A1:A50),FALSE)-1)*(H22/100)+1)*HLOOKUP(M1,VE!A1:P16,_xlfn.XMATCH(A9,VE!A1:A16),FALSE),HLOOKUP(M1,VE!A1:P16,_xlfn.XMATCH(A9,VE!A1:A16),FALSE))) -> 75 | N9: =IF(HLOOKUP(N1,Histogram!A1:AM21,_xlfn.XMATCH(A9,Histogram!A1:A50),FALSE)="",HLOOKUP(N1,VE!A1:P16,_xlfn.XMATCH(A9,VE!A1:A16),FALSE),IF(OR(HLOOKUP(N1,Histogram!A1:AM21,_xlfn.XMATCH(A9,Histogram!A1:A50),FALSE)<H21,HLOOKUP(N1,Histogram!A1:AM21,_xlfn.XMATCH(A9,Histogram!A1:A50),FALSE)>J21),((HLOOKUP(N1,Histogram!A1:AM21,_xlfn.XMATCH(A9,Histogram!A1:A50),FALSE)-1)*(H22/100)+1)*HLOOKUP(N1,VE!A1:P16,_xlfn.XMATCH(A9,VE!A1:A16),FALSE),HLOOKUP(N1,VE!A1:P16,_xlfn.XMATCH(A9,VE!A1:A16),FALSE))) -> 75 | O9: =IF(HLOOKUP(O1,Histogram!A1:AM21,_xlfn.XMATCH(A9,Histogram!A1:A50),FALSE)="",HLOOKUP(O1,VE!A1:P16,_xlfn.XMATCH(A9,VE!A1:A16),FALSE),IF(OR(HLOOKUP(O1,Histogram!A1:AM21,_xlfn.XMATCH(A9,Histogram!A1:A50),FALSE)<H21,HLOOKUP(O1,Histogram!A1:AM21,_xlfn.XMATCH(A9,Histogram!A1:A50),FALSE)>J21),((HLOOKUP(O1,Histogram!A1:AM21,_xlfn.XMATCH(A9,Histogram!A1:A50),FALSE)-1)*(H22/100)+1)*HLOOKUP(O1,VE!A1:P16,_xlfn.XMATCH(A9,VE!A1:A16),FALSE),HLOOKUP(O1,VE!A1:P16,_xlfn.XMATCH(A9,VE!A1:A16),FALSE))) -> 75 | P9: =IF(HLOOKUP(P1,Histogram!A1:AM21,_xlfn.XMATCH(A9,Histogram!A1:A50),FALSE)="",HLOOKUP(P1,VE!A1:P16,_xlfn.XMATCH(A9,VE!A1:A16),FALSE),IF(OR(HLOOKUP(P1,Histogram!A1:AM21,_xlfn.XMATCH(A9,Histogram!A1:A50),FALSE)<H21,HLOOKUP(P1,Histogram!A1:AM21,_xlfn.XMATCH(A9,Histogram!A1:A50),FALSE)>J21),((HLOOKUP(P1,Histogram!A1:AM21,_xlfn.XMATCH(A9,Histogram!A1:A50),FALSE)-1)*(H22/100)+1)*HLOOKUP(P1,VE!A1:P16,_xlfn.XMATCH(A9,VE!A1:A16),FALSE),HLOOKUP(P1,VE!A1:P16,_xlfn.XMATCH(A9,VE!A1:A16),FALSE))) -> 75
A10: 0.7 | B10: =IF(HLOOKUP(B1,Histogram!A1:AM21,_xlfn.XMATCH(A10,Histogram!A1:A50),FALSE)="",HLOOKUP(B1,VE!A1:P16,_xlfn.XMATCH(A10,VE!A1:A16),FALSE),IF(OR(HLOOKUP(B1,Histogram!A1:AM21,_xlfn.XMATCH(A10,Histogram!A1:A50),FALSE)<H21,HLOOKUP(B1,Histogram!A1:AM21,_xlfn.XMATCH(A10,Histogram!A1:A50),FALSE)>J21),((HLOOKUP(B1,Histogram!A1:AM21,_xlfn.XMATCH(A10,Histogram!A1:A50),FALSE)-1)*(H22/100)+1)*HLOOKUP(B1,VE!A1:P16,_xlfn.XMATCH(A10,VE!A1:A16),FALSE),HLOOKUP(B1,VE!A1:P16,_xlfn.XMATCH(A10,VE!A1:A16),FALSE))) -> 53.91 | C10: =IF(HLOOKUP(C1,Histogram!A1:AM21,_xlfn.XMATCH(A10,Histogram!A1:A50),FALSE)="",HLOOKUP(C1,VE!A1:P16,_xlfn.XMATCH(A10,VE!A1:A16),FALSE),IF(OR(HLOOKUP(C1,Histogram!A1:AM21,_xlfn.XMATCH(A10,Histogram!A1:A50),FALSE)<H21,HLOOKUP(C1,Histogram!A1:AM21,_xlfn.XMATCH(A10,Histogram!A1:A50),FALSE)>J21),((HLOOKUP(C1,Histogram!A1:AM21,_xlfn.XMATCH(A10,Histogram!A1:A50),FALSE)-1)*(H22/100)+1)*HLOOKUP(C1,VE!A1:P16,_xlfn.XMATCH(A10,VE!A1:A16),FALSE),HLOOKUP(C1,VE!A1:P16,_xlfn.XMATCH(A10,VE!A1:A16),FALSE))) -> 55.71831 | D10: =IF(HLOOKUP(D1,Histogram!A1:AM21,_xlfn.XMATCH(A10,Histogram!A1:A50),FALSE)="",HLOOKUP(D1,VE!A1:P16,_xlfn.XMATCH(A10,VE!A1:A16),FALSE),IF(OR(HLOOKUP(D1,Histogram!A1:AM21,_xlfn.XMATCH(A10,Histogram!A1:A50),FALSE)<H21,HLOOKUP(D1,Histogram!A1:AM21,_xlfn.XMATCH(A10,Histogram!A1:A50),FALSE)>J21),((HLOOKUP(D1,Histogram!A1:AM21,_xlfn.XMATCH(A10,Histogram!A1:A50),FALSE)-1)*(H22/100)+1)*HLOOKUP(D1,VE!A1:P16,_xlfn.XMATCH(A10,VE!A1:A16),FALSE),HLOOKUP(D1,VE!A1:P16,_xlfn.XMATCH(A10,VE!A1:A16),FALSE))) -> 71.38368 | E10: =IF(HLOOKUP(E1,Histogram!A1:AM21,_xlfn.XMATCH(A10,Histogram!A1:A50),FALSE)="",HLOOKUP(E1,VE!A1:P16,_xlfn.XMATCH(A10,VE!A1:A16),FALSE),IF(OR(HLOOKUP(E1,Histogram!A1:AM21,_xlfn.XMATCH(A10,Histogram!A1:A50),FALSE)<H21,HLOOKUP(E1,Histogram!A1:AM21,_xlfn.XMATCH(A10,Histogram!A1:A50),FALSE)>J21),((HLOOKUP(E1,Histogram!A1:AM21,_xlfn.XMATCH(A10,Histogram!A1:A50),FALSE)-1)*(H22/100)+1)*HLOOKUP(E1,VE!A1:P16,_xlfn.XMATCH(A10,VE!A1:A16),FALSE),HLOOKUP(E1,VE!A1:P16,_xlfn.XMATCH(A10,VE!A1:A16),FALSE))) -> 75.93264 | F10: =IF(HLOOKUP(F1,Histogram!A1:AM21,_xlfn.XMATCH(A10,Histogram!A1:A50),FALSE)="",HLOOKUP(F1,VE!A1:P16,_xlfn.XMATCH(A10,VE!A1:A16),FALSE),IF(OR(HLOOKUP(F1,Histogram!A1:AM21,_xlfn.XMATCH(A10,Histogram!A1:A50),FALSE)<H21,HLOOKUP(F1,Histogram!A1:AM21,_xlfn.XMATCH(A10,Histogram!A1:A50),FALSE)>J21),((HLOOKUP(F1,Histogram!A1:AM21,_xlfn.XMATCH(A10,Histogram!A1:A50),FALSE)-1)*(H22/100)+1)*HLOOKUP(F1,VE!A1:P16,_xlfn.XMATCH(A10,VE!A1:A16),FALSE),HLOOKUP(F1,VE!A1:P16,_xlfn.XMATCH(A10,VE!A1:A16),FALSE))) -> 82.81 | G10: =IF(HLOOKUP(G1,Histogram!A1:AM21,_xlfn.XMATCH(A10,Histogram!A1:A50),FALSE)="",HLOOKUP(G1,VE!A1:P16,_xlfn.XMATCH(A10,VE!A1:A16),FALSE),IF(OR(HLOOKUP(G1,Histogram!A1:AM21,_xlfn.XMATCH(A10,Histogram!A1:A50),FALSE)<H21,HLOOKUP(G1,Histogram!A1:AM21,_xlfn.XMATCH(A10,Histogram!A1:A50),FALSE)>J21),((HLOOKUP(G1,Histogram!A1:AM21,_xlfn.XMATCH(A10,Histogram!A1:A50),FALSE)-1)*(H22/100)+1)*HLOOKUP(G1,VE!A1:P16,_xlfn.XMATCH(A10,VE!A1:A16),FALSE),HLOOKUP(G1,VE!A1:P16,_xlfn.XMATCH(A10,VE!A1:A16),FALSE))) -> 84.37 | H10: =IF(HLOOKUP(H1,Histogram!A1:AM21,_xlfn.XMATCH(A10,Histogram!A1:A50),FALSE)="",HLOOKUP(H1,VE!A1:P16,_xlfn.XMATCH(A10,VE!A1:A16),FALSE),IF(OR(HLOOKUP(H1,Histogram!A1:AM21,_xlfn.XMATCH(A10,Histogram!A1:A50),FALSE)<H21,HLOOKUP(H1,Histogram!A1:AM21,_xlfn.XMATCH(A10,Histogram!A1:A50),FALSE)>J21),((HLOOKUP(H1,Histogram!A1:AM21,_xlfn.XMATCH(A10,Histogram!A1:A50),FALSE)-1)*(H22/100)+1)*HLOOKUP(H1,VE!A1:P16,_xlfn.XMATCH(A10,VE!A1:A16),FALSE),HLOOKUP(H1,VE!A1:P16,_xlfn.XMATCH(A10,VE!A1:A16),FALSE))) -> 82.03 | I10: =IF(HLOOKUP(I1,Histogram!A1:AM21,_xlfn.XMATCH(A10,Histogram!A1:A50),FALSE)="",HLOOKUP(I1,VE!A1:P16,_xlfn.XMATCH(A10,VE!A1:A16),FALSE),IF(OR(HLOOKUP(I1,Histogram!A1:AM21,_xlfn.XMATCH(A10,Histogram!A1:A50),FALSE)<H21,HLOOKUP(I1,Histogram!A1:AM21,_xlfn.XMATCH(A10,Histogram!A1:A50),FALSE)>J21),((HLOOKUP(I1,Histogram!A1:AM21,_xlfn.XMATCH(A10,Histogram!A1:A50),FALSE)-1)*(H22/100)+1)*HLOOKUP(I1,VE!A1:P16,_xlfn.XMATCH(A10,VE!A1:A16),FALSE),HLOOKUP(I1,VE!A1:P16,_xlfn.XMATCH(A10,VE!A1:A16),FALSE))) -> 82.03 | J10: =IF(HLOOKUP(J1,Histogram!A1:AM21,_xlfn.XMATCH(A10,Histogram!A1:A50),FALSE)="",HLOOKUP(J1,VE!A1:P16,_xlfn.XMATCH(A10,VE!A1:A16),FALSE),IF(OR(HLOOKUP(J1,Histogram!A1:AM21,_xlfn.XMATCH(A10,Histogram!A1:A50),FALSE)<H21,HLOOKUP(J1,Histogram!A1:AM21,_xlfn.XMATCH(A10,Histogram!A1:A50),FALSE)>J21),((HLOOKUP(J1,Histogram!A1:AM21,_xlfn.XMATCH(A10,Histogram!A1:A50),FALSE)-1)*(H22/100)+1)*HLOOKUP(J1,VE!A1:P16,_xlfn.XMATCH(A10,VE!A1:A16),FALSE),HLOOKUP(J1,VE!A1:P16,_xlfn.XMATCH(A10,VE!A1:A16),FALSE))) -> 82.03 | K10: =IF(HLOOKUP(K1,Histogram!A1:AM21,_xlfn.XMATCH(A10,Histogram!A1:A50),FALSE)="",HLOOKUP(K1,VE!A1:P16,_xlfn.XMATCH(A10,VE!A1:A16),FALSE),IF(OR(HLOOKUP(K1,Histogram!A1:AM21,_xlfn.XMATCH(A10,Histogram!A1:A50),FALSE)<H21,HLOOKUP(K1,Histogram!A1:AM21,_xlfn.XMATCH(A10,Histogram!A1:A50),FALSE)>J21),((HLOOKUP(K1,Histogram!A1:AM21,_xlfn.XMATCH(A10,Histogram!A1:A50),FALSE)-1)*(H22/100)+1)*HLOOKUP(K1,VE!A1:P16,_xlfn.XMATCH(A10,VE!A1:A16),FALSE),HLOOKUP(K1,VE!A1:P16,_xlfn.XMATCH(A10,VE!A1:A16),FALSE))) -> 82.03 | L10: =IF(HLOOKUP(L1,Histogram!A1:AM21,_xlfn.XMATCH(A10,Histogram!A1:A50),FALSE)="",HLOOKUP(L1,VE!A1:P16,_xlfn.XMATCH(A10,VE!A1:A16),FALSE),IF(OR(HLOOKUP(L1,Histogram!A1:AM21,_xlfn.XMATCH(A10,Histogram!A1:A50),FALSE)<H21,HLOOKUP(L1,Histogram!A1:AM21,_xlfn.XMATCH(A10,Histogram!A1:A50),FALSE)>J21),((HLOOKUP(L1,Histogram!A1:AM21,_xlfn.XMATCH(A10,Histogram!A1:A50),FALSE)-1)*(H22/100)+1)*HLOOKUP(L1,VE!A1:P16,_xlfn.XMATCH(A10,VE!A1:A16),FALSE),HLOOKUP(L1,VE!A1:P16,_xlfn.XMATCH(A10,VE!A1:A16),FALSE))) -> 82.03 | M10: =IF(HLOOKUP(M1,Histogram!A1:AM21,_xlfn.XMATCH(A10,Histogram!A1:A50),FALSE)="",HLOOKUP(M1,VE!A1:P16,_xlfn.XMATCH(A10,VE!A1:A16),FALSE),IF(OR(HLOOKUP(M1,Histogram!A1:AM21,_xlfn.XMATCH(A10,Histogram!A1:A50),FALSE)<H21,HLOOKUP(M1,Histogram!A1:AM21,_xlfn.XMATCH(A10,Histogram!A1:A50),FALSE)>J21),((HLOOKUP(M1,Histogram!A1:AM21,_xlfn.XMATCH(A10,Histogram!A1:A50),FALSE)-1)*(H22/100)+1)*HLOOKUP(M1,VE!A1:P16,_xlfn.XMATCH(A10,VE!A1:A16),FALSE),HLOOKUP(M1,VE!A1:P16,_xlfn.XMATCH(A10,VE!A1:A16),FALSE))) -> 82.03 | N10: =IF(HLOOKUP(N1,Histogram!A1:AM21,_xlfn.XMATCH(A10,Histogram!A1:A50),FALSE)="",HLOOKUP(N1,VE!A1:P16,_xlfn.XMATCH(A10,VE!A1:A16),FALSE),IF(OR(HLOOKUP(N1,Histogram!A1:AM21,_xlfn.XMATCH(A10,Histogram!A1:A50),FALSE)<H21,HLOOKUP(N1,Histogram!A1:AM21,_xlfn.XMATCH(A10,Histogram!A1:A50),FALSE)>J21),((HLOOKUP(N1,Histogram!A1:AM21,_xlfn.XMATCH(A10,Histogram!A1:A50),FALSE)-1)*(H22/100)+1)*HLOOKUP(N1,VE!A1:P16,_xlfn.XMATCH(A10,VE!A1:A16),FALSE),HLOOKUP(N1,VE!A1:P16,_xlfn.XMATCH(A10,VE!A1:A16),FALSE))) -> 82.03 | O10: =IF(HLOOKUP(O1,Histogram!A1:AM21,_xlfn.XMATCH(A10,Histogram!A1:A50),FALSE)="",HLOOKUP(O1,VE!A1:P16,_xlfn.XMATCH(A10,VE!A1:A16),FALSE),IF(OR(HLOOKUP(O1,Histogram!A1:AM21,_xlfn.XMATCH(A10,Histogram!A1:A50),FALSE)<H21,HLOOKUP(O1,Histogram!A1:AM21,_xlfn.XMATCH(A10,Histogram!A1:A50),FALSE)>J21),((HLOOKUP(O1,Histogram!A1:AM21,_xlfn.XMATCH(A10,Histogram!A1:A50),FALSE)-1)*(H22/100)+1)*HLOOKUP(O1,VE!A1:P16,_xlfn.XMATCH(A10,VE!A1:A16),FALSE),HLOOKUP(O1,VE!A1:P16,_xlfn.XMATCH(A10,VE!A1:A16),FALSE))) -> 82.03 | P10: =IF(HLOOKUP(P1,Histogram!A1:AM21,_xlfn.XMATCH(A10,Histogram!A1:A50),FALSE)="",HLOOKUP(P1,VE!A1:P16,_xlfn.XMATCH(A10,VE!A1:A16),FALSE),IF(OR(HLOOKUP(P1,Histogram!A1:AM21,_xlfn.XMATCH(A10,Histogram!A1:A50),FALSE)<H21,HLOOKUP(P1,Histogram!A1:AM21,_xlfn.XMATCH(A10,Histogram!A1:A50),FALSE)>J21),((HLOOKUP(P1,Histogram!A1:AM21,_xlfn.XMATCH(A10,Histogram!A1:A50),FALSE)-1)*(H22/100)+1)*HLOOKUP(P1,VE!A1:P16,_xlfn.XMATCH(A10,VE!A1:A16),FALSE),HLOOKUP(P1,VE!A1:P16,_xlfn.XMATCH(A10,VE!A1:A16),FALSE))) -> 82.03
A11: 0.75 | B11: =IF(HLOOKUP(B1,Histogram!A1:AM21,_xlfn.XMATCH(A11,Histogram!A1:A50),FALSE)="",HLOOKUP(B1,VE!A1:P16,_xlfn.XMATCH(A11,VE!A1:A16),FALSE),IF(OR(HLOOKUP(B1,Histogram!A1:AM21,_xlfn.XMATCH(A11,Histogram!A1:A50),FALSE)<H21,HLOOKUP(B1,Histogram!A1:AM21,_xlfn.XMATCH(A11,Histogram!A1:A50),FALSE)>J21),((HLOOKUP(B1,Histogram!A1:AM21,_xlfn.XMATCH(A11,Histogram!A1:A50),FALSE)-1)*(H22/100)+1)*HLOOKUP(B1,VE!A1:P16,_xlfn.XMATCH(A11,VE!A1:A16),FALSE),HLOOKUP(B1,VE!A1:P16,_xlfn.XMATCH(A11,VE!A1:A16),FALSE))) -> 67.97 | C11: =IF(HLOOKUP(C1,Histogram!A1:AM21,_xlfn.XMATCH(A11,Histogram!A1:A50),FALSE)="",HLOOKUP(C1,VE!A1:P16,_xlfn.XMATCH(A11,VE!A1:A16),FALSE),IF(OR(HLOOKUP(C1,Histogram!A1:AM21,_xlfn.XMATCH(A11,Histogram!A1:A50),FALSE)<H21,HLOOKUP(C1,Histogram!A1:AM21,_xlfn.XMATCH(A11,Histogram!A1:A50),FALSE)>J21),((HLOOKUP(C1,Histogram!A1:AM21,_xlfn.XMATCH(A11,Histogram!A1:A50),FALSE)-1)*(H22/100)+1)*HLOOKUP(C1,VE!A1:P16,_xlfn.XMATCH(A11,VE!A1:A16),FALSE),HLOOKUP(C1,VE!A1:P16,_xlfn.XMATCH(A11,VE!A1:A16),FALSE))) -> 70.77084 | D11: =IF(HLOOKUP(D1,Histogram!A1:AM21,_xlfn.XMATCH(A11,Histogram!A1:A50),FALSE)="",HLOOKUP(D1,VE!A1:P16,_xlfn.XMATCH(A11,VE!A1:A16),FALSE),IF(OR(HLOOKUP(D1,Histogram!A1:AM21,_xlfn.XMATCH(A11,Histogram!A1:A50),FALSE)<H21,HLOOKUP(D1,Histogram!A1:AM21,_xlfn.XMATCH(A11,Histogram!A1:A50),FALSE)>J21),((HLOOKUP(D1,Histogram!A1:AM21,_xlfn.XMATCH(A11,Histogram!A1:A50),FALSE)-1)*(H22/100)+1)*HLOOKUP(D1,VE!A1:P16,_xlfn.XMATCH(A11,VE!A1:A16),FALSE),HLOOKUP(D1,VE!A1:P16,_xlfn.XMATCH(A11,VE!A1:A16),FALSE))) -> 76.34302 | E11: =IF(HLOOKUP(E1,Histogram!A1:AM21,_xlfn.XMATCH(A11,Histogram!A1:A50),FALSE)="",HLOOKUP(E1,VE!A1:P16,_xlfn.XMATCH(A11,VE!A1:A16),FALSE),IF(OR(HLOOKUP(E1,Histogram!A1:AM21,_xlfn.XMATCH(A11,Histogram!A1:A50),FALSE)<H21,HLOOKUP(E1,Histogram!A1:AM21,_xlfn.XMATCH(A11,Histogram!A1:A50),FALSE)>J21),((HLOOKUP(E1,Histogram!A1:AM21,_xlfn.XMATCH(A11,Histogram!A1:A50),FALSE)-1)*(H22/100)+1)*HLOOKUP(E1,VE!A1:P16,_xlfn.XMATCH(A11,VE!A1:A16),FALSE),HLOOKUP(E1,VE!A1:P16,_xlfn.XMATCH(A11,VE!A1:A16),FALSE))) -> 79.45093 | F11: =IF(HLOOKUP(F1,Histogram!A1:AM21,_xlfn.XMATCH(A11,Histogram!A1:A50),FALSE)="",HLOOKUP(F1,VE!A1:P16,_xlfn.XMATCH(A11,VE!A1:A16),FALSE),IF(OR(HLOOKUP(F1,Histogram!A1:AM21,_xlfn.XMATCH(A11,Histogram!A1:A50),FALSE)<H21,HLOOKUP(F1,Histogram!A1:AM21,_xlfn.XMATCH(A11,Histogram!A1:A50),FALSE)>J21),((HLOOKUP(F1,Histogram!A1:AM21,_xlfn.XMATCH(A11,Histogram!A1:A50),FALSE)-1)*(H22/100)+1)*HLOOKUP(F1,VE!A1:P16,_xlfn.XMATCH(A11,VE!A1:A16),FALSE),HLOOKUP(F1,VE!A1:P16,_xlfn.XMATCH(A11,VE!A1:A16),FALSE))) -> 85.15 | G11: =IF(HLOOKUP(G1,Histogram!A1:AM21,_xlfn.XMATCH(A11,Histogram!A1:A50),FALSE)="",HLOOKUP(G1,VE!A1:P16,_xlfn.XMATCH(A11,VE!A1:A16),FALSE),IF(OR(HLOOKUP(G1,Histogram!A1:AM21,_xlfn.XMATCH(A11,Histogram!A1:A50),FALSE)<H21,HLOOKUP(G1,Histogram!A1:AM21,_xlfn.XMATCH(A11,Histogram!A1:A50),FALSE)>J21),((HLOOKUP(G1,Histogram!A1:AM21,_xlfn.XMATCH(A11,Histogram!A1:A50),FALSE)-1)*(H22/100)+1)*HLOOKUP(G1,VE!A1:P16,_xlfn.XMATCH(A11,VE!A1:A16),FALSE),HLOOKUP(G1,VE!A1:P16,_xlfn.XMATCH(A11,VE!A1:A16),FALSE))) -> 89.06 | H11: =IF(HLOOKUP(H1,Histogram!A1:AM21,_xlfn.XMATCH(A11,Histogram!A1:A50),FALSE)="",HLOOKUP(H1,VE!A1:P16,_xlfn.XMATCH(A11,VE!A1:A16),FALSE),IF(OR(HLOOKUP(H1,Histogram!A1:AM21,_xlfn.XMATCH(A11,Histogram!A1:A50),FALSE)<H21,HLOOKUP(H1,Histogram!A1:AM21,_xlfn.XMATCH(A11,Histogram!A1:A50),FALSE)>J21),((HLOOKUP(H1,Histogram!A1:AM21,_xlfn.XMATCH(A11,Histogram!A1:A50),FALSE)-1)*(H22/100)+1)*HLOOKUP(H1,VE!A1:P16,_xlfn.XMATCH(A11,VE!A1:A16),FALSE),HLOOKUP(H1,VE!A1:P16,_xlfn.XMATCH(A11,VE!A1:A16),FALSE))) -> 89.84 | I11: =IF(HLOOKUP(I1,Histogram!A1:AM21,_xlfn.XMATCH(A11,Histogram!A1:A50),FALSE)="",HLOOKUP(I1,VE!A1:P16,_xlfn.XMATCH(A11,VE!A1:A16),FALSE),IF(OR(HLOOKUP(I1,Histogram!A1:AM21,_xlfn.XMATCH(A11,Histogram!A1:A50),FALSE)<H21,HLOOKUP(I1,Histogram!A1:AM21,_xlfn.XMATCH(A11,Histogram!A1:A50),FALSE)>J21),((HLOOKUP(I1,Histogram!A1:AM21,_xlfn.XMATCH(A11,Histogram!A1:A50),FALSE)-1)*(H22/100)+1)*HLOOKUP(I1,VE!A1:P16,_xlfn.XMATCH(A11,VE!A1:A16),FALSE),HLOOKUP(I1,VE!A1:P16,_xlfn.XMATCH(A11,VE!A1:A16),FALSE))) -> 89.84 | J11: =IF(HLOOKUP(J1,Histogram!A1:AM21,_xlfn.XMATCH(A11,Histogram!A1:A50),FALSE)="",HLOOKUP(J1,VE!A1:P16,_xlfn.XMATCH(A11,VE!A1:A16),FALSE),IF(OR(HLOOKUP(J1,Histogram!A1:AM21,_xlfn.XMATCH(A11,Histogram!A1:A50),FALSE)<H21,HLOOKUP(J1,Histogram!A1:AM21,_xlfn.XMATCH(A11,Histogram!A1:A50),FALSE)>J21),((HLOOKUP(J1,Histogram!A1:AM21,_xlfn.XMATCH(A11,Histogram!A1:A50),FALSE)-1)*(H22/100)+1)*HLOOKUP(J1,VE!A1:P16,_xlfn.XMATCH(A11,VE!A1:A16),FALSE),HLOOKUP(J1,VE!A1:P16,_xlfn.XMATCH(A11,VE!A1:A16),FALSE))) -> 94.53 | K11: =IF(HLOOKUP(K1,Histogram!A1:AM21,_xlfn.XMATCH(A11,Histogram!A1:A50),FALSE)="",HLOOKUP(K1,VE!A1:P16,_xlfn.XMATCH(A11,VE!A1:A16),FALSE),IF(OR(HLOOKUP(K1,Histogram!A1:AM21,_xlfn.XMATCH(A11,Histogram!A1:A50),FALSE)<H21,HLOOKUP(K1,Histogram!A1:AM21,_xlfn.XMATCH(A11,Histogram!A1:A50),FALSE)>J21),((HLOOKUP(K1,Histogram!A1:AM21,_xlfn.XMATCH(A11,Histogram!A1:A50),FALSE)-1)*(H22/100)+1)*HLOOKUP(K1,VE!A1:P16,_xlfn.XMATCH(A11,VE!A1:A16),FALSE),HLOOKUP(K1,VE!A1:P16,_xlfn.XMATCH(A11,VE!A1:A16),FALSE))) -> 94.53 | L11: =IF(HLOOKUP(L1,Histogram!A1:AM21,_xlfn.XMATCH(A11,Histogram!A1:A50),FALSE)="",HLOOKUP(L1,VE!A1:P16,_xlfn.XMATCH(A11,VE!A1:A16),FALSE),IF(OR(HLOOKUP(L1,Histogram!A1:AM21,_xlfn.XMATCH(A11,Histogram!A1:A50),FALSE)<H21,HLOOKUP(L1,Histogram!A1:AM21,_xlfn.XMATCH(A11,Histogram!A1:A50),FALSE)>J21),((HLOOKUP(L1,Histogram!A1:AM21,_xlfn.XMATCH(A11,Histogram!A1:A50),FALSE)-1)*(H22/100)+1)*HLOOKUP(L1,VE!A1:P16,_xlfn.XMATCH(A11,VE!A1:A16),FALSE),HLOOKUP(L1,VE!A1:P16,_xlfn.XMATCH(A11,VE!A1:A16),FALSE))) -> 94.53 | M11: =IF(HLOOKUP(M1,Histogram!A1:AM21,_xlfn.XMATCH(A11,Histogram!A1:A50),FALSE)="",HLOOKUP(M1,VE!A1:P16,_xlfn.XMATCH(A11,VE!A1:A16),FALSE),IF(OR(HLOOKUP(M1,Histogram!A1:AM21,_xlfn.XMATCH(A11,Histogram!A1:A50),FALSE)<H21,HLOOKUP(M1,Histogram!A1:AM21,_xlfn.XMATCH(A11,Histogram!A1:A50),FALSE)>J21),((HLOOKUP(M1,Histogram!A1:AM21,_xlfn.XMATCH(A11,Histogram!A1:A50),FALSE)-1)*(H22/100)+1)*HLOOKUP(M1,VE!A1:P16,_xlfn.XMATCH(A11,VE!A1:A16),FALSE),HLOOKUP(M1,VE!A1:P16,_xlfn.XMATCH(A11,VE!A1:A16),FALSE))) -> 94.53 | N11: =IF(HLOOKUP(N1,Histogram!A1:AM21,_xlfn.XMATCH(A11,Histogram!A1:A50),FALSE)="",HLOOKUP(N1,VE!A1:P16,_xlfn.XMATCH(A11,VE!A1:A16),FALSE),IF(OR(HLOOKUP(N1,Histogram!A1:AM21,_xlfn.XMATCH(A11,Histogram!A1:A50),FALSE)<H21,HLOOKUP(N1,Histogram!A1:AM21,_xlfn.XMATCH(A11,Histogram!A1:A50),FALSE)>J21),((HLOOKUP(N1,Histogram!A1:AM21,_xlfn.XMATCH(A11,Histogram!A1:A50),FALSE)-1)*(H22/100)+1)*HLOOKUP(N1,VE!A1:P16,_xlfn.XMATCH(A11,VE!A1:A16),FALSE),HLOOKUP(N1,VE!A1:P16,_xlfn.XMATCH(A11,VE!A1:A16),FALSE))) -> 94.53 | O11: =IF(HLOOKUP(O1,Histogram!A1:AM21,_xlfn.XMATCH(A11,Histogram!A1:A50),FALSE)="",HLOOKUP(O1,VE!A1:P16,_xlfn.XMATCH(A11,VE!A1:A16),FALSE),IF(OR(HLOOKUP(O1,Histogram!A1:AM21,_xlfn.XMATCH(A11,Histogram!A1:A50),FALSE)<H21,HLOOKUP(O1,Histogram!A1:AM21,_xlfn.XMATCH(A11,Histogram!A1:A50),FALSE)>J21),((HLOOKUP(O1,Histogram!A1:AM21,_xlfn.XMATCH(A11,Histogram!A1:A50),FALSE)-1)*(H22/100)+1)*HLOOKUP(O1,VE!A1:P16,_xlfn.XMATCH(A11,VE!A1:A16),FALSE),HLOOKUP(O1,VE!A1:P16,_xlfn.XMATCH(A11,VE!A1:A16),FALSE))) -> 94.53 | P11: =IF(HLOOKUP(P1,Histogram!A1:AM21,_xlfn.XMATCH(A11,Histogram!A1:A50),FALSE)="",HLOOKUP(P1,VE!A1:P16,_xlfn.XMATCH(A11,VE!A1:A16),FALSE),IF(OR(HLOOKUP(P1,Histogram!A1:AM21,_xlfn.XMATCH(A11,Histogram!A1:A50),FALSE)<H21,HLOOKUP(P1,Histogram!A1:AM21,_xlfn.XMATCH(A11,Histogram!A1:A50),FALSE)>J21),((HLOOKUP(P1,Histogram!A1:AM21,_xlfn.XMATCH(A11,Histogram!A1:A50),FALSE)-1)*(H22/100)+1)*HLOOKUP(P1,VE!A1:P16,_xlfn.XMATCH(A11,VE!A1:A16),FALSE),HLOOKUP(P1,VE!A1:P16,_xlfn.XMATCH(A11,VE!A1:A16),FALSE))) -> 94.53
A12: 0.8 | B12: =IF(HLOOKUP(B1,Histogram!A1:AM21,_xlfn.XMATCH(A12,Histogram!A1:A50),FALSE)="",HLOOKUP(B1,VE!A1:P16,_xlfn.XMATCH(A12,VE!A1:A16),FALSE),IF(OR(HLOOKUP(B1,Histogram!A1:AM21,_xlfn.XMATCH(A12,Histogram!A1:A50),FALSE)<H21,HLOOKUP(B1,Histogram!A1:AM21,_xlfn.XMATCH(A12,Histogram!A1:A50),FALSE)>J21),((HLOOKUP(B1,Histogram!A1:AM21,_xlfn.XMATCH(A12,Histogram!A1:A50),FALSE)-1)*(H22/100)+1)*HLOOKUP(B1,VE!A1:P16,_xlfn.XMATCH(A12,VE!A1:A16),FALSE),HLOOKUP(B1,VE!A1:P16,_xlfn.XMATCH(A12,VE!A1:A16),FALSE))) -> 69.53 | C12: =IF(HLOOKUP(C1,Histogram!A1:AM21,_xlfn.XMATCH(A12,Histogram!A1:A50),FALSE)="",HLOOKUP(C1,VE!A1:P16,_xlfn.XMATCH(A12,VE!A1:A16),FALSE),IF(OR(HLOOKUP(C1,Histogram!A1:AM21,_xlfn.XMATCH(A12,Histogram!A1:A50),FALSE)<H21,HLOOKUP(C1,Histogram!A1:AM21,_xlfn.XMATCH(A12,Histogram!A1:A50),FALSE)>J21),((HLOOKUP(C1,Histogram!A1:AM21,_xlfn.XMATCH(A12,Histogram!A1:A50),FALSE)-1)*(H22/100)+1)*HLOOKUP(C1,VE!A1:P16,_xlfn.XMATCH(A12,VE!A1:A16),FALSE),HLOOKUP(C1,VE!A1:P16,_xlfn.XMATCH(A12,VE!A1:A16),FALSE))) -> 71.84496 | D12: =IF(HLOOKUP(D1,Histogram!A1:AM21,_xlfn.XMATCH(A12,Histogram!A1:A50),FALSE)="",HLOOKUP(D1,VE!A1:P16,_xlfn.XMATCH(A12,VE!A1:A16),FALSE),IF(OR(HLOOKUP(D1,Histogram!A1:AM21,_xlfn.XMATCH(A12,Histogram!A1:A50),FALSE)<H21,HLOOKUP(D1,Histogram!A1:AM21,_xlfn.XMATCH(A12,Histogram!A1:A50),FALSE)>J21),((HLOOKUP(D1,Histogram!A1:AM21,_xlfn.XMATCH(A12,Histogram!A1:A50),FALSE)-1)*(H22/100)+1)*HLOOKUP(D1,VE!A1:P16,_xlfn.XMATCH(A12,VE!A1:A16),FALSE),HLOOKUP(D1,VE!A1:P16,_xlfn.XMATCH(A12,VE!A1:A16),FALSE))) -> 79.5691 | E12: =IF(HLOOKUP(E1,Histogram!A1:AM21,_xlfn.XMATCH(A12,Histogram!A1:A50),FALSE)="",HLOOKUP(E1,VE!A1:P16,_xlfn.XMATCH(A12,VE!A1:A16),FALSE),IF(OR(HLOOKUP(E1,Histogram!A1:AM21,_xlfn.XMATCH(A12,Histogram!A1:A50),FALSE)<H21,HLOOKUP(E1,Histogram!A1:AM21,_xlfn.XMATCH(A12,Histogram!A1:A50),FALSE)>J21),((HLOOKUP(E1,Histogram!A1:AM21,_xlfn.XMATCH(A12,Histogram!A1:A50),FALSE)-1)*(H22/100)+1)*HLOOKUP(E1,VE!A1:P16,_xlfn.XMATCH(A12,VE!A1:A16),FALSE),HLOOKUP(E1,VE!A1:P16,_xlfn.XMATCH(A12,VE!A1:A16),FALSE))) -> 78.91286 | F12: =IF(HLOOKUP(F1,Histogram!A1:AM21,_xlfn.XMATCH(A12,Histogram!A1:A50),FALSE)="",HLOOKUP(F1,VE!A1:P16,_xlfn.XMATCH(A12,VE!A1:A16),FALSE),IF(OR(HLOOKUP(F1,Histogram!A1:AM21,_xlfn.XMATCH(A12,Histogram!A1:A50),FALSE)<H21,HLOOKUP(F1,Histogram!A1:AM21,_xlfn.XMATCH(A12,Histogram!A1:A50),FALSE)>J21),((HLOOKUP(F1,Histogram!A1:AM21,_xlfn.XMATCH(A12,Histogram!A1:A50),FALSE)-1)*(H22/100)+1)*HLOOKUP(F1,VE!A1:P16,_xlfn.XMATCH(A12,VE!A1:A16),FALSE),HLOOKUP(F1,VE!A1:P16,_xlfn.XMATCH(A12,VE!A1:A16),FALSE))) -> 88.28 | G12: =IF(HLOOKUP(G1,Histogram!A1:AM21,_xlfn.XMATCH(A12,Histogram!A1:A50),FALSE)="",HLOOKUP(G1,VE!A1:P16,_xlfn.XMATCH(A12,VE!A1:A16),FALSE),IF(OR(HLOOKUP(G1,Histogram!A1:AM21,_xlfn.XMATCH(A12,Histogram!A1:A50),FALSE)<H21,HLOOKUP(G1,Histogram!A1:AM21,_xlfn.XMATCH(A12,Histogram!A1:A50),FALSE)>J21),((HLOOKUP(G1,Histogram!A1:AM21,_xlfn.XMATCH(A12,Histogram!A1:A50),FALSE)-1)*(H22/100)+1)*HLOOKUP(G1,VE!A1:P16,_xlfn.XMATCH(A12,VE!A1:A16),FALSE),HLOOKUP(G1,VE!A1:P16,_xlfn.XMATCH(A12,VE!A1:A16),FALSE))) -> 91.4 | H12: =IF(HLOOKUP(H1,Histogram!A1:AM21,_xlfn.XMATCH(A12,Histogram!A1:A50),FALSE)="",HLOOKUP(H1,VE!A1:P16,_xlfn.XMATCH(A12,VE!A1:A16),FALSE),IF(OR(HLOOKUP(H1,Histogram!A1:AM21,_xlfn.XMATCH(A12,Histogram!A1:A50),FALSE)<H21,HLOOKUP(H1,Histogram!A1:AM21,_xlfn.XMATCH(A12,Histogram!A1:A50),FALSE)>J21),((HLOOKUP(H1,Histogram!A1:AM21,_xlfn.XMATCH(A12,Histogram!A1:A50),FALSE)-1)*(H22/100)+1)*HLOOKUP(H1,VE!A1:P16,_xlfn.XMATCH(A12,VE!A1:A16),FALSE),HLOOKUP(H1,VE!A1:P16,_xlfn.XMATCH(A12,VE!A1:A16),FALSE))) -> 96.09 | I12: =IF(HLOOKUP(I1,Histogram!A1:AM21,_xlfn.XMATCH(A12,Histogram!A1:A50),FALSE)="",HLOOKUP(I1,VE!A1:P16,_xlfn.XMATCH(A12,VE!A1:A16),FALSE),IF(OR(HLOOKUP(I1,Histogram!A1:AM21,_xlfn.XMATCH(A12,Histogram!A1:A50),FALSE)<H21,HLOOKUP(I1,Histogram!A1:AM21,_xlfn.XMATCH(A12,Histogram!A1:A50),FALSE)>J21),((HLOOKUP(I1,Histogram!A1:AM21,_xlfn.XMATCH(A12,Histogram!A1:A50),FALSE)-1)*(H22/100)+1)*HLOOKUP(I1,VE!A1:P16,_xlfn.XMATCH(A12,VE!A1:A16),FALSE),HLOOKUP(I1,VE!A1:P16,_xlfn.XMATCH(A12,VE!A1:A16),FALSE))) -> 96.09 | J12: =IF(HLOOKUP(J1,Histogram!A1:AM21,_xlfn.XMATCH(A12,Histogram!A1:A50),FALSE)="",HLOOKUP(J1,VE!A1:P16,_xlfn.XMATCH(A12,VE!A1:A16),FALSE),IF(OR(HLOOKUP(J1,Histogram!A1:AM21,_xlfn.XMATCH(A12,Histogram!A1:A50),FALSE)<H21,HLOOKUP(J1,Histogram!A1:AM21,_xlfn.XMATCH(A12,Histogram!A1:A50),FALSE)>J21),((HLOOKUP(J1,Histogram!A1:AM21,_xlfn.XMATCH(A12,Histogram!A1:A50),FALSE)-1)*(H22/100)+1)*HLOOKUP(J1,VE!A1:P16,_xlfn.XMATCH(A12,VE!A1:A16),FALSE),HLOOKUP(J1,VE!A1:P16,_xlfn.XMATCH(A12,VE!A1:A16),FALSE))) -> 96.09 | K12: =IF(HLOOKUP(K1,Histogram!A1:AM21,_xlfn.XMATCH(A12,Histogram!A1:A50),FALSE)="",HLOOKUP(K1,VE!A1:P16,_xlfn.XMATCH(A12,VE!A1:A16),FALSE),IF(OR(HLOOKUP(K1,Histogram!A1:AM21,_xlfn.XMATCH(A12,Histogram!A1:A50),FALSE)<H21,HLOOKUP(K1,Histogram!A1:AM21,_xlfn.XMATCH(A12,Histogram!A1:A50),FALSE)>J21),((HLOOKUP(K1,Histogram!A1:AM21,_xlfn.XMATCH(A12,Histogram!A1:A50),FALSE)-1)*(H22/100)+1)*HLOOKUP(K1,VE!A1:P16,_xlfn.XMATCH(A12,VE!A1:A16),FALSE),HLOOKUP(K1,VE!A1:P16,_xlfn.XMATCH(A12,VE!A1:A16),FALSE))) -> 96.09 | L12: =IF(HLOOKUP(L1,Histogram!A1:AM21,_xlfn.XMATCH(A12,Histogram!A1:A50),FALSE)="",HLOOKUP(L1,VE!A1:P16,_xlfn.XMATCH(A12,VE!A1:A16),FALSE),IF(OR(HLOOKUP(L1,Histogram!A1:AM21,_xlfn.XMATCH(A12,Histogram!A1:A50),FALSE)<H21,HLOOKUP(L1,Histogram!A1:AM21,_xlfn.XMATCH(A12,Histogram!A1:A50),FALSE)>J21),((HLOOKUP(L1,Histogram!A1:AM21,_xlfn.XMATCH(A12,Histogram!A1:A50),FALSE)-1)*(H22/100)+1)*HLOOKUP(L1,VE!A1:P16,_xlfn.XMATCH(A12,VE!A1:A16),FALSE),HLOOKUP(L1,VE!A1:P16,_xlfn.XMATCH(A12,VE!A1:A16),FALSE))) -> 96.09 | M12: =IF(HLOOKUP(M1,Histogram!A1:AM21,_xlfn.XMATCH(A12,Histogram!A1:A50),FALSE)="",HLOOKUP(M1,VE!A1:P16,_xlfn.XMATCH(A12,VE!A1:A16),FALSE),IF(OR(HLOOKUP(M1,Histogram!A1:AM21,_xlfn.XMATCH(A12,Histogram!A1:A50),FALSE)<H21,HLOOKUP(M1,Histogram!A1:AM21,_xlfn.XMATCH(A12,Histogram!A1:A50),FALSE)>J21),((HLOOKUP(M1,Histogram!A1:AM21,_xlfn.XMATCH(A12,Histogram!A1:A50),FALSE)-1)*(H22/100)+1)*HLOOKUP(M1,VE!A1:P16,_xlfn.XMATCH(A12,VE!A1:A16),FALSE),HLOOKUP(M1,VE!A1:P16,_xlfn.XMATCH(A12,VE!A1:A16),FALSE))) -> 96.09 | N12: =IF(HLOOKUP(N1,Histogram!A1:AM21,_xlfn.XMATCH(A12,Histogram!A1:A50),FALSE)="",HLOOKUP(N1,VE!A1:P16,_xlfn.XMATCH(A12,VE!A1:A16),FALSE),IF(OR(HLOOKUP(N1,Histogram!A1:AM21,_xlfn.XMATCH(A12,Histogram!A1:A50),FALSE)<H21,HLOOKUP(N1,Histogram!A1:AM21,_xlfn.XMATCH(A12,Histogram!A1:A50),FALSE)>J21),((HLOOKUP(N1,Histogram!A1:AM21,_xlfn.XMATCH(A12,Histogram!A1:A50),FALSE)-1)*(H22/100)+1)*HLOOKUP(N1,VE!A1:P16,_xlfn.XMATCH(A12,VE!A1:A16),FALSE),HLOOKUP(N1,VE!A1:P16,_xlfn.XMATCH(A12,VE!A1:A16),FALSE))) -> 96.09 | O12: =IF(HLOOKUP(O1,Histogram!A1:AM21,_xlfn.XMATCH(A12,Histogram!A1:A50),FALSE)="",HLOOKUP(O1,VE!A1:P16,_xlfn.XMATCH(A12,VE!A1:A16),FALSE),IF(OR(HLOOKUP(O1,Histogram!A1:AM21,_xlfn.XMATCH(A12,Histogram!A1:A50),FALSE)<H21,HLOOKUP(O1,Histogram!A1:AM21,_xlfn.XMATCH(A12,Histogram!A1:A50),FALSE)>J21),((HLOOKUP(O1,Histogram!A1:AM21,_xlfn.XMATCH(A12,Histogram!A1:A50),FALSE)-1)*(H22/100)+1)*HLOOKUP(O1,VE!A1:P16,_xlfn.XMATCH(A12,VE!A1:A16),FALSE),HLOOKUP(O1,VE!A1:P16,_xlfn.XMATCH(A12,VE!A1:A16),FALSE))) -> 96.09 | P12: =IF(HLOOKUP(P1,Histogram!A1:AM21,_xlfn.XMATCH(A12,Histogram!A1:A50),FALSE)="",HLOOKUP(P1,VE!A1:P16,_xlfn.XMATCH(A12,VE!A1:A16),FALSE),IF(OR(HLOOKUP(P1,Histogram!A1:AM21,_xlfn.XMATCH(A12,Histogram!A1:A50),FALSE)<H21,HLOOKUP(P1,Histogram!A1:AM21,_xlfn.XMATCH(A12,Histogram!A1:A50),FALSE)>J21),((HLOOKUP(P1,Histogram!A1:AM21,_xlfn.XMATCH(A12,Histogram!A1:A50),FALSE)-1)*(H22/100)+1)*HLOOKUP(P1,VE!A1:P16,_xlfn.XMATCH(A12,VE!A1:A16),FALSE),HLOOKUP(P1,VE!A1:P16,_xlfn.XMATCH(A12,VE!A1:A16),FALSE))) -> 96.09
A13: 0.85 | B13: =IF(HLOOKUP(B1,Histogram!A1:AM21,_xlfn.XMATCH(A13,Histogram!A1:A50),FALSE)="",HLOOKUP(B1,VE!A1:P16,_xlfn.XMATCH(A13,VE!A1:A16),FALSE),IF(OR(HLOOKUP(B1,Histogram!A1:AM21,_xlfn.XMATCH(A13,Histogram!A1:A50),FALSE)<H21,HLOOKUP(B1,Histogram!A1:AM21,_xlfn.XMATCH(A13,Histogram!A1:A50),FALSE)>J21),((HLOOKUP(B1,Histogram!A1:AM21,_xlfn.XMATCH(A13,Histogram!A1:A50),FALSE)-1)*(H22/100)+1)*HLOOKUP(B1,VE!A1:P16,_xlfn.XMATCH(A13,VE!A1:A16),FALSE),HLOOKUP(B1,VE!A1:P16,_xlfn.XMATCH(A13,VE!A1:A16),FALSE))) -> 75.78 | C13: =IF(HLOOKUP(C1,Histogram!A1:AM21,_xlfn.XMATCH(A13,Histogram!A1:A50),FALSE)="",HLOOKUP(C1,VE!A1:P16,_xlfn.XMATCH(A13,VE!A1:A16),FALSE),IF(OR(HLOOKUP(C1,Histogram!A1:AM21,_xlfn.XMATCH(A13,Histogram!A1:A50),FALSE)<H21,HLOOKUP(C1,Histogram!A1:AM21,_xlfn.XMATCH(A13,Histogram!A1:A50),FALSE)>J21),((HLOOKUP(C1,Histogram!A1:AM21,_xlfn.XMATCH(A13,Histogram!A1:A50),FALSE)-1)*(H22/100)+1)*HLOOKUP(C1,VE!A1:P16,_xlfn.XMATCH(A13,VE!A1:A16),FALSE),HLOOKUP(C1,VE!A1:P16,_xlfn.XMATCH(A13,VE!A1:A16),FALSE))) -> 79.69 | D13: =IF(HLOOKUP(D1,Histogram!A1:AM21,_xlfn.XMATCH(A13,Histogram!A1:A50),FALSE)="",HLOOKUP(D1,VE!A1:P16,_xlfn.XMATCH(A13,VE!A1:A16),FALSE),IF(OR(HLOOKUP(D1,Histogram!A1:AM21,_xlfn.XMATCH(A13,Histogram!A1:A50),FALSE)<H21,HLOOKUP(D1,Histogram!A1:AM21,_xlfn.XMATCH(A13,Histogram!A1:A50),FALSE)>J21),((HLOOKUP(D1,Histogram!A1:AM21,_xlfn.XMATCH(A13,Histogram!A1:A50),FALSE)-1)*(H22/100)+1)*HLOOKUP(D1,VE!A1:P16,_xlfn.XMATCH(A13,VE!A1:A16),FALSE),HLOOKUP(D1,VE!A1:P16,_xlfn.XMATCH(A13,VE!A1:A16),FALSE))) -> 77.34 | E13: =IF(HLOOKUP(E1,Histogram!A1:AM21,_xlfn.XMATCH(A13,Histogram!A1:A50),FALSE)="",HLOOKUP(E1,VE!A1:P16,_xlfn.XMATCH(A13,VE!A1:A16),FALSE),IF(OR(HLOOKUP(E1,Histogram!A1:AM21,_xlfn.XMATCH(A13,Histogram!A1:A50),FALSE)<H21,HLOOKUP(E1,Histogram!A1:AM21,_xlfn.XMATCH(A13,Histogram!A1:A50),FALSE)>J21),((HLOOKUP(E1,Histogram!A1:AM21,_xlfn.XMATCH(A13,Histogram!A1:A50),FALSE)-1)*(H22/100)+1)*HLOOKUP(E1,VE!A1:P16,_xlfn.XMATCH(A13,VE!A1:A16),FALSE),HLOOKUP(E1,VE!A1:P16,_xlfn.XMATCH(A13,VE!A1:A16),FALSE))) -> 83.27319 | F13: =IF(HLOOKUP(F1,Histogram!A1:AM21,_xlfn.XMATCH(A13,Histogram!A1:A50),FALSE)="",HLOOKUP(F1,VE!A1:P16,_xlfn.XMATCH(A13,VE!A1:A16),FALSE),IF(OR(HLOOKUP(F1,Histogram!A1:AM21,_xlfn.XMATCH(A13,Histogram!A1:A50),FALSE)<H21,HLOOKUP(F1,Histogram!A1:AM21,_xlfn.XMATCH(A13,Histogram!A1:A50),FALSE)>J21),((HLOOKUP(F1,Histogram!A1:AM21,_xlfn.XMATCH(A13,Histogram!A1:A50),FALSE)-1)*(H22/100)+1)*HLOOKUP(F1,VE!A1:P16,_xlfn.XMATCH(A13,VE!A1:A16),FALSE),HLOOKUP(F1,VE!A1:P16,_xlfn.XMATCH(A13,VE!A1:A16),FALSE))) -> 92.19 | G13: =IF(HLOOKUP(G1,Histogram!A1:AM21,_xlfn.XMATCH(A13,Histogram!A1:A50),FALSE)="",HLOOKUP(G1,VE!A1:P16,_xlfn.XMATCH(A13,VE!A1:A16),FALSE),IF(OR(HLOOKUP(G1,Histogram!A1:AM21,_xlfn.XMATCH(A13,Histogram!A1:A50),FALSE)<H21,HLOOKUP(G1,Histogram!A1:AM21,_xlfn.XMATCH(A13,Histogram!A1:A50),FALSE)>J21),((HLOOKUP(G1,Histogram!A1:AM21,_xlfn.XMATCH(A13,Histogram!A1:A50),FALSE)-1)*(H22/100)+1)*HLOOKUP(G1,VE!A1:P16,_xlfn.XMATCH(A13,VE!A1:A16),FALSE),HLOOKUP(G1,VE!A1:P16,_xlfn.XMATCH(A13,VE!A1:A16),FALSE))) -> 92.97 | H13: =IF(HLOOKUP(H1,Histogram!A1:AM21,_xlfn.XMATCH(A13,Histogram!A1:A50),FALSE)="",HLOOKUP(H1,VE!A1:P16,_xlfn.XMATCH(A13,VE!A1:A16),FALSE),IF(OR(HLOOKUP(H1,Histogram!A1:AM21,_xlfn.XMATCH(A13,Histogram!A1:A50),FALSE)<H21,HLOOKUP(H1,Histogram!A1:AM21,_xlfn.XMATCH(A13,Histogram!A1:A50),FALSE)>J21),((HLOOKUP(H1,Histogram!A1:AM21,_xlfn.XMATCH(A13,Histogram!A1:A50),FALSE)-1)*(H22/100)+1)*HLOOKUP(H1,VE!A1:P16,_xlfn.XMATCH(A13,VE!A1:A16),FALSE),HLOOKUP(H1,VE!A1:P16,_xlfn.XMATCH(A13,VE!A1:A16),FALSE))) -> 97.65 | I13: =IF(HLOOKUP(I1,Histogram!A1:AM21,_xlfn.XMATCH(A13,Histogram!A1:A50),FALSE)="",HLOOKUP(I1,VE!A1:P16,_xlfn.XMATCH(A13,VE!A1:A16),FALSE),IF(OR(HLOOKUP(I1,Histogram!A1:AM21,_xlfn.XMATCH(A13,Histogram!A1:A50),FALSE)<H21,HLOOKUP(I1,Histogram!A1:AM21,_xlfn.XMATCH(A13,Histogram!A1:A50),FALSE)>J21),((HLOOKUP(I1,Histogram!A1:AM21,_xlfn.XMATCH(A13,Histogram!A1:A50),FALSE)-1)*(H22/100)+1)*HLOOKUP(I1,VE!A1:P16,_xlfn.XMATCH(A13,VE!A1:A16),FALSE),HLOOKUP(I1,VE!A1:P16,_xlfn.XMATCH(A13,VE!A1:A16),FALSE))) -> 97.65 | J13: =IF(HLOOKUP(J1,Histogram!A1:AM21,_xlfn.XMATCH(A13,Histogram!A1:A50),FALSE)="",HLOOKUP(J1,VE!A1:P16,_xlfn.XMATCH(A13,VE!A1:A16),FALSE),IF(OR(HLOOKUP(J1,Histogram!A1:AM21,_xlfn.XMATCH(A13,Histogram!A1:A50),FALSE)<H21,HLOOKUP(J1,Histogram!A1:AM21,_xlfn.XMATCH(A13,Histogram!A1:A50),FALSE)>J21),((HLOOKUP(J1,Histogram!A1:AM21,_xlfn.XMATCH(A13,Histogram!A1:A50),FALSE)-1)*(H22/100)+1)*HLOOKUP(J1,VE!A1:P16,_xlfn.XMATCH(A13,VE!A1:A16),FALSE),HLOOKUP(J1,VE!A1:P16,_xlfn.XMATCH(A13,VE!A1:A16),FALSE))) -> 97.65 | K13: =IF(HLOOKUP(K1,Histogram!A1:AM21,_xlfn.XMATCH(A13,Histogram!A1:A50),FALSE)="",HLOOKUP(K1,VE!A1:P16,_xlfn.XMATCH(A13,VE!A1:A16),FALSE),IF(OR(HLOOKUP(K1,Histogram!A1:AM21,_xlfn.XMATCH(A13,Histogram!A1:A50),FALSE)<H21,HLOOKUP(K1,Histogram!A1:AM21,_xlfn.XMATCH(A13,Histogram!A1:A50),FALSE)>J21),((HLOOKUP(K1,Histogram!A1:AM21,_xlfn.XMATCH(A13,Histogram!A1:A50),FALSE)-1)*(H22/100)+1)*HLOOKUP(K1,VE!A1:P16,_xlfn.XMATCH(A13,VE!A1:A16),FALSE),HLOOKUP(K1,VE!A1:P16,_xlfn.XMATCH(A13,VE!A1:A16),FALSE))) -> 97.65 | L13: =IF(HLOOKUP(L1,Histogram!A1:AM21,_xlfn.XMATCH(A13,Histogram!A1:A50),FALSE)="",HLOOKUP(L1,VE!A1:P16,_xlfn.XMATCH(A13,VE!A1:A16),FALSE),IF(OR(HLOOKUP(L1,Histogram!A1:AM21,_xlfn.XMATCH(A13,Histogram!A1:A50),FALSE)<H21,HLOOKUP(L1,Histogram!A1:AM21,_xlfn.XMATCH(A13,Histogram!A1:A50),FALSE)>J21),((HLOOKUP(L1,Histogram!A1:AM21,_xlfn.XMATCH(A13,Histogram!A1:A50),FALSE)-1)*(H22/100)+1)*HLOOKUP(L1,VE!A1:P16,_xlfn.XMATCH(A13,VE!A1:A16),FALSE),HLOOKUP(L1,VE!A1:P16,_xlfn.XMATCH(A13,VE!A1:A16),FALSE))) -> 97.65 | M13: =IF(HLOOKUP(M1,Histogram!A1:AM21,_xlfn.XMATCH(A13,Histogram!A1:A50),FALSE)="",HLOOKUP(M1,VE!A1:P16,_xlfn.XMATCH(A13,VE!A1:A16),FALSE),IF(OR(HLOOKUP(M1,Histogram!A1:AM21,_xlfn.XMATCH(A13,Histogram!A1:A50),FALSE)<H21,HLOOKUP(M1,Histogram!A1:AM21,_xlfn.XMATCH(A13,Histogram!A1:A50),FALSE)>J21),((HLOOKUP(M1,Histogram!A1:AM21,_xlfn.XMATCH(A13,Histogram!A1:A50),FALSE)-1)*(H22/100)+1)*HLOOKUP(M1,VE!A1:P16,_xlfn.XMATCH(A13,VE!A1:A16),FALSE),HLOOKUP(M1,VE!A1:P16,_xlfn.XMATCH(A13,VE!A1:A16),FALSE))) -> 97.65 | N13: =IF(HLOOKUP(N1,Histogram!A1:AM21,_xlfn.XMATCH(A13,Histogram!A1:A50),FALSE)="",HLOOKUP(N1,VE!A1:P16,_xlfn.XMATCH(A13,VE!A1:A16),FALSE),IF(OR(HLOOKUP(N1,Histogram!A1:AM21,_xlfn.XMATCH(A13,Histogram!A1:A50),FALSE)<H21,HLOOKUP(N1,Histogram!A1:AM21,_xlfn.XMATCH(A13,Histogram!A1:A50),FALSE)>J21),((HLOOKUP(N1,Histogram!A1:AM21,_xlfn.XMATCH(A13,Histogram!A1:A50),FALSE)-1)*(H22/100)+1)*HLOOKUP(N1,VE!A1:P16,_xlfn.XMATCH(A13,VE!A1:A16),FALSE),HLOOKUP(N1,VE!A1:P16,_xlfn.XMATCH(A13,VE!A1:A16),FALSE))) -> 97.65 | O13: =IF(HLOOKUP(O1,Histogram!A1:AM21,_xlfn.XMATCH(A13,Histogram!A1:A50),FALSE)="",HLOOKUP(O1,VE!A1:P16,_xlfn.XMATCH(A13,VE!A1:A16),FALSE),IF(OR(HLOOKUP(O1,Histogram!A1:AM21,_xlfn.XMATCH(A13,Histogram!A1:A50),FALSE)<H21,HLOOKUP(O1,Histogram!A1:AM21,_xlfn.XMATCH(A13,Histogram!A1:A50),FALSE)>J21),((HLOOKUP(O1,Histogram!A1:AM21,_xlfn.XMATCH(A13,Histogram!A1:A50),FALSE)-1)*(H22/100)+1)*HLOOKUP(O1,VE!A1:P16,_xlfn.XMATCH(A13,VE!A1:A16),FALSE),HLOOKUP(O1,VE!A1:P16,_xlfn.XMATCH(A13,VE!A1:A16),FALSE))) -> 97.65 | P13: =IF(HLOOKUP(P1,Histogram!A1:AM21,_xlfn.XMATCH(A13,Histogram!A1:A50),FALSE)="",HLOOKUP(P1,VE!A1:P16,_xlfn.XMATCH(A13,VE!A1:A16),FALSE),IF(OR(HLOOKUP(P1,Histogram!A1:AM21,_xlfn.XMATCH(A13,Histogram!A1:A50),FALSE)<H21,HLOOKUP(P1,Histogram!A1:AM21,_xlfn.XMATCH(A13,Histogram!A1:A50),FALSE)>J21),((HLOOKUP(P1,Histogram!A1:AM21,_xlfn.XMATCH(A13,Histogram!A1:A50),FALSE)-1)*(H22/100)+1)*HLOOKUP(P1,VE!A1:P16,_xlfn.XMATCH(A13,VE!A1:A16),FALSE),HLOOKUP(P1,VE!A1:P16,_xlfn.XMATCH(A13,VE!A1:A16),FALSE))) -> 97.65
A14: 0.9 | B14: =IF(HLOOKUP(B1,Histogram!A1:AM21,_xlfn.XMATCH(A14,Histogram!A1:A50),FALSE)="",HLOOKUP(B1,VE!A1:P16,_xlfn.XMATCH(A14,VE!A1:A16),FALSE),IF(OR(HLOOKUP(B1,Histogram!A1:AM21,_xlfn.XMATCH(A14,Histogram!A1:A50),FALSE)<H21,HLOOKUP(B1,Histogram!A1:AM21,_xlfn.XMATCH(A14,Histogram!A1:A50),FALSE)>J21),((HLOOKUP(B1,Histogram!A1:AM21,_xlfn.XMATCH(A14,Histogram!A1:A50),FALSE)-1)*(H22/100)+1)*HLOOKUP(B1,VE!A1:P16,_xlfn.XMATCH(A14,VE!A1:A16),FALSE),HLOOKUP(B1,VE!A1:P16,_xlfn.XMATCH(A14,VE!A1:A16),FALSE))) -> 75.78 | C14: =IF(HLOOKUP(C1,Histogram!A1:AM21,_xlfn.XMATCH(A14,Histogram!A1:A50),FALSE)="",HLOOKUP(C1,VE!A1:P16,_xlfn.XMATCH(A14,VE!A1:A16),FALSE),IF(OR(HLOOKUP(C1,Histogram!A1:AM21,_xlfn.XMATCH(A14,Histogram!A1:A50),FALSE)<H21,HLOOKUP(C1,Histogram!A1:AM21,_xlfn.XMATCH(A14,Histogram!A1:A50),FALSE)>J21),((HLOOKUP(C1,Histogram!A1:AM21,_xlfn.XMATCH(A14,Histogram!A1:A50),FALSE)-1)*(H22/100)+1)*HLOOKUP(C1,VE!A1:P16,_xlfn.XMATCH(A14,VE!A1:A16),FALSE),HLOOKUP(C1,VE!A1:P16,_xlfn.XMATCH(A14,VE!A1:A16),FALSE))) -> 70.1272 | D14: =IF(HLOOKUP(D1,Histogram!A1:AM21,_xlfn.XMATCH(A14,Histogram!A1:A50),FALSE)="",HLOOKUP(D1,VE!A1:P16,_xlfn.XMATCH(A14,VE!A1:A16),FALSE),IF(OR(HLOOKUP(D1,Histogram!A1:AM21,_xlfn.XMATCH(A14,Histogram!A1:A50),FALSE)<H21,HLOOKUP(D1,Histogram!A1:AM21,_xlfn.XMATCH(A14,Histogram!A1:A50),FALSE)>J21),((HLOOKUP(D1,Histogram!A1:AM21,_xlfn.XMATCH(A14,Histogram!A1:A50),FALSE)-1)*(H22/100)+1)*HLOOKUP(D1,VE!A1:P16,_xlfn.XMATCH(A14,VE!A1:A16),FALSE),HLOOKUP(D1,VE!A1:P16,_xlfn.XMATCH(A14,VE!A1:A16),FALSE))) -> 77.34 | E14: =IF(HLOOKUP(E1,Histogram!A1:AM21,_xlfn.XMATCH(A14,Histogram!A1:A50),FALSE)="",HLOOKUP(E1,VE!A1:P16,_xlfn.XMATCH(A14,VE!A1:A16),FALSE),IF(OR(HLOOKUP(E1,Histogram!A1:AM21,_xlfn.XMATCH(A14,Histogram!A1:A50),FALSE)<H21,HLOOKUP(E1,Histogram!A1:AM21,_xlfn.XMATCH(A14,Histogram!A1:A50),FALSE)>J21),((HLOOKUP(E1,Histogram!A1:AM21,_xlfn.XMATCH(A14,Histogram!A1:A50),FALSE)-1)*(H22/100)+1)*HLOOKUP(E1,VE!A1:P16,_xlfn.XMATCH(A14,VE!A1:A16),FALSE),HLOOKUP(E1,VE!A1:P16,_xlfn.XMATCH(A14,VE!A1:A16),FALSE))) -> 84.37 | F14: =IF(HLOOKUP(F1,Histogram!A1:AM21,_xlfn.XMATCH(A14,Histogram!A1:A50),FALSE)="",HLOOKUP(F1,VE!A1:P16,_xlfn.XMATCH(A14,VE!A1:A16),FALSE),IF(OR(HLOOKUP(F1,Histogram!A1:AM21,_xlfn.XMATCH(A14,Histogram!A1:A50),FALSE)<H21,HLOOKUP(F1,Histogram!A1:AM21,_xlfn.XMATCH(A14,Histogram!A1:A50),FALSE)>J21),((HLOOKUP(F1,Histogram!A1:AM21,_xlfn.XMATCH(A14,Histogram!A1:A50),FALSE)-1)*(H22/100)+1)*HLOOKUP(F1,VE!A1:P16,_xlfn.XMATCH(A14,VE!A1:A16),FALSE),HLOOKUP(F1,VE!A1:P16,_xlfn.XMATCH(A14,VE!A1:A16),FALSE))) -> 92.19 | G14: =IF(HLOOKUP(G1,Histogram!A1:AM21,_xlfn.XMATCH(A14,Histogram!A1:A50),FALSE)="",HLOOKUP(G1,VE!A1:P16,_xlfn.XMATCH(A14,VE!A1:A16),FALSE),IF(OR(HLOOKUP(G1,Histogram!A1:AM21,_xlfn.XMATCH(A14,Histogram!A1:A50),FALSE)<H21,HLOOKUP(G1,Histogram!A1:AM21,_xlfn.XMATCH(A14,Histogram!A1:A50),FALSE)>J21),((HLOOKUP(G1,Histogram!A1:AM21,_xlfn.XMATCH(A14,Histogram!A1:A50),FALSE)-1)*(H22/100)+1)*HLOOKUP(G1,VE!A1:P16,_xlfn.XMATCH(A14,VE!A1:A16),FALSE),HLOOKUP(G1,VE!A1:P16,_xlfn.XMATCH(A14,VE!A1:A16),FALSE))) -> 92.97 | H14: =IF(HLOOKUP(H1,Histogram!A1:AM21,_xlfn.XMATCH(A14,Histogram!A1:A50),FALSE)="",HLOOKUP(H1,VE!A1:P16,_xlfn.XMATCH(A14,VE!A1:A16),FALSE),IF(OR(HLOOKUP(H1,Histogram!A1:AM21,_xlfn.XMATCH(A14,Histogram!A1:A50),FALSE)<H21,HLOOKUP(H1,Histogram!A1:AM21,_xlfn.XMATCH(A14,Histogram!A1:A50),FALSE)>J21),((HLOOKUP(H1,Histogram!A1:AM21,_xlfn.XMATCH(A14,Histogram!A1:A50),FALSE)-1)*(H22/100)+1)*HLOOKUP(H1,VE!A1:P16,_xlfn.XMATCH(A14,VE!A1:A16),FALSE),HLOOKUP(H1,VE!A1:P16,_xlfn.XMATCH(A14,VE!A1:A16),FALSE))) -> 97.65 | I14: =IF(HLOOKUP(I1,Histogram!A1:AM21,_xlfn.XMATCH(A14,Histogram!A1:A50),FALSE)="",HLOOKUP(I1,VE!A1:P16,_xlfn.XMATCH(A14,VE!A1:A16),FALSE),IF(OR(HLOOKUP(I1,Histogram!A1:AM21,_xlfn.XMATCH(A14,Histogram!A1:A50),FALSE)<H21,HLOOKUP(I1,Histogram!A1:AM21,_xlfn.XMATCH(A14,Histogram!A1:A50),FALSE)>J21),((HLOOKUP(I1,Histogram!A1:AM21,_xlfn.XMATCH(A14,Histogram!A1:A50),FALSE)-1)*(H22/100)+1)*HLOOKUP(I1,VE!A1:P16,_xlfn.XMATCH(A14,VE!A1:A16),FALSE),HLOOKUP(I1,VE!A1:P16,_xlfn.XMATCH(A14,VE!A1:A16),FALSE))) -> 97.65 | J14: =IF(HLOOKUP(J1,Histogram!A1:AM21,_xlfn.XMATCH(A14,Histogram!A1:A50),FALSE)="",HLOOKUP(J1,VE!A1:P16,_xlfn.XMATCH(A14,VE!A1:A16),FALSE),IF(OR(HLOOKUP(J1,Histogram!A1:AM21,_xlfn.XMATCH(A14,Histogram!A1:A50),FALSE)<H21,HLOOKUP(J1,Histogram!A1:AM21,_xlfn.XMATCH(A14,Histogram!A1:A50),FALSE)>J21),((HLOOKUP(J1,Histogram!A1:AM21,_xlfn.XMATCH(A14,Histogram!A1:A50),FALSE)-1)*(H22/100)+1)*HLOOKUP(J1,VE!A1:P16,_xlfn.XMATCH(A14,VE!A1:A16),FALSE),HLOOKUP(J1,VE!A1:P16,_xlfn.XMATCH(A14,VE!A1:A16),FALSE))) -> 98.44 | K14: =IF(HLOOKUP(K1,Histogram!A1:AM21,_xlfn.XMATCH(A14,Histogram!A1:A50),FALSE)="",HLOOKUP(K1,VE!A1:P16,_xlfn.XMATCH(A14,VE!A1:A16),FALSE),IF(OR(HLOOKUP(K1,Histogram!A1:AM21,_xlfn.XMATCH(A14,Histogram!A1:A50),FALSE)<H21,HLOOKUP(K1,Histogram!A1:AM21,_xlfn.XMATCH(A14,Histogram!A1:A50),FALSE)>J21),((HLOOKUP(K1,Histogram!A1:AM21,_xlfn.XMATCH(A14,Histogram!A1:A50),FALSE)-1)*(H22/100)+1)*HLOOKUP(K1,VE!A1:P16,_xlfn.XMATCH(A14,VE!A1:A16),FALSE),HLOOKUP(K1,VE!A1:P16,_xlfn.XMATCH(A14,VE!A1:A16),FALSE))) -> 98.44 | L14: =IF(HLOOKUP(L1,Histogram!A1:AM21,_xlfn.XMATCH(A14,Histogram!A1:A50),FALSE)="",HLOOKUP(L1,VE!A1:P16,_xlfn.XMATCH(A14,VE!A1:A16),FALSE),IF(OR(HLOOKUP(L1,Histogram!A1:AM21,_xlfn.XMATCH(A14,Histogram!A1:A50),FALSE)<H21,HLOOKUP(L1,Histogram!A1:AM21,_xlfn.XMATCH(A14,Histogram!A1:A50),FALSE)>J21),((HLOOKUP(L1,Histogram!A1:AM21,_xlfn.XMATCH(A14,Histogram!A1:A50),FALSE)-1)*(H22/100)+1)*HLOOKUP(L1,VE!A1:P16,_xlfn.XMATCH(A14,VE!A1:A16),FALSE),HLOOKUP(L1,VE!A1:P16,_xlfn.XMATCH(A14,VE!A1:A16),FALSE))) -> 99.22 | M14: =IF(HLOOKUP(M1,Histogram!A1:AM21,_xlfn.XMATCH(A14,Histogram!A1:A50),FALSE)="",HLOOKUP(M1,VE!A1:P16,_xlfn.XMATCH(A14,VE!A1:A16),FALSE),IF(OR(HLOOKUP(M1,Histogram!A1:AM21,_xlfn.XMATCH(A14,Histogram!A1:A50),FALSE)<H21,HLOOKUP(M1,Histogram!A1:AM21,_xlfn.XMATCH(A14,Histogram!A1:A50),FALSE)>J21),((HLOOKUP(M1,Histogram!A1:AM21,_xlfn.XMATCH(A14,Histogram!A1:A50),FALSE)-1)*(H22/100)+1)*HLOOKUP(M1,VE!A1:P16,_xlfn.XMATCH(A14,VE!A1:A16),FALSE),HLOOKUP(M1,VE!A1:P16,_xlfn.XMATCH(A14,VE!A1:A16),FALSE))) -> 99.22 | N14: =IF(HLOOKUP(N1,Histogram!A1:AM21,_xlfn.XMATCH(A14,Histogram!A1:A50),FALSE)="",HLOOKUP(N1,VE!A1:P16,_xlfn.XMATCH(A14,VE!A1:A16),FALSE),IF(OR(HLOOKUP(N1,Histogram!A1:AM21,_xlfn.XMATCH(A14,Histogram!A1:A50),FALSE)<H21,HLOOKUP(N1,Histogram!A1:AM21,_xlfn.XMATCH(A14,Histogram!A1:A50),FALSE)>J21),((HLOOKUP(N1,Histogram!A1:AM21,_xlfn.XMATCH(A14,Histogram!A1:A50),FALSE)-1)*(H22/100)+1)*HLOOKUP(N1,VE!A1:P16,_xlfn.XMATCH(A14,VE!A1:A16),FALSE),HLOOKUP(N1,VE!A1:P16,_xlfn.XMATCH(A14,VE!A1:A16),FALSE))) -> 99.22 | O14: =IF(HLOOKUP(O1,Histogram!A1:AM21,_xlfn.XMATCH(A14,Histogram!A1:A50),FALSE)="",HLOOKUP(O1,VE!A1:P16,_xlfn.XMATCH(A14,VE!A1:A16),FALSE),IF(OR(HLOOKUP(O1,Histogram!A1:AM21,_xlfn.XMATCH(A14,Histogram!A1:A50),FALSE)<H21,HLOOKUP(O1,Histogram!A1:AM21,_xlfn.XMATCH(A14,Histogram!A1:A50),FALSE)>J21),((HLOOKUP(O1,Histogram!A1:AM21,_xlfn.XMATCH(A14,Histogram!A1:A50),FALSE)-1)*(H22/100)+1)*HLOOKUP(O1,VE!A1:P16,_xlfn.XMATCH(A14,VE!A1:A16),FALSE),HLOOKUP(O1,VE!A1:P16,_xlfn.XMATCH(A14,VE!A1:A16),FALSE))) -> 99.22 | P14: =IF(HLOOKUP(P1,Histogram!A1:AM21,_xlfn.XMATCH(A14,Histogram!A1:A50),FALSE)="",HLOOKUP(P1,VE!A1:P16,_xlfn.XMATCH(A14,VE!A1:A16),FALSE),IF(OR(HLOOKUP(P1,Histogram!A1:AM21,_xlfn.XMATCH(A14,Histogram!A1:A50),FALSE)<H21,HLOOKUP(P1,Histogram!A1:AM21,_xlfn.XMATCH(A14,Histogram!A1:A50),FALSE)>J21),((HLOOKUP(P1,Histogram!A1:AM21,_xlfn.XMATCH(A14,Histogram!A1:A50),FALSE)-1)*(H22/100)+1)*HLOOKUP(P1,VE!A1:P16,_xlfn.XMATCH(A14,VE!A1:A16),FALSE),HLOOKUP(P1,VE!A1:P16,_xlfn.XMATCH(A14,VE!A1:A16),FALSE))) -> 99.22
A15: 0.95 | B15: =IF(HLOOKUP(B1,Histogram!A1:AM21,_xlfn.XMATCH(A15,Histogram!A1:A50),FALSE)="",HLOOKUP(B1,VE!A1:P16,_xlfn.XMATCH(A15,VE!A1:A16),FALSE),IF(OR(HLOOKUP(B1,Histogram!A1:AM21,_xlfn.XMATCH(A15,Histogram!A1:A50),FALSE)<H21,HLOOKUP(B1,Histogram!A1:AM21,_xlfn.XMATCH(A15,Histogram!A1:A50),FALSE)>J21),((HLOOKUP(B1,Histogram!A1:AM21,_xlfn.XMATCH(A15,Histogram!A1:A50),FALSE)-1)*(H22/100)+1)*HLOOKUP(B1,VE!A1:P16,_xlfn.XMATCH(A15,VE!A1:A16),FALSE),HLOOKUP(B1,VE!A1:P16,_xlfn.XMATCH(A15,VE!A1:A16),FALSE))) -> 75.78 | C15: =IF(HLOOKUP(C1,Histogram!A1:AM21,_xlfn.XMATCH(A15,Histogram!A1:A50),FALSE)="",HLOOKUP(C1,VE!A1:P16,_xlfn.XMATCH(A15,VE!A1:A16),FALSE),IF(OR(HLOOKUP(C1,Histogram!A1:AM21,_xlfn.XMATCH(A15,Histogram!A1:A50),FALSE)<H21,HLOOKUP(C1,Histogram!A1:AM21,_xlfn.XMATCH(A15,Histogram!A1:A50),FALSE)>J21),((HLOOKUP(C1,Histogram!A1:AM21,_xlfn.XMATCH(A15,Histogram!A1:A50),FALSE)-1)*(H22/100)+1)*HLOOKUP(C1,VE!A1:P16,_xlfn.XMATCH(A15,VE!A1:A16),FALSE),HLOOKUP(C1,VE!A1:P16,_xlfn.XMATCH(A15,VE!A1:A16),FALSE))) -> 79.69 | D15: =IF(HLOOKUP(D1,Histogram!A1:AM21,_xlfn.XMATCH(A15,Histogram!A1:A50),FALSE)="",HLOOKUP(D1,VE!A1:P16,_xlfn.XMATCH(A15,VE!A1:A16),FALSE),IF(OR(HLOOKUP(D1,Histogram!A1:AM21,_xlfn.XMATCH(A15,Histogram!A1:A50),FALSE)<H21,HLOOKUP(D1,Histogram!A1:AM21,_xlfn.XMATCH(A15,Histogram!A1:A50),FALSE)>J21),((HLOOKUP(D1,Histogram!A1:AM21,_xlfn.XMATCH(A15,Histogram!A1:A50),FALSE)-1)*(H22/100)+1)*HLOOKUP(D1,VE!A1:P16,_xlfn.XMATCH(A15,VE!A1:A16),FALSE),HLOOKUP(D1,VE!A1:P16,_xlfn.XMATCH(A15,VE!A1:A16),FALSE))) -> 77.34 | E15: =IF(HLOOKUP(E1,Histogram!A1:AM21,_xlfn.XMATCH(A15,Histogram!A1:A50),FALSE)="",HLOOKUP(E1,VE!A1:P16,_xlfn.XMATCH(A15,VE!A1:A16),FALSE),IF(OR(HLOOKUP(E1,Histogram!A1:AM21,_xlfn.XMATCH(A15,Histogram!A1:A50),FALSE)<H21,HLOOKUP(E1,Histogram!A1:AM21,_xlfn.XMATCH(A15,Histogram!A1:A50),FALSE)>J21),((HLOOKUP(E1,Histogram!A1:AM21,_xlfn.XMATCH(A15,Histogram!A1:A50),FALSE)-1)*(H22/100)+1)*HLOOKUP(E1,VE!A1:P16,_xlfn.XMATCH(A15,VE!A1:A16),FALSE),HLOOKUP(E1,VE!A1:P16,_xlfn.XMATCH(A15,VE!A1:A16),FALSE))) -> 84.37 | F15: =IF(HLOOKUP(F1,Histogram!A1:AM21,_xlfn.XMATCH(A15,Histogram!A1:A50),FALSE)="",HLOOKUP(F1,VE!A1:P16,_xlfn.XMATCH(A15,VE!A1:A16),FALSE),IF(OR(HLOOKUP(F1,Histogram!A1:AM21,_xlfn.XMATCH(A15,Histogram!A1:A50),FALSE)<H21,HLOOKUP(F1,Histogram!A1:AM21,_xlfn.XMATCH(A15,Histogram!A1:A50),FALSE)>J21),((HLOOKUP(F1,Histogram!A1:AM21,_xlfn.XMATCH(A15,Histogram!A1:A50),FALSE)-1)*(H22/100)+1)*HLOOKUP(F1,VE!A1:P16,_xlfn.XMATCH(A15,VE!A1:A16),FALSE),HLOOKUP(F1,VE!A1:P16,_xlfn.XMATCH(A15,VE!A1:A16),FALSE))) -> 92.19 | G15: =IF(HLOOKUP(G1,Histogram!A1:AM21,_xlfn.XMATCH(A15,Histogram!A1:A50),FALSE)="",HLOOKUP(G1,VE!A1:P16,_xlfn.XMATCH(A15,VE!A1:A16),FALSE),IF(OR(HLOOKUP(G1,Histogram!A1:AM21,_xlfn.XMATCH(A15,Histogram!A1:A50),FALSE)<H21,HLOOKUP(G1,Histogram!A1:AM21,_xlfn.XMATCH(A15,Histogram!A1:A50),FALSE)>J21),((HLOOKUP(G1,Histogram!A1:AM21,_xlfn.XMATCH(A15,Histogram!A1:A50),FALSE)-1)*(H22/100)+1)*HLOOKUP(G1,VE!A1:P16,_xlfn.XMATCH(A15,VE!A1:A16),FALSE),HLOOKUP(G1,VE!A1:P16,_xlfn.XMATCH(A15,VE!A1:A16),FALSE))) -> 92.97 | H15: =IF(HLOOKUP(H1,Histogram!A1:AM21,_xlfn.XMATCH(A15,Histogram!A1:A50),FALSE)="",HLOOKUP(H1,VE!A1:P16,_xlfn.XMATCH(A15,VE!A1:A16),FALSE),IF(OR(HLOOKUP(H1,Histogram!A1:AM21,_xlfn.XMATCH(A15,Histogram!A1:A50),FALSE)<H21,HLOOKUP(H1,Histogram!A1:AM21,_xlfn.XMATCH(A15,Histogram!A1:A50),FALSE)>J21),((HLOOKUP(H1,Histogram!A1:AM21,_xlfn.XMATCH(A15,Histogram!A1:A50),FALSE)-1)*(H22/100)+1)*HLOOKUP(H1,VE!A1:P16,_xlfn.XMATCH(A15,VE!A1:A16),FALSE),HLOOKUP(H1,VE!A1:P16,_xlfn.XMATCH(A15,VE!A1:A16),FALSE))) -> 97.65 | I15: =IF(HLOOKUP(I1,Histogram!A1:AM21,_xlfn.XMATCH(A15,Histogram!A1:A50),FALSE)="",HLOOKUP(I1,VE!A1:P16,_xlfn.XMATCH(A15,VE!A1:A16),FALSE),IF(OR(HLOOKUP(I1,Histogram!A1:AM21,_xlfn.XMATCH(A15,Histogram!A1:A50),FALSE)<H21,HLOOKUP(I1,Histogram!A1:AM21,_xlfn.XMATCH(A15,Histogram!A1:A50),FALSE)>J21),((HLOOKUP(I1,Histogram!A1:AM21,_xlfn.XMATCH(A15,Histogram!A1:A50),FALSE)-1)*(H22/100)+1)*HLOOKUP(I1,VE!A1:P16,_xlfn.XMATCH(A15,VE!A1:A16),FALSE),HLOOKUP(I1,VE!A1:P16,_xlfn.XMATCH(A15,VE!A1:A16),FALSE))) -> 97.65 | J15: =IF(HLOOKUP(J1,Histogram!A1:AM21,_xlfn.XMATCH(A15,Histogram!A1:A50),FALSE)="",HLOOKUP(J1,VE!A1:P16,_xlfn.XMATCH(A15,VE!A1:A16),FALSE),IF(OR(HLOOKUP(J1,Histogram!A1:AM21,_xlfn.XMATCH(A15,Histogram!A1:A50),FALSE)<H21,HLOOKUP(J1,Histogram!A1:AM21,_xlfn.XMATCH(A15,Histogram!A1:A50),FALSE)>J21),((HLOOKUP(J1,Histogram!A1:AM21,_xlfn.XMATCH(A15,Histogram!A1:A50),FALSE)-1)*(H22/100)+1)*HLOOKUP(J1,VE!A1:P16,_xlfn.XMATCH(A15,VE!A1:A16),FALSE),HLOOKUP(J1,VE!A1:P16,_xlfn.XMATCH(A15,VE!A1:A16),FALSE))) -> 98.44 | K15: =IF(HLOOKUP(K1,Histogram!A1:AM21,_xlfn.XMATCH(A15,Histogram!A1:A50),FALSE)="",HLOOKUP(K1,VE!A1:P16,_xlfn.XMATCH(A15,VE!A1:A16),FALSE),IF(OR(HLOOKUP(K1,Histogram!A1:AM21,_xlfn.XMATCH(A15,Histogram!A1:A50),FALSE)<H21,HLOOKUP(K1,Histogram!A1:AM21,_xlfn.XMATCH(A15,Histogram!A1:A50),FALSE)>J21),((HLOOKUP(K1,Histogram!A1:AM21,_xlfn.XMATCH(A15,Histogram!A1:A50),FALSE)-1)*(H22/100)+1)*HLOOKUP(K1,VE!A1:P16,_xlfn.XMATCH(A15,VE!A1:A16),FALSE),HLOOKUP(K1,VE!A1:P16,_xlfn.XMATCH(A15,VE!A1:A16),FALSE))) -> 98.44 | L15: =IF(HLOOKUP(L1,Histogram!A1:AM21,_xlfn.XMATCH(A15,Histogram!A1:A50),FALSE)="",HLOOKUP(L1,VE!A1:P16,_xlfn.XMATCH(A15,VE!A1:A16),FALSE),IF(OR(HLOOKUP(L1,Histogram!A1:AM21,_xlfn.XMATCH(A15,Histogram!A1:A50),FALSE)<H21,HLOOKUP(L1,Histogram!A1:AM21,_xlfn.XMATCH(A15,Histogram!A1:A50),FALSE)>J21),((HLOOKUP(L1,Histogram!A1:AM21,_xlfn.XMATCH(A15,Histogram!A1:A50),FALSE)-1)*(H22/100)+1)*HLOOKUP(L1,VE!A1:P16,_xlfn.XMATCH(A15,VE!A1:A16),FALSE),HLOOKUP(L1,VE!A1:P16,_xlfn.XMATCH(A15,VE!A1:A16),FALSE))) -> 99.22 | M15: =IF(HLOOKUP(M1,Histogram!A1:AM21,_xlfn.XMATCH(A15,Histogram!A1:A50),FALSE)="",HLOOKUP(M1,VE!A1:P16,_xlfn.XMATCH(A15,VE!A1:A16),FALSE),IF(OR(HLOOKUP(M1,Histogram!A1:AM21,_xlfn.XMATCH(A15,Histogram!A1:A50),FALSE)<H21,HLOOKUP(M1,Histogram!A1:AM21,_xlfn.XMATCH(A15,Histogram!A1:A50),FALSE)>J21),((HLOOKUP(M1,Histogram!A1:AM21,_xlfn.XMATCH(A15,Histogram!A1:A50),FALSE)-1)*(H22/100)+1)*HLOOKUP(M1,VE!A1:P16,_xlfn.XMATCH(A15,VE!A1:A16),FALSE),HLOOKUP(M1,VE!A1:P16,_xlfn.XMATCH(A15,VE!A1:A16),FALSE))) -> 99.22 | N15: =IF(HLOOKUP(N1,Histogram!A1:AM21,_xlfn.XMATCH(A15,Histogram!A1:A50),FALSE)="",HLOOKUP(N1,VE!A1:P16,_xlfn.XMATCH(A15,VE!A1:A16),FALSE),IF(OR(HLOOKUP(N1,Histogram!A1:AM21,_xlfn.XMATCH(A15,Histogram!A1:A50),FALSE)<H21,HLOOKUP(N1,Histogram!A1:AM21,_xlfn.XMATCH(A15,Histogram!A1:A50),FALSE)>J21),((HLOOKUP(N1,Histogram!A1:AM21,_xlfn.XMATCH(A15,Histogram!A1:A50),FALSE)-1)*(H22/100)+1)*HLOOKUP(N1,VE!A1:P16,_xlfn.XMATCH(A15,VE!A1:A16),FALSE),HLOOKUP(N1,VE!A1:P16,_xlfn.XMATCH(A15,VE!A1:A16),FALSE))) -> 99.22 | O15: =IF(HLOOKUP(O1,Histogram!A1:AM21,_xlfn.XMATCH(A15,Histogram!A1:A50),FALSE)="",HLOOKUP(O1,VE!A1:P16,_xlfn.XMATCH(A15,VE!A1:A16),FALSE),IF(OR(HLOOKUP(O1,Histogram!A1:AM21,_xlfn.XMATCH(A15,Histogram!A1:A50),FALSE)<H21,HLOOKUP(O1,Histogram!A1:AM21,_xlfn.XMATCH(A15,Histogram!A1:A50),FALSE)>J21),((HLOOKUP(O1,Histogram!A1:AM21,_xlfn.XMATCH(A15,Histogram!A1:A50),FALSE)-1)*(H22/100)+1)*HLOOKUP(O1,VE!A1:P16,_xlfn.XMATCH(A15,VE!A1:A16),FALSE),HLOOKUP(O1,VE!A1:P16,_xlfn.XMATCH(A15,VE!A1:A16),FALSE))) -> 99.22 | P15: =IF(HLOOKUP(P1,Histogram!A1:AM21,_xlfn.XMATCH(A15,Histogram!A1:A50),FALSE)="",HLOOKUP(P1,VE!A1:P16,_xlfn.XMATCH(A15,VE!A1:A16),FALSE),IF(OR(HLOOKUP(P1,Histogram!A1:AM21,_xlfn.XMATCH(A15,Histogram!A1:A50),FALSE)<H21,HLOOKUP(P1,Histogram!A1:AM21,_xlfn.XMATCH(A15,Histogram!A1:A50),FALSE)>J21),((HLOOKUP(P1,Histogram!A1:AM21,_xlfn.XMATCH(A15,Histogram!A1:A50),FALSE)-1)*(H22/100)+1)*HLOOKUP(P1,VE!A1:P16,_xlfn.XMATCH(A15,VE!A1:A16),FALSE),HLOOKUP(P1,VE!A1:P16,_xlfn.XMATCH(A15,VE!A1:A16),FALSE))) -> 99.22
A16: 1 | B16: =IF(HLOOKUP(B1,Histogram!A1:AM21,_xlfn.XMATCH(A16,Histogram!A1:A50),FALSE)="",HLOOKUP(B1,VE!A1:P16,_xlfn.XMATCH(A16,VE!A1:A16),FALSE),IF(OR(HLOOKUP(B1,Histogram!A1:AM21,_xlfn.XMATCH(A16,Histogram!A1:A50),FALSE)<H21,HLOOKUP(B1,Histogram!A1:AM21,_xlfn.XMATCH(A16,Histogram!A1:A50),FALSE)>J21),((HLOOKUP(B1,Histogram!A1:AM21,_xlfn.XMATCH(A16,Histogram!A1:A50),FALSE)-1)*(H22/100)+1)*HLOOKUP(B1,VE!A1:P16,_xlfn.XMATCH(A16,VE!A1:A16),FALSE),HLOOKUP(B1,VE!A1:P16,_xlfn.XMATCH(A16,VE!A1:A16),FALSE))) -> 75.78 | C16: =IF(HLOOKUP(C1,Histogram!A1:AM21,_xlfn.XMATCH(A16,Histogram!A1:A50),FALSE)="",HLOOKUP(C1,VE!A1:P16,_xlfn.XMATCH(A16,VE!A1:A16),FALSE),IF(OR(HLOOKUP(C1,Histogram!A1:AM21,_xlfn.XMATCH(A16,Histogram!A1:A50),FALSE)<H21,HLOOKUP(C1,Histogram!A1:AM21,_xlfn.XMATCH(A16,Histogram!A1:A50),FALSE)>J21),((HLOOKUP(C1,Histogram!A1:AM21,_xlfn.XMATCH(A16,Histogram!A1:A50),FALSE)-1)*(H22/100)+1)*HLOOKUP(C1,VE!A1:P16,_xlfn.XMATCH(A16,VE!A1:A16),FALSE),HLOOKUP(C1,VE!A1:P16,_xlfn.XMATCH(A16,VE!A1:A16),FALSE))) -> 79.69 | D16: =IF(HLOOKUP(D1,Histogram!A1:AM21,_xlfn.XMATCH(A16,Histogram!A1:A50),FALSE)="",HLOOKUP(D1,VE!A1:P16,_xlfn.XMATCH(A16,VE!A1:A16),FALSE),IF(OR(HLOOKUP(D1,Histogram!A1:AM21,_xlfn.XMATCH(A16,Histogram!A1:A50),FALSE)<H21,HLOOKUP(D1,Histogram!A1:AM21,_xlfn.XMATCH(A16,Histogram!A1:A50),FALSE)>J21),((HLOOKUP(D1,Histogram!A1:AM21,_xlfn.XMATCH(A16,Histogram!A1:A50),FALSE)-1)*(H22/100)+1)*HLOOKUP(D1,VE!A1:P16,_xlfn.XMATCH(A16,VE!A1:A16),FALSE),HLOOKUP(D1,VE!A1:P16,_xlfn.XMATCH(A16,VE!A1:A16),FALSE))) -> 77.34 | E16: =IF(HLOOKUP(E1,Histogram!A1:AM21,_xlfn.XMATCH(A16,Histogram!A1:A50),FALSE)="",HLOOKUP(E1,VE!A1:P16,_xlfn.XMATCH(A16,VE!A1:A16),FALSE),IF(OR(HLOOKUP(E1,Histogram!A1:AM21,_xlfn.XMATCH(A16,Histogram!A1:A50),FALSE)<H21,HLOOKUP(E1,Histogram!A1:AM21,_xlfn.XMATCH(A16,Histogram!A1:A50),FALSE)>J21),((HLOOKUP(E1,Histogram!A1:AM21,_xlfn.XMATCH(A16,Histogram!A1:A50),FALSE)-1)*(H22/100)+1)*HLOOKUP(E1,VE!A1:P16,_xlfn.XMATCH(A16,VE!A1:A16),FALSE),HLOOKUP(E1,VE!A1:P16,_xlfn.XMATCH(A16,VE!A1:A16),FALSE))) -> 84.37 | F16: =IF(HLOOKUP(F1,Histogram!A1:AM21,_xlfn.XMATCH(A16,Histogram!A1:A50),FALSE)="",HLOOKUP(F1,VE!A1:P16,_xlfn.XMATCH(A16,VE!A1:A16),FALSE),IF(OR(HLOOKUP(F1,Histogram!A1:AM21,_xlfn.XMATCH(A16,Histogram!A1:A50),FALSE)<H21,HLOOKUP(F1,Histogram!A1:AM21,_xlfn.XMATCH(A16,Histogram!A1:A50),FALSE)>J21),((HLOOKUP(F1,Histogram!A1:AM21,_xlfn.XMATCH(A16,Histogram!A1:A50),FALSE)-1)*(H22/100)+1)*HLOOKUP(F1,VE!A1:P16,_xlfn.XMATCH(A16,VE!A1:A16),FALSE),HLOOKUP(F1,VE!A1:P16,_xlfn.XMATCH(A16,VE!A1:A16),FALSE))) -> 92.19 | G16: =IF(HLOOKUP(G1,Histogram!A1:AM21,_xlfn.XMATCH(A16,Histogram!A1:A50),FALSE)="",HLOOKUP(G1,VE!A1:P16,_xlfn.XMATCH(A16,VE!A1:A16),FALSE),IF(OR(HLOOKUP(G1,Histogram!A1:AM21,_xlfn.XMATCH(A16,Histogram!A1:A50),FALSE)<H21,HLOOKUP(G1,Histogram!A1:AM21,_xlfn.XMATCH(A16,Histogram!A1:A50),FALSE)>J21),((HLOOKUP(G1,Histogram!A1:AM21,_xlfn.XMATCH(A16,Histogram!A1:A50),FALSE)-1)*(H22/100)+1)*HLOOKUP(G1,VE!A1:P16,_xlfn.XMATCH(A16,VE!A1:A16),FALSE),HLOOKUP(G1,VE!A1:P16,_xlfn.XMATCH(A16,VE!A1:A16),FALSE))) -> 92.97 | H16: =IF(HLOOKUP(H1,Histogram!A1:AM21,_xlfn.XMATCH(A16,Histogram!A1:A50),FALSE)="",HLOOKUP(H1,VE!A1:P16,_xlfn.XMATCH(A16,VE!A1:A16),FALSE),IF(OR(HLOOKUP(H1,Histogram!A1:AM21,_xlfn.XMATCH(A16,Histogram!A1:A50),FALSE)<H21,HLOOKUP(H1,Histogram!A1:AM21,_xlfn.XMATCH(A16,Histogram!A1:A50),FALSE)>J21),((HLOOKUP(H1,Histogram!A1:AM21,_xlfn.XMATCH(A16,Histogram!A1:A50),FALSE)-1)*(H22/100)+1)*HLOOKUP(H1,VE!A1:P16,_xlfn.XMATCH(A16,VE!A1:A16),FALSE),HLOOKUP(H1,VE!A1:P16,_xlfn.XMATCH(A16,VE!A1:A16),FALSE))) -> 97.65 | I16: =IF(HLOOKUP(I1,Histogram!A1:AM21,_xlfn.XMATCH(A16,Histogram!A1:A50),FALSE)="",HLOOKUP(I1,VE!A1:P16,_xlfn.XMATCH(A16,VE!A1:A16),FALSE),IF(OR(HLOOKUP(I1,Histogram!A1:AM21,_xlfn.XMATCH(A16,Histogram!A1:A50),FALSE)<H21,HLOOKUP(I1,Histogram!A1:AM21,_xlfn.XMATCH(A16,Histogram!A1:A50),FALSE)>J21),((HLOOKUP(I1,Histogram!A1:AM21,_xlfn.XMATCH(A16,Histogram!A1:A50),FALSE)-1)*(H22/100)+1)*HLOOKUP(I1,VE!A1:P16,_xlfn.XMATCH(A16,VE!A1:A16),FALSE),HLOOKUP(I1,VE!A1:P16,_xlfn.XMATCH(A16,VE!A1:A16),FALSE))) -> 97.65 | J16: =IF(HLOOKUP(J1,Histogram!A1:AM21,_xlfn.XMATCH(A16,Histogram!A1:A50),FALSE)="",HLOOKUP(J1,VE!A1:P16,_xlfn.XMATCH(A16,VE!A1:A16),FALSE),IF(OR(HLOOKUP(J1,Histogram!A1:AM21,_xlfn.XMATCH(A16,Histogram!A1:A50),FALSE)<H21,HLOOKUP(J1,Histogram!A1:AM21,_xlfn.XMATCH(A16,Histogram!A1:A50),FALSE)>J21),((HLOOKUP(J1,Histogram!A1:AM21,_xlfn.XMATCH(A16,Histogram!A1:A50),FALSE)-1)*(H22/100)+1)*HLOOKUP(J1,VE!A1:P16,_xlfn.XMATCH(A16,VE!A1:A16),FALSE),HLOOKUP(J1,VE!A1:P16,_xlfn.XMATCH(A16,VE!A1:A16),FALSE))) -> 98.44 | K16: =IF(HLOOKUP(K1,Histogram!A1:AM21,_xlfn.XMATCH(A16,Histogram!A1:A50),FALSE)="",HLOOKUP(K1,VE!A1:P16,_xlfn.XMATCH(A16,VE!A1:A16),FALSE),IF(OR(HLOOKUP(K1,Histogram!A1:AM21,_xlfn.XMATCH(A16,Histogram!A1:A50),FALSE)<H21,HLOOKUP(K1,Histogram!A1:AM21,_xlfn.XMATCH(A16,Histogram!A1:A50),FALSE)>J21),((HLOOKUP(K1,Histogram!A1:AM21,_xlfn.XMATCH(A16,Histogram!A1:A50),FALSE)-1)*(H22/100)+1)*HLOOKUP(K1,VE!A1:P16,_xlfn.XMATCH(A16,VE!A1:A16),FALSE),HLOOKUP(K1,VE!A1:P16,_xlfn.XMATCH(A16,VE!A1:A16),FALSE))) -> 98.44 | L16: =IF(HLOOKUP(L1,Histogram!A1:AM21,_xlfn.XMATCH(A16,Histogram!A1:A50),FALSE)="",HLOOKUP(L1,VE!A1:P16,_xlfn.XMATCH(A16,VE!A1:A16),FALSE),IF(OR(HLOOKUP(L1,Histogram!A1:AM21,_xlfn.XMATCH(A16,Histogram!A1:A50),FALSE)<H21,HLOOKUP(L1,Histogram!A1:AM21,_xlfn.XMATCH(A16,Histogram!A1:A50),FALSE)>J21),((HLOOKUP(L1,Histogram!A1:AM21,_xlfn.XMATCH(A16,Histogram!A1:A50),FALSE)-1)*(H22/100)+1)*HLOOKUP(L1,VE!A1:P16,_xlfn.XMATCH(A16,VE!A1:A16),FALSE),HLOOKUP(L1,VE!A1:P16,_xlfn.XMATCH(A16,VE!A1:A16),FALSE))) -> 99.22 | M16: =IF(HLOOKUP(M1,Histogram!A1:AM21,_xlfn.XMATCH(A16,Histogram!A1:A50),FALSE)="",HLOOKUP(M1,VE!A1:P16,_xlfn.XMATCH(A16,VE!A1:A16),FALSE),IF(OR(HLOOKUP(M1,Histogram!A1:AM21,_xlfn.XMATCH(A16,Histogram!A1:A50),FALSE)<H21,HLOOKUP(M1,Histogram!A1:AM21,_xlfn.XMATCH(A16,Histogram!A1:A50),FALSE)>J21),((HLOOKUP(M1,Histogram!A1:AM21,_xlfn.XMATCH(A16,Histogram!A1:A50),FALSE)-1)*(H22/100)+1)*HLOOKUP(M1,VE!A1:P16,_xlfn.XMATCH(A16,VE!A1:A16),FALSE),HLOOKUP(M1,VE!A1:P16,_xlfn.XMATCH(A16,VE!A1:A16),FALSE))) -> 99.22 | N16: =IF(HLOOKUP(N1,Histogram!A1:AM21,_xlfn.XMATCH(A16,Histogram!A1:A50),FALSE)="",HLOOKUP(N1,VE!A1:P16,_xlfn.XMATCH(A16,VE!A1:A16),FALSE),IF(OR(HLOOKUP(N1,Histogram!A1:AM21,_xlfn.XMATCH(A16,Histogram!A1:A50),FALSE)<H21,HLOOKUP(N1,Histogram!A1:AM21,_xlfn.XMATCH(A16,Histogram!A1:A50),FALSE)>J21),((HLOOKUP(N1,Histogram!A1:AM21,_xlfn.XMATCH(A16,Histogram!A1:A50),FALSE)-1)*(H22/100)+1)*HLOOKUP(N1,VE!A1:P16,_xlfn.XMATCH(A16,VE!A1:A16),FALSE),HLOOKUP(N1,VE!A1:P16,_xlfn.XMATCH(A16,VE!A1:A16),FALSE))) -> 99.22 | O16: =IF(HLOOKUP(O1,Histogram!A1:AM21,_xlfn.XMATCH(A16,Histogram!A1:A50),FALSE)="",HLOOKUP(O1,VE!A1:P16,_xlfn.XMATCH(A16,VE!A1:A16),FALSE),IF(OR(HLOOKUP(O1,Histogram!A1:AM21,_xlfn.XMATCH(A16,Histogram!A1:A50),FALSE)<H21,HLOOKUP(O1,Histogram!A1:AM21,_xlfn.XMATCH(A16,Histogram!A1:A50),FALSE)>J21),((HLOOKUP(O1,Histogram!A1:AM21,_xlfn.XMATCH(A16,Histogram!A1:A50),FALSE)-1)*(H22/100)+1)*HLOOKUP(O1,VE!A1:P16,_xlfn.XMATCH(A16,VE!A1:A16),FALSE),HLOOKUP(O1,VE!A1:P16,_xlfn.XMATCH(A16,VE!A1:A16),FALSE))) -> 99.22 | P16: =IF(HLOOKUP(P1,Histogram!A1:AM21,_xlfn.XMATCH(A16,Histogram!A1:A50),FALSE)="",HLOOKUP(P1,VE!A1:P16,_xlfn.XMATCH(A16,VE!A1:A16),FALSE),IF(OR(HLOOKUP(P1,Histogram!A1:AM21,_xlfn.XMATCH(A16,Histogram!A1:A50),FALSE)<H21,HLOOKUP(P1,Histogram!A1:AM21,_xlfn.XMATCH(A16,Histogram!A1:A50),FALSE)>J21),((HLOOKUP(P1,Histogram!A1:AM21,_xlfn.XMATCH(A16,Histogram!A1:A50),FALSE)-1)*(H22/100)+1)*HLOOKUP(P1,VE!A1:P16,_xlfn.XMATCH(A16,VE!A1:A16),FALSE),HLOOKUP(P1,VE!A1:P16,_xlfn.XMATCH(A16,VE!A1:A16),FALSE))) -> 100
A19: Copy the blue values to your VE table in Tuner Pro
A21: Advanced: Do not correct Histogram values between | H21: 1 | I21: and | J21: 1.15
A22: Correction Factor: | H22: 100 | I22: percent
